BEGIN:VCALENDAR
VERSION:2.0
PRODID:-//Everhard Zwart - ECPv6.15.20//NONSGML v1.0//EN
CALSCALE:GREGORIAN
METHOD:PUBLISH
X-ORIGINAL-URL:https://www.everhardzwart.nl
X-WR-CALDESC:Evenementen voor Everhard Zwart
REFRESH-INTERVAL;VALUE=DURATION:PT1H
X-Robots-Tag:noindex
X-PUBLISHED-TTL:PT1H
BEGIN:VTIMEZONE
TZID:Europe/Amsterdam
BEGIN:DAYLIGHT
TZOFFSETFROM:+0100
TZOFFSETTO:+0200
TZNAME:CEST
DTSTART:20240331T010000
END:DAYLIGHT
BEGIN:STANDARD
TZOFFSETFROM:+0200
TZOFFSETTO:+0100
TZNAME:CET
DTSTART:20241027T010000
END:STANDARD
BEGIN:DAYLIGHT
TZOFFSETFROM:+0100
TZOFFSETTO:+0200
TZNAME:CEST
DTSTART:20250330T010000
END:DAYLIGHT
BEGIN:STANDARD
TZOFFSETFROM:+0200
TZOFFSETTO:+0100
TZNAME:CET
DTSTART:20251026T010000
END:STANDARD
BEGIN:DAYLIGHT
TZOFFSETFROM:+0100
TZOFFSETTO:+0200
TZNAME:CEST
DTSTART:20260329T010000
END:DAYLIGHT
BEGIN:STANDARD
TZOFFSETFROM:+0200
TZOFFSETTO:+0100
TZNAME:CET
DTSTART:20261025T010000
END:STANDARD
END:VTIMEZONE
BEGIN:VEVENT
DTSTART;TZID=Europe/Amsterdam:20250604T122500
DTEND;TZID=Europe/Amsterdam:20250604T130000
DTSTAMP:20260420T093752
CREATED:20250411T155531Z
LAST-MODIFIED:20250411T155531Z
UID:11379-1749039900-1749042000@www.everhardzwart.nl
SUMMARY:Amsterdam\, Middagpauzedienst
DESCRIPTION:Middagpauzedienst van de Alle Dag Kerk\, in de Engelse Kerk aan het Begijnhof te Amsterdam \nVoorganger Ds. Koos Staat
URL:https://www.everhardzwart.nl/index.php/concert/amsterdam-middagpauzedienst-4/
LOCATION:Engelse Kerk Begijnhof\, Amsterdam\, Begijnhof 48\, Amsterdam\, 1012 WV
CATEGORIES:Middagpauzedienst
ATTACH;FMTTYPE=image/jpeg:https://www.everhardzwart.nl/wp-content/uploads/2018/01/orgeltje-engelse-kerk.jpg
END:VEVENT
BEGIN:VEVENT
DTSTART;TZID=Europe/Amsterdam:20250609T200000
DTEND;TZID=Europe/Amsterdam:20250609T210000
DTSTAMP:20260420T093752
CREATED:20250411T154506Z
LAST-MODIFIED:20250531T104051Z
UID:11373-1749499200-1749502800@www.everhardzwart.nl
SUMMARY:Oudewater\, Grote- of St. Michaelskerk
DESCRIPTION:Pinksterconcert \nWillem Hendrik Zwart\nMeditatie “O Heil’ge Geest daal op ons neer \nAloys Claussmann\nScherzo \nJohann Sebastian Bach\nOrgelkoraal “Wohl mir das zich Jesum habe” \nGeorg Friedrich Händel\n“Arrival of the Queen of Sheba” \nJohann Sebastian Bach\nOrgelkoraal “Wachet auf ruft uns die Stimme” \nRené L. Becker\nFirst Sonata\n– Praeludium festivum\n– Dialogue\n– Scherzo\n– Prayer\n– Toccata \nFeike Asma\nFantasie over bekende Pinksterkoralen
URL:https://www.everhardzwart.nl/index.php/concert/oudewater-grote-of-st-michaelskerk/
LOCATION:Oudewater\, Grote- of St. Michaelskerk\, Noorder Kerkstraat 1\, Oudewater
CATEGORIES:Orgelconcert
ATTACH;FMTTYPE=image/jpeg:https://www.everhardzwart.nl/wp-content/uploads/2025/04/kerk-oudewater-orgel.jpg
END:VEVENT
BEGIN:VEVENT
DTSTART;TZID=Europe/Amsterdam:20250618T122500
DTEND;TZID=Europe/Amsterdam:20250618T130000
DTSTAMP:20260420T093752
CREATED:20250411T155817Z
LAST-MODIFIED:20250411T155817Z
UID:11381-1750249500-1750251600@www.everhardzwart.nl
SUMMARY:Amsterdam\, Middagpauzedienst
DESCRIPTION:Middagpauzedienst van de Alle Dag Kerk\, in de Engelse Kerk aan het Begijnhof te Amsterdam \nVoorganger Dhr. Jan van den Bosch
URL:https://www.everhardzwart.nl/index.php/concert/amsterdam-middagpauzedienst-5/
LOCATION:Engelse Kerk Begijnhof\, Amsterdam\, Begijnhof 48\, Amsterdam\, 1012 WV
CATEGORIES:Middagpauzedienst
ATTACH;FMTTYPE=image/jpeg:https://www.everhardzwart.nl/wp-content/uploads/2023/07/Engelse-kerk-Amsterdam-ADK.jpg
END:VEVENT
END:VCALENDAR