BEGIN:VCALENDAR
VERSION:2.0
PRODID:-//Everhard Zwart - ECPv6.15.20//NONSGML v1.0//EN
CALSCALE:GREGORIAN
METHOD:PUBLISH
X-WR-CALNAME:Everhard Zwart
X-ORIGINAL-URL:https://www.everhardzwart.nl
X-WR-CALDESC:Evenementen voor Everhard Zwart
REFRESH-INTERVAL;VALUE=DURATION:PT1H
X-Robots-Tag:noindex
X-PUBLISHED-TTL:PT1H
BEGIN:VTIMEZONE
TZID:Europe/Amsterdam
BEGIN:DAYLIGHT
TZOFFSETFROM:+0100
TZOFFSETTO:+0200
TZNAME:CEST
DTSTART:20160327T010000
END:DAYLIGHT
BEGIN:STANDARD
TZOFFSETFROM:+0200
TZOFFSETTO:+0100
TZNAME:CET
DTSTART:20161030T010000
END:STANDARD
BEGIN:DAYLIGHT
TZOFFSETFROM:+0100
TZOFFSETTO:+0200
TZNAME:CEST
DTSTART:20170326T010000
END:DAYLIGHT
BEGIN:STANDARD
TZOFFSETFROM:+0200
TZOFFSETTO:+0100
TZNAME:CET
DTSTART:20171029T010000
END:STANDARD
BEGIN:DAYLIGHT
TZOFFSETFROM:+0100
TZOFFSETTO:+0200
TZNAME:CEST
DTSTART:20180325T010000
END:DAYLIGHT
BEGIN:STANDARD
TZOFFSETFROM:+0200
TZOFFSETTO:+0100
TZNAME:CET
DTSTART:20181028T010000
END:STANDARD
BEGIN:DAYLIGHT
TZOFFSETFROM:+0100
TZOFFSETTO:+0200
TZNAME:CEST
DTSTART:20190331T010000
END:DAYLIGHT
BEGIN:STANDARD
TZOFFSETFROM:+0200
TZOFFSETTO:+0100
TZNAME:CET
DTSTART:20191027T010000
END:STANDARD
END:VTIMEZONE
BEGIN:VEVENT
DTSTART;TZID=Europe/Amsterdam:20180331T200000
DTEND;TZID=Europe/Amsterdam:20180331T210000
DTSTAMP:20260422T035905
CREATED:20180329T190058Z
LAST-MODIFIED:20180329T190058Z
UID:1902-1522526400-1522530000@www.everhardzwart.nl
SUMMARY:Passie Zangavond
DESCRIPTION:Chr. gemengd koor “Asaf” te Putterhoek \no.l.v. Everhard Zwart \nArie de Korte – orgel
URL:https://www.everhardzwart.nl/index.php/concert/passie-zangavond/
LOCATION:Puttershoek-Gereformeerde Kerk\, Rembrandtstraat 1\, Puttershoek\, 3297 EP 
CATEGORIES:Koor- en samenzang
ATTACH;FMTTYPE=image/jpeg:https://www.everhardzwart.nl/wp-content/uploads/2015/05/koor_asaf.jpg
END:VEVENT
BEGIN:VEVENT
DTSTART;TZID=Europe/Amsterdam:20180318T100000
DTEND;TZID=Europe/Amsterdam:20180318T111500
DTSTAMP:20260422T035905
CREATED:20180122T205222Z
LAST-MODIFIED:20180122T205222Z
UID:1870-1521367200-1521371700@www.everhardzwart.nl
SUMMARY:Ontmoetingsdienst Krimpen
DESCRIPTION:Ontmoetingsdienst \nVoorganger; Ds. Jenno Sijtsma uit Epe \n‘Les Chantes’ uit Papendrecht olv. Hans van Blijderveen \nEverhard Zwart – orgel
URL:https://www.everhardzwart.nl/index.php/concert/ontmoetingsdienst-krimpen/
LOCATION:De Ark\, Krimpen aan den IJssel\, Burg. Aalberslaan 41\, Krimpen aan den IJssel\, 2922 BC
CATEGORIES:Kerkdiensten
ATTACH;FMTTYPE=image/jpeg:https://www.everhardzwart.nl/wp-content/uploads/2017/11/arkkrimpen.jpg
END:VEVENT
BEGIN:VEVENT
DTSTART;TZID=Europe/Amsterdam:20180317T193000
DTEND;TZID=Europe/Amsterdam:20180317T203000
DTSTAMP:20260422T035905
CREATED:20180122T204510Z
LAST-MODIFIED:20180305T185951Z
UID:1866-1521315000-1521318600@www.everhardzwart.nl
SUMMARY:Orgelconcert Terneuzen
DESCRIPTION:PROGRAMMA\n \nWillem Hendrik Zwart \n– Liedbewerking “Op bergen en in dalen” \n  \nJohann Sebastian Bach \n– Choralvorspiel “Herzlich tut mich verlangen \n  \nAlexandre Guilmant \n– Sonata 3                                                      \n            – Preludio \n            – Adagio Molto \n            – Fuga : Allegro \n  \nJean Gabriel-Marie \n– La Cinquantaine \n  \nHendrik Andriessen \n– Sonata da Chiésa \n  \nThomas Åberg \n– Fantasy in a-minor \n  \nWillem Hendrik Zwart \n– Psalmvoorspel Psalm 6 “O Heer\, Gij zijt weldadig” \n– Toccata Psalm 146 “Prijs de Heer met blijde galmen”           \n  \n 
URL:https://www.everhardzwart.nl/index.php/concert/orgelconcert-terneuzen/
LOCATION:Grote Kerk Terneuzen\, Noordstraat 62\, Terneuzen\, 4531 GJ
CATEGORIES:Orgelconcerten
ATTACH;FMTTYPE=image/jpeg:https://www.everhardzwart.nl/wp-content/uploads/2018/01/Grote-Kerk-Terneuzen.jpg
END:VEVENT
BEGIN:VEVENT
DTSTART;TZID=Europe/Amsterdam:20180304T190000
DTEND;TZID=Europe/Amsterdam:20180304T200000
DTSTAMP:20260422T035905
CREATED:20180109T125450Z
LAST-MODIFIED:20180109T125450Z
UID:1856-1520190000-1520193600@www.everhardzwart.nl
SUMMARY:Diensten met Belangstellenden
DESCRIPTION:Ds. Jenno Sijtsma uit Epe \nEverhard Zwart – orgel \nHidde Zwart – trompet
URL:https://www.everhardzwart.nl/index.php/concert/diensten-met-belangstellenden-3/
LOCATION:Engelse Kerk Begijnhof\, Amsterdam\, Begijnhof 48\, Amsterdam\, 1012 WV
CATEGORIES:Kerkdiensten
ATTACH;FMTTYPE=image/jpeg:https://www.everhardzwart.nl/wp-content/uploads/2018/01/orgeltje-engelse-kerk.jpg
END:VEVENT
BEGIN:VEVENT
DTSTART;TZID=Europe/Amsterdam:20180218T183000
DTEND;TZID=Europe/Amsterdam:20180218T193000
DTSTAMP:20260422T035905
CREATED:20180104T154421Z
LAST-MODIFIED:20180104T154421Z
UID:1852-1518978600-1518982200@www.everhardzwart.nl
SUMMARY:Krimpen Zingt-dienst
DESCRIPTION:Voorganger: Ds. Hans Eschbach \nM.m.v. Gospel Rejoice \nEverhard Zwart – orgel
URL:https://www.everhardzwart.nl/index.php/concert/krimpen-zingt-dienst/
LOCATION:De Ark\, Krimpen aan den IJssel\, Burg. Aalberslaan 41\, Krimpen aan den IJssel\, 2922 BC
CATEGORIES:Kerkdiensten
ATTACH;FMTTYPE=image/jpeg:https://www.everhardzwart.nl/wp-content/uploads/2017/11/arkkrimpen.jpg
END:VEVENT
BEGIN:VEVENT
DTSTART;TZID=Europe/Amsterdam:20180217T200000
DTEND;TZID=Europe/Amsterdam:20180217T210000
DTSTAMP:20260422T035905
CREATED:20180122T202344Z
LAST-MODIFIED:20180122T202344Z
UID:1862-1518897600-1518901200@www.everhardzwart.nl
SUMMARY:Apeldoorn\, Eben Haëzerkerk
DESCRIPTION:Orgelconcert – Programma \nThomas Åberg \n– Fantasy in a-minor \n  \nJohann Sebastian Bach \n– Choralvorspiel “Wer nur den lieben Gott läßt walten” \n  \nJohann Sebastian Bach \n– Praeludium und Fuge  h-moll \n  \nTomaso Albinoni \n– Adagio \n  \nRulon Christiansen \n– Lyric Symphony     \n    – Prelude   \n    – Grand Choeur \n    – Andante \n    – Scherzetto \n    – Adagio \n    – Toccata \n  \nWillem Hendrik Zwart \n– Psalmvoorspel Psalm 6 – “O Heer\, Gij zijt weldadig  ” \n– Toccata Psalm 146 –  “Prijs de Heer met blijde galmen”
URL:https://www.everhardzwart.nl/index.php/concert/apeldoorn-eben-haezerkerk/
LOCATION:Eben Haëzerkerk\, Apeldoorn\, Zonnedauw 8\, Apeldoorn\, 7322 EC
CATEGORIES:Orgelconcerten
ATTACH;FMTTYPE=image/jpeg:https://www.everhardzwart.nl/wp-content/uploads/2018/01/Eben-Haezerkerk-Apeldoorn.jpg
END:VEVENT
BEGIN:VEVENT
DTSTART;TZID=Europe/Amsterdam:20180204T190000
DTEND;TZID=Europe/Amsterdam:20180204T200000
DTSTAMP:20260422T035905
CREATED:20180104T154211Z
LAST-MODIFIED:20180109T125114Z
UID:1850-1517770800-1517774400@www.everhardzwart.nl
SUMMARY:Diensten met Belangstellenden
DESCRIPTION:Voorganger: ds. Robert-Jan van Amstel \nEverhard Zwart – orgel \nHidde Zwart – trompet
URL:https://www.everhardzwart.nl/index.php/concert/diensten-met-belangstellenden-2/
LOCATION:Engelse Kerk Begijnhof\, Amsterdam\, Begijnhof 48\, Amsterdam\, 1012 WV
CATEGORIES:Kerkdiensten
ATTACH;FMTTYPE=image/jpeg:https://www.everhardzwart.nl/wp-content/uploads/2017/09/Everhard-en-Hidde-Zwart-amsterdam-1-2.jpg
END:VEVENT
BEGIN:VEVENT
DTSTART;TZID=Europe/Amsterdam:20180203T153000
DTEND;TZID=Europe/Amsterdam:20180203T170000
DTSTAMP:20260422T035905
CREATED:20180104T152112Z
LAST-MODIFIED:20180104T153447Z
UID:1844-1517671800-1517677200@www.everhardzwart.nl
SUMMARY:Concert Herdenking Watersnood
DESCRIPTION:“65 jaar na de Vloedgolf” \nChr. mannenkoor “De IJsselzangers” o.l.v. Everhard Zwart \nMarjolein Kolkert – sopraan \nHidde Zwart – trompet \nArie de Korte – koorbegeleiding \n 
URL:https://www.everhardzwart.nl/index.php/concert/concert-herdenking-watersnood/
LOCATION:Kerk van Burgh\, Burghse Ring 33\, Burgh-Haamstede\, 4328 LL
CATEGORIES:Koorconcerten
ATTACH;FMTTYPE=image/jpeg:https://www.everhardzwart.nl/wp-content/uploads/2017/09/kerkje-Burgh.jpg
END:VEVENT
BEGIN:VEVENT
DTSTART;TZID=Europe/Amsterdam:20180114T190000
DTEND;TZID=Europe/Amsterdam:20180114T200000
DTSTAMP:20260422T035905
CREATED:20180104T154025Z
LAST-MODIFIED:20180109T124921Z
UID:1847-1515956400-1515960000@www.everhardzwart.nl
SUMMARY:Diensten met Belangstellenden
DESCRIPTION:Ds. David Rodenburg te Nunspeet \nEverhard Zwart – orgel \nHidde Zwart – trompet
URL:https://www.everhardzwart.nl/index.php/concert/diensten-met-belangstellenden/
LOCATION:Engelse Kerk Begijnhof\, Amsterdam\, Begijnhof 48\, Amsterdam\, 1012 WV
CATEGORIES:Kerkdiensten
ATTACH;FMTTYPE=image/jpeg:https://www.everhardzwart.nl/wp-content/uploads/2017/09/begijnhof_eng_prot_kerk_10.jpg
END:VEVENT
BEGIN:VEVENT
DTSTART;TZID=Europe/Amsterdam:20171230T150000
DTEND;TZID=Europe/Amsterdam:20171230T163000
DTSTAMP:20260422T035905
CREATED:20171205T095102Z
LAST-MODIFIED:20171205T095258Z
UID:1832-1514646000-1514651400@www.everhardzwart.nl
SUMMARY:Lemelerveld\, Oudejaarsconcert
DESCRIPTION:Programma  \n  \nEverhard Zwart – Trio Psalm 33 \nJan Zwart – Fantasie-Toccatine \n  \nJohann Sebastian Bach \nPraeludium und Fuge  e-moll \n  \nJohann Sebastian Bach \nSiciliano (notatie Feike Asma) \n  \nAlexandre Guilmant \nSonate 3 \n– Preludio \n– Adagio molto \n– Fuga \n  \nPietro Yon  \nToccata “Humoresque” \n  \nGordon Young \nBaroque Suite \n– Plein Jeu \n– Marche Petite \n– Aria \n– Toccata \n  \nAivars Kalejs \nToccata über den Choral \n“Allein Gott in der Höh’ sei Ehr’” \n  \nWillem Hendrik Zwart \nToccata Psalm 146 \n  \n  \n 
URL:https://www.everhardzwart.nl/index.php/concert/lemelerveld-oudejaarsconcert/
LOCATION:Willem Hendrik Zwart Hal\, Grensweg 17\, Lemelerveld\, 8153 RB
CATEGORIES:Orgelconcerten
ATTACH;FMTTYPE=image/jpeg:https://www.everhardzwart.nl/wp-content/uploads/2017/12/WillemHendrikZwarthalLemelerveld2.jpg
END:VEVENT
BEGIN:VEVENT
DTSTART;TZID=Europe/Amsterdam:20171222T193000
DTEND;TZID=Europe/Amsterdam:20171222T210000
DTSTAMP:20260422T035905
CREATED:20171030T144039Z
LAST-MODIFIED:20171030T144039Z
UID:1805-1513971000-1513976400@www.everhardzwart.nl
SUMMARY:Kerstzang aan de IJssel
DESCRIPTION:De traditionele Kerstzang in Krimpen aan den IJssel. \nM.m.v. Chr. mannenkoor “De IJsselzangers” o.l.v. Everhard Zwart \nInterkerkelijk gemengd koor “River Voices” en Interkelijk kinderkoor “De Regenboog” o.l.v. Hidde Zwart \nPiano – Arie de Korte \nOrgel – Everhard Zwart \nKoor- en samenzang voor jong en oud.
URL:https://www.everhardzwart.nl/index.php/concert/kerstzang-aan-de-ijssel/
LOCATION:De Ark\, Krimpen aan den IJssel\, Burg. Aalberslaan 41\, Krimpen aan den IJssel\, 2922 BC
CATEGORIES:Kerst - Koorconcert
ATTACH;FMTTYPE=image/jpeg:https://www.everhardzwart.nl/wp-content/uploads/2017/10/kerst-2017.jpg
END:VEVENT
BEGIN:VEVENT
DTSTART;TZID=Europe/Amsterdam:20171213T200000
DTEND;TZID=Europe/Amsterdam:20171213T213000
DTSTAMP:20260422T035905
CREATED:20171103T141310Z
LAST-MODIFIED:20171103T141310Z
UID:1817-1513195200-1513200600@www.everhardzwart.nl
SUMMARY:Barendrecht\, Dorpskerk
DESCRIPTION:Kerstconcert Chr. gemengd koor “Sanctus” o.l.v.  Everhard Zwart \n 
URL:https://www.everhardzwart.nl/index.php/concert/barendrecht-dorpskerk/
LOCATION:Dorpskerk Barendrecht\, Dorpsstraat 146\, Barendrecht\, 2992 BE
CATEGORIES:Kerst - Koorconcert
ATTACH;FMTTYPE=image/jpeg:https://www.everhardzwart.nl/wp-content/uploads/2017/08/koor_sa.jpg
END:VEVENT
BEGIN:VEVENT
DTSTART;TZID=Europe/Amsterdam:20171118T150000
DTEND;TZID=Europe/Amsterdam:20171118T160000
DTSTAMP:20260422T035905
CREATED:20171030T141633Z
LAST-MODIFIED:20171103T135444Z
UID:1792-1511017200-1511020800@www.everhardzwart.nl
SUMMARY:Oud-Beijerland\, Dorpskerk
DESCRIPTION:Orgelconcert. \nEverhard Zwart \n– Trio Psalm 33 \nJan Zwart  \n– Fantasie-toccatine Psalm 33 \n  \nG.P.Telemann \nConcerto g-moll \n– Allegro – Adagio – Allegro \n  \nAlexandre Guilmant           \nSonate 3 \n– Preludio : Allegro maestoso e con fuoco \n– Adagio Molto \n– Fuga : Allegro \n  \nPietro Yon \nToccata Humoresque \n  \nGordon Young  \nBaroque Suite \n– Plein Jeu \n– Marche Petite \n– Aria \n– Toccata \n  \nWillem Hendrik Zwart \n– Psalmvoorspel Psalm 6  “O Heer\, Gij zijt weldadig” \n– Toccata Psalm 146 “Prijs de Heer met blijde galmen” \n  \n 
URL:https://www.everhardzwart.nl/index.php/concert/oud-beijerland-dorpskerk/
CATEGORIES:Orgelconcerten
ATTACH;FMTTYPE=image/jpeg:https://www.everhardzwart.nl/wp-content/uploads/2017/10/Oud-Beijerland-Dorpskerk-1.jpg
END:VEVENT
BEGIN:VEVENT
DTSTART;TZID=Europe/Amsterdam:20171112T183000
DTEND;TZID=Europe/Amsterdam:20171112T193000
DTSTAMP:20260422T035905
CREATED:20171103T135956Z
LAST-MODIFIED:20171103T135956Z
UID:1812-1510511400-1510515000@www.everhardzwart.nl
SUMMARY:Krimpen Zingt-dienst in De Ark
DESCRIPTION:Voorganger: Dr. Gert den Hartogh \nm.m.v. \nGospelkoor “His Voice” uit Alblasserdam o.l.v Jaco Mulder \nEverhard Zwart – orgel
URL:https://www.everhardzwart.nl/index.php/concert/krimpen-zingt-dienst-in-de-ark/
LOCATION:De Ark\, Krimpen aan den IJssel\, Burg. Aalberslaan 41\, Krimpen aan den IJssel\, 2922 BC
CATEGORIES:Kerkdiensten
ATTACH;FMTTYPE=image/jpeg:https://www.everhardzwart.nl/wp-content/uploads/2017/11/arkkrimpen.jpg
END:VEVENT
BEGIN:VEVENT
DTSTART;TZID=Europe/Amsterdam:20171029T190000
DTEND;TZID=Europe/Amsterdam:20171029T200000
DTSTAMP:20260422T035905
CREATED:20170920T070918Z
LAST-MODIFIED:20170920T071403Z
UID:1764-1509303600-1509307200@www.everhardzwart.nl
SUMMARY:Amsterdam\, Engelse Kerk (Begijnhof)
DESCRIPTION:Diensten met Belangstellenden \nVoorganger: ds. Wim Scheltens uit Lunteren \nOrgel: Everhard Zwart \nTrompet: Hidde Zwart
URL:https://www.everhardzwart.nl/index.php/concert/amsterdam-engelse-kerk-begijnhof-3/
LOCATION:Engelse Kerk Begijnhof\, Amsterdam\, Begijnhof 48\, Amsterdam\, 1012 WV
CATEGORIES:Kerkdiensten
ATTACH;FMTTYPE=image/jpeg:https://www.everhardzwart.nl/wp-content/uploads/2017/09/Everhard-en-Hidde-Zwart-amsterdam-1-2.jpg
END:VEVENT
BEGIN:VEVENT
DTSTART;TZID=Europe/Amsterdam:20171029T100000
DTEND;TZID=Europe/Amsterdam:20171029T113000
DTSTAMP:20260422T035905
CREATED:20170820T165920Z
LAST-MODIFIED:20170917T055647Z
UID:1632-1509271200-1509276600@www.everhardzwart.nl
SUMMARY:Krimpen aan den IJssel\, De Ark
DESCRIPTION:Ontmoetingsdienst: \nVoorganger ds. Wim Scheltens uit Lunteren \nM.m.v. Drie Krimper Koren o.l.v. Everhard en Hidde Zwart. \nBestaande uit: Chr. Mannenkoor “De IJsselzangers”; \nInterkerkelijk Gemengd Koor “River Voices” en \nInterkerkelijk Kinderkoor “De Regenboog”. \n 
URL:https://www.everhardzwart.nl/index.php/concert/krimpen-aan-den-ijssel-de-ark/
LOCATION:De Ark\, Krimpen aan den IJssel\, Burg. Aalberslaan 41\, Krimpen aan den IJssel\, 2922 BC
CATEGORIES:Kerkdiensten
ATTACH;FMTTYPE=image/jpeg:https://www.everhardzwart.nl/wp-content/uploads/2017/08/zangdienst-in-De-Ark.jpg
END:VEVENT
BEGIN:VEVENT
DTSTART;TZID=Europe/Amsterdam:20171028T200000
DTEND;TZID=Europe/Amsterdam:20171028T211500
DTSTAMP:20260422T035905
CREATED:20171011T082232Z
LAST-MODIFIED:20171015T072228Z
UID:1781-1509220800-1509225300@www.everhardzwart.nl
SUMMARY:Wanswerd\, Petruskerk
DESCRIPTION:Orgelconcert. \nProgramma:  \nWillem Hendrik Zwart \nFantasie Psalm 25 \nJohann Sebastian Bach \nPraeludium und Fuge  e-moll \nBWV  548 \nGeorg Friedrich Händel \nConcerto g-moll \nAndante – Allegro – Gavotte \nLéon Boëllmann \nSuite Gotique \n– Introduction – Choral \n– Menuet Gotique \n– Prière á Notre Dame \n– Toccata \nPietro Yon \nToccata “HumoresqueGordon Young \nBaroque Suite \n– Plein Jeu \n– Marche Petite \n– Aria \n– Toccata \nFeike Asma \nLiedbewerking “Als ik Hem maar kenne” \n  \nFantasie over het Lutherlied “Een vaste burcht is onze God”
URL:https://www.everhardzwart.nl/index.php/concert/orgelconcert/
LOCATION:Wanswerd – Hervormde Petruskerk\, Tsjerkepaed 6\, Wanswerd
CATEGORIES:Orgelconcerten
ATTACH;FMTTYPE=image/jpeg:https://www.everhardzwart.nl/wp-content/uploads/2017/10/Wanswert.jpg
END:VEVENT
BEGIN:VEVENT
DTSTART;TZID=Europe/Amsterdam:20171021T193000
DTEND;TZID=Europe/Amsterdam:20171021T210000
DTSTAMP:20260422T035905
CREATED:20170917T182852Z
LAST-MODIFIED:20170917T183009Z
UID:1756-1508614200-1508619600@www.everhardzwart.nl
SUMMARY:Puttershoek\, Gereformeerde Kerk
DESCRIPTION:Chr. gemengde zangvereniging “Asaf” uit Puttershoek \nMedewerkenden:\nKatwijks Jong Mannenkoor “Sjir El Shaddai”  o.l.v. André Hobo\nPianist – Arjan Wouters\nOrganist  -Lennert Knops\nVleugel – Arie de Korte\nAlgehele leiding – Everhard Zwart
URL:https://www.everhardzwart.nl/index.php/concert/puttershoek-gereformeerde-kerk/
LOCATION:Puttershoek-Gereformeerde Kerk\, Rembrandtstraat 1\, Puttershoek\, 3297 EP 
CATEGORIES:Koorconcerten
ATTACH;FMTTYPE=image/jpeg:https://www.everhardzwart.nl/wp-content/uploads/2015/05/koor_asaf.jpg
END:VEVENT
BEGIN:VEVENT
DTSTART;TZID=Europe/Amsterdam:20171019T200000
DTEND;TZID=Europe/Amsterdam:20171019T210000
DTSTAMP:20260422T035905
CREATED:20170820T153005Z
LAST-MODIFIED:20171012T135335Z
UID:1624-1508443200-1508446800@www.everhardzwart.nl
SUMMARY:Harderwijk\, Grote Kerk
DESCRIPTION:Orgelconcert. Programma: \n  \nJan Zwart \nFantasie en Fuga  Psalm 72 \n“Zijn naam moet eeuwig eer ontvangen” \nCésar Franck \nAndante – Allegro – Andante \n( uit “Grande Pièce Symphonie) \nAlexandre Guilmant \nSonate 3 \n– Preludio : Allegro maestoso e con fuoco \n– Adagio Molto \n– Fuga : Allegro \nBerthold Tours \nAllegretto grazioso \nRulon Christiansen \nLyric Symphony \n– Prelude \n– Grand Choeur \n– Andante \n– Scherzetto \n– Adagio \n– Toccata \nWillem Hendrik Zwart \n– Liedbewerking “O Heer die onze Vader zijt” \n– Toccata Psalm 146
URL:https://www.everhardzwart.nl/index.php/concert/harderwijk-grote-kerk/
LOCATION:Grote Kerk\, Harderwijk\, Kerkplein 1\, Harderwijk\, 3841 EC
CATEGORIES:Orgelconcerten
ATTACH;FMTTYPE=image/jpeg:https://www.everhardzwart.nl/wp-content/uploads/2017/08/Harderwijk.jpg
END:VEVENT
BEGIN:VEVENT
DTSTART;TZID=Europe/Amsterdam:20171018T122500
DTEND;TZID=Europe/Amsterdam:20171018T130000
DTSTAMP:20260422T035905
CREATED:20170917T182322Z
LAST-MODIFIED:20171006T182347Z
UID:1753-1508329500-1508331600@www.everhardzwart.nl
SUMMARY:Amsterdam\, Engelse Kerk-Begijnhof
DESCRIPTION:Alledagkerk \nSamenzang vanaf 12.25 uur. \nDienst begint om 12.40 uur
URL:https://www.everhardzwart.nl/index.php/concert/amsterdam-engelse-kerk-begijnhof-2/
LOCATION:Engelse Kerk Begijnhof\, Amsterdam\, Begijnhof 48\, Amsterdam\, 1012 WV
CATEGORIES:Kerkdiensten
ATTACH;FMTTYPE=image/jpeg:https://www.everhardzwart.nl/wp-content/uploads/2017/09/begijnhof_eng_prot_kerk_10.jpg
END:VEVENT
BEGIN:VEVENT
DTSTART;TZID=Europe/Amsterdam:20171014T140000
DTEND;TZID=Europe/Amsterdam:20171014T144500
DTSTAMP:20260422T035905
CREATED:20170917T181528Z
LAST-MODIFIED:20171012T135232Z
UID:1747-1507989600-1507992300@www.everhardzwart.nl
SUMMARY:Rotterdam-Delfshaven\, Oude- of Pelgrimvaderskerk
DESCRIPTION:Orgelconcert Rondom Rotterdamse Organisten. \nProgramma: \n  \nJ.J. de Vos (organist van de Statensingelkerk te Rotterdam) \nKoraalvariaties  “Vater unser im Himmelreich” (1919) \nSamuël de Lange (organist van de Grote of St.Laurenskerk te Rotterdam) \nFantasie Sonate nr 3 – over het koraal “Ja Jezus heerst! het ongeloof verstomm’” \n– Allegro moderato \n– Andante religioso \n– Allegro Recit. et Finale \nBernard Diamant (organist der Groote Kerk te Oud-Delftshaven) \nAlbumblad in F \nFrits Tollig (organist van o.a. de Bergsingelkerk te Rotterdam} \nMarche Héroïque \nJoz. Schravezande (organist der Westerkerk te Rotterdam) \nAndante in As \nJan Zwart (organist van de Gereformeerde Kerk -stalletje van Hoboken- te Rotterdam) \nFantasie over het Lutherlied “Een vaste burcht is onze God”
URL:https://www.everhardzwart.nl/index.php/concert/rotterdam-delfshaven-oud-of-pelgrimvaderskerk/
LOCATION:Rotterdam\, Pelgrimvaderskerk\, Aelbrechtskolk 22\, Rotterdam\, 3024 RE
CATEGORIES:Orgelconcerten
ATTACH;FMTTYPE=image/jpeg:https://www.everhardzwart.nl/wp-content/uploads/2017/09/Pelgrimvaderskerk-Rotterdam.jpg
END:VEVENT
BEGIN:VEVENT
DTSTART;TZID=Europe/Amsterdam:20171008T190000
DTEND;TZID=Europe/Amsterdam:20171008T200000
DTSTAMP:20260422T035905
CREATED:20170917T182046Z
LAST-MODIFIED:20171003T103048Z
UID:1751-1507489200-1507492800@www.everhardzwart.nl
SUMMARY:Amsterdam\, Engelse Kerk-Begijnhof
DESCRIPTION:Diensten met Belangstellenden \nVoorganger: Ds. Koos Staat uit Andijk \nOrgel: Everhard Zwart \nTrompet: Hidde Zwart
URL:https://www.everhardzwart.nl/index.php/concert/amsterdam-engelse-kerk-begijnhof/
LOCATION:Engelse Kerk Begijnhof\, Amsterdam\, Begijnhof 48\, Amsterdam\, 1012 WV
CATEGORIES:Kerkdiensten
ATTACH;FMTTYPE=image/jpeg:https://www.everhardzwart.nl/wp-content/uploads/2017/08/orgeltje-engelse-kerk.jpg
END:VEVENT
BEGIN:VEVENT
DTSTART;TZID=Europe/Amsterdam:20171007T193000
DTEND;TZID=Europe/Amsterdam:20171007T203000
DTSTAMP:20260422T035905
CREATED:20170917T105110Z
LAST-MODIFIED:20171003T102755Z
UID:1742-1507404600-1507408200@www.everhardzwart.nl
SUMMARY:Wageningen\, Gereformeerde Gemeente
DESCRIPTION:Orgelconcert – Programma \nJan Zwart \nFantasie-Toccatine Psalm 33 \n  \nJohann Sebastian Bach \n“uit het archief van Feike Asma” \n– Sinfonia d-moll   (uit Cantate 35) \n  \nGeorg Friedrich Händel \nConcerto nr. 3  g-moll \n– Adagio – Allegro – Gavotte \n  \nFrits Tollig  \nMarche Triomphale \n  \nRulon Christiansen \nLyric Symphony \n– Prelude \n– Grand Choeur \n– Andante \n– Scherzetto \n– Adagio \n– Toccata \n  \nWillem Hendrik Zwart \nToccata Psalm 146
URL:https://www.everhardzwart.nl/index.php/concert/wageningen-gereformeerde-gemeente/
LOCATION:Kerk Gereformeerde Gemeente\, Van Uvenweg 13\, Wageningen\, 6708AD
CATEGORIES:Orgel en samenzang
ATTACH;FMTTYPE=image/jpeg:https://www.everhardzwart.nl/wp-content/uploads/2017/09/gereformeerde-gemeente-Wageningen.jpg
END:VEVENT
BEGIN:VEVENT
DTSTART;TZID=Europe/Amsterdam:20170930T200000
DTEND;TZID=Europe/Amsterdam:20170930T220000
DTSTAMP:20260422T035905
CREATED:20170911T180939Z
LAST-MODIFIED:20170924T063058Z
UID:1725-1506801600-1506808800@www.everhardzwart.nl
SUMMARY:Burgh-Haamstede\, Kerk van Burgh
DESCRIPTION:Concert voor orgel en hobo \nProgramma \nJohann Sebastian Bach                  \nAria “Gedenk’ an uns mit deiner Liebe” \nJohn Barbirolli                                 \nConcerto nach Corelli \n– Preludio \n– Allemanda \n– Sarabanda \n– Gavotta \n– Giga \nJohann Sebastian Bach \nAria “Bist Du bei Mir” \nCharles-Marie Widor                      \nSerenade \nJosef Rheinberger                           \nAndante Pastorale \nCamille Saint Saëns                         \nIntroduction et Allegretto \nJohn Barbirolli                                  \nConcerto op thema’s van Pergolesi \n– Largo \n– Allegro \n– Andantino \n– Allegro \nPietro Yon \nToccata “Humoresque” \nGabriel Fauré                                    \nPièce \nGabriel Fauré \nAprès un Rêve \nEnnio Morricone                              \nGabriël’s Oboe \nAstor Piazolla                                   \nOblivion \n 
URL:https://www.everhardzwart.nl/index.php/concert/concert-voor-orgel-en-hobo/
LOCATION:Kerk van Burgh\, Burghse Ring 33\, Burgh-Haamstede\, 4328 LL
CATEGORIES:Orgel en hobo
ATTACH;FMTTYPE=image/jpeg:https://www.everhardzwart.nl/wp-content/uploads/2017/09/kerkje-Burgh.jpg
END:VEVENT
BEGIN:VEVENT
DTSTART;TZID=Europe/Amsterdam:20170929T200000
DTEND;TZID=Europe/Amsterdam:20170929T213000
DTSTAMP:20260422T035905
CREATED:20170911T175704Z
LAST-MODIFIED:20170924T063855Z
UID:1721-1506715200-1506720600@www.everhardzwart.nl
SUMMARY:Zangavond rondom 500 jaar Reformatie
DESCRIPTION:Vocaal Ensemble Magnificat uit Emmen o.l.v. Daniël Rouwkema en  Everhard Zwart – orgel. \nDe wieg van het protestantse lied \nDoor een aantal kerken in Emmen wordt een muziekavond georganiseerd in het kader van 500 jaar Reformatie. Liederen die hun oorsprong vinden in de Reformatie\, waar (moderne) componisten door zijn geïnspireerd\, vormen de rode draad. \nEr zal gezongen worden door Vocaal Ensemble Magnificat uit Emmen o.l.v. Daniël Rouwkema en  Everhard Zwart bespeelt het orgel. \nHymnoloog dr. Jan Smelik zal het geheel van onderhoudende achtergrondinformatie voorzien. De broer van Luther komt nog langs\, er is een koperensemble en u mag zelf ook meezingen. Kortom een rijk gevulde avond die u niet mag missen!
URL:https://www.everhardzwart.nl/index.php/concert/zangavond-rondom-500-jaar-reformatie/
LOCATION:Goede Herderkerk\, Oude Roswinkelerweg 30\, Emmen\, Nederland
CATEGORIES:Koorconcerten
ATTACH;FMTTYPE=image/png:https://www.everhardzwart.nl/wp-content/uploads/2017/09/Magnificat-Emmen.png
END:VEVENT
BEGIN:VEVENT
DTSTART;TZID=Europe/Amsterdam:20170923T140000
DTEND;TZID=Europe/Amsterdam:20170923T150000
DTSTAMP:20260422T035905
CREATED:20170820T165118Z
LAST-MODIFIED:20170820T165118Z
UID:1628-1506175200-1506178800@www.everhardzwart.nl
SUMMARY:Delft\, Oude Kerk
DESCRIPTION:Interkerkelijk Gemengd Koor “River Voices” o.l.v. Hidde Zwart en Everhard Zwart \nInloopconcert met een gevarieerd programma
URL:https://www.everhardzwart.nl/index.php/concert/delft-oude-kerk/
LOCATION:Oude Kerk\, Delft\, HH Geestkerkhof 25\, Delft\, 2611 HP
CATEGORIES:Koorconcerten
ATTACH;FMTTYPE=image/jpeg:https://www.everhardzwart.nl/wp-content/uploads/2017/08/Oude-Kerk-Delft.jpg
END:VEVENT
BEGIN:VEVENT
DTSTART;TZID=Europe/Amsterdam:20170902T170000
DTEND;TZID=Europe/Amsterdam:20170902T183000
DTSTAMP:20260422T035905
CREATED:20170818T122947Z
LAST-MODIFIED:20170820T152153Z
UID:1351-1504371600-1504377000@www.everhardzwart.nl
SUMMARY:Kampen\, Bovenkerk
DESCRIPTION:Kinderen Gratis\nOrgelconcert in de bovenkerk van Kampen. \nConcert start om 17.00 \nMet onder andere:\nSonata 3 – Alexandre Guilmant\nBasso Ostinato – Georg Friedrich Händel
URL:https://www.everhardzwart.nl/index.php/concert/bovenkerk-kampen/
LOCATION:Bovenkerk Kampen\, Koornmarkt 28\, Kampen\, 8261 JX
CATEGORIES:Orgelconcerten
ATTACH;FMTTYPE=image/jpeg:https://www.everhardzwart.nl/wp-content/uploads/2017/08/Affiche-2017-staand-2.jpg
END:VEVENT
BEGIN:VEVENT
DTSTART;TZID=Europe/Amsterdam:20170828T200000
DTEND;TZID=Europe/Amsterdam:20170828T210000
DTSTAMP:20260422T035905
CREATED:20170820T151224Z
LAST-MODIFIED:20170820T151224Z
UID:1619-1503950400-1503954000@www.everhardzwart.nl
SUMMARY:Capelle aan den IJssel\, Nieuwe Westerkerk
DESCRIPTION:Orgelconcert \nVerzoekprogramma
URL:https://www.everhardzwart.nl/index.php/concert/capelle-aan-den-ijssel-nieuwe-westerkerk/
LOCATION:Nieuwe Westerkerk Capelle a/d IJssel\, Valeriusrondeel 670\, Capelle aan den IJssel\, 2902CT
CATEGORIES:Orgelconcerten
ATTACH;FMTTYPE=image/jpeg:https://www.everhardzwart.nl/wp-content/uploads/2017/08/Orgel-Westerkerk.jpg
ORGANIZER;CN="Everhard Zwart":MAILTO:public-relations@everhardzwart.nl
END:VEVENT
BEGIN:VEVENT
DTSTART;TZID=Europe/Amsterdam:20170827T190000
DTEND;TZID=Europe/Amsterdam:20170827T200000
DTSTAMP:20260422T035905
CREATED:20170820T150915Z
LAST-MODIFIED:20170820T150915Z
UID:1611-1503860400-1503864000@www.everhardzwart.nl
SUMMARY:Amsterdam\, Engelse Kerk
DESCRIPTION:Diensten Met Belangstellenden \nVoorganger – ds. Peter van Dolderen uit Almere\nOrgel – Everhard Zwart\nTrompet – Hidde Zwart
URL:https://www.everhardzwart.nl/index.php/concert/amsterdam-engelse-kerk/
LOCATION:Engelse Kerk Begijnhof\, Amsterdam\, Begijnhof 48\, Amsterdam\, 1012 WV
CATEGORIES:Kerkdiensten
ATTACH;FMTTYPE=image/jpeg:https://www.everhardzwart.nl/wp-content/uploads/2017/08/orgeltje-engelse-kerk.jpg
END:VEVENT
BEGIN:VEVENT
DTSTART;TZID=Europe/Amsterdam:20170825T200000
DTEND;TZID=Europe/Amsterdam:20170825T213000
DTSTAMP:20260422T035905
CREATED:20170820T150243Z
LAST-MODIFIED:20170820T150243Z
UID:1603-1503691200-1503696600@www.everhardzwart.nl
SUMMARY:Alkmaar\, Orgelzaal Booy
DESCRIPTION:Programma:\nEverhard Zwart \nTrio\nJan Zwart \nFantasie – toccatine Psalm 33\nTomaso Albinoni\nAdagio\nJosef Rheinberger\n– Duett\n– Pastorale\n– Canzonetta\nAlexandre Guilmant\nSonata 3\n– Preludio : Allegro maestoso e con fuoco\n– Adagio Molto\n– Fuga : Allegro \nPauze \nFrits Tollig\nMarche Triomphale\nBerthold Tours \nAllegretto grazioso\nWilliam Reed\nGrand Choeur\nWillem Hendrik Zwart\n– Fantasie over het “Gebed des Heren”\n– Toccata Psalm 146
URL:https://www.everhardzwart.nl/index.php/concert/alkmaar-orgelzaal-booy/
LOCATION:Orgelzaal Booy\, Alkmaar\, Daalmeerpad 13A\, Alkmaar\, 1827 GA
CATEGORIES:Orgelconcerten
ATTACH;FMTTYPE=image/jpeg:https://www.everhardzwart.nl/wp-content/uploads/2017/08/Alkmaar558Y.jpg
END:VEVENT
END:VCALENDAR