BEGIN:VCALENDAR
VERSION:2.0
PRODID:-//Everhard Zwart - ECPv6.15.20//NONSGML v1.0//EN
CALSCALE:GREGORIAN
METHOD:PUBLISH
X-WR-CALNAME:Everhard Zwart
X-ORIGINAL-URL:https://www.everhardzwart.nl
X-WR-CALDESC:Evenementen voor Everhard Zwart
REFRESH-INTERVAL;VALUE=DURATION:PT1H
X-Robots-Tag:noindex
X-PUBLISHED-TTL:PT1H
BEGIN:VTIMEZONE
TZID:Europe/Amsterdam
BEGIN:DAYLIGHT
TZOFFSETFROM:+0100
TZOFFSETTO:+0200
TZNAME:CEST
DTSTART:20170326T010000
END:DAYLIGHT
BEGIN:STANDARD
TZOFFSETFROM:+0200
TZOFFSETTO:+0100
TZNAME:CET
DTSTART:20171029T010000
END:STANDARD
BEGIN:DAYLIGHT
TZOFFSETFROM:+0100
TZOFFSETTO:+0200
TZNAME:CEST
DTSTART:20180325T010000
END:DAYLIGHT
BEGIN:STANDARD
TZOFFSETFROM:+0200
TZOFFSETTO:+0100
TZNAME:CET
DTSTART:20181028T010000
END:STANDARD
BEGIN:DAYLIGHT
TZOFFSETFROM:+0100
TZOFFSETTO:+0200
TZNAME:CEST
DTSTART:20190331T010000
END:DAYLIGHT
BEGIN:STANDARD
TZOFFSETFROM:+0200
TZOFFSETTO:+0100
TZNAME:CET
DTSTART:20191027T010000
END:STANDARD
END:VTIMEZONE
BEGIN:VEVENT
DTSTART;TZID=Europe/Amsterdam:20181215T190000
DTEND;TZID=Europe/Amsterdam:20181215T203000
DTSTAMP:20260421T211324
CREATED:20181125T063729Z
LAST-MODIFIED:20181125T063729Z
UID:2170-1544900400-1544905800@www.everhardzwart.nl
SUMMARY:Kerstzang aan de IJssel
DESCRIPTION:Traditioneel kerstconcert met \nInterkerkelijk gemengd koor “River Voices” en Chr. Mannenkoor “De IJsselzangers” o.l.v. Everhard Zwart \nInterkerkelijk Kinderkoor “De Regenboog” o.l.v. Hidde Zwart \npiano en KAMER CARILLON – Boudewijn Zwart \nEen kerstfeest voor jong en oud.
URL:https://www.everhardzwart.nl/index.php/concert/kerstzang-aan-de-ijssel-2/
LOCATION:De Ark\, Krimpen aan den IJssel\, Burg. Aalberslaan 41\, Krimpen aan den IJssel\, 2922 BC
CATEGORIES:Koor- en samenzang
ATTACH;FMTTYPE=image/jpeg:https://www.everhardzwart.nl/wp-content/uploads/2018/11/Kerstzang-2018.jpg
END:VEVENT
BEGIN:VEVENT
DTSTART;TZID=Europe/Amsterdam:20181212T200000
DTEND;TZID=Europe/Amsterdam:20181212T213000
DTSTAMP:20260421T211324
CREATED:20181125T063219Z
LAST-MODIFIED:20181125T063219Z
UID:2167-1544644800-1544650200@www.everhardzwart.nl
SUMMARY:Barendrecht\, Hervormde Dorpskerk
DESCRIPTION:Koorconcert met Chr. Gemengd Koor “Sanctus” uit Rotterdam en Chr. Gemengde Zangvereniging “Asaf” uit Puttershoek o.l.v. gastdirigent Hidde Zwart. \nArie de Korte – piano en Everhard Zwart – orgel \n 
URL:https://www.everhardzwart.nl/index.php/concert/barendrecht-hervormde-dorpskerk/
LOCATION:Dorpskerk Barendrecht\, Dorpsstraat 146\, Barendrecht\, 2992 BE
CATEGORIES:Koorconcerten
ATTACH;FMTTYPE=image/jpeg:https://www.everhardzwart.nl/wp-content/uploads/2018/11/Dorpskerk-Barendrecht.jpg
END:VEVENT
BEGIN:VEVENT
DTSTART;TZID=Europe/Amsterdam:20181210T200000
DTEND;TZID=Europe/Amsterdam:20181210T220000
DTSTAMP:20260421T211324
CREATED:20181125T062140Z
LAST-MODIFIED:20181125T062140Z
UID:2163-1544472000-1544479200@www.everhardzwart.nl
SUMMARY:Groningen\, Martinikerk
DESCRIPTION:Orgelgala \nBesloten concert o.a. met Jongens- en mannenkoor “Poznanski Chor Katedralnv”   –  De Poolse Nachtegalen
URL:https://www.everhardzwart.nl/index.php/concert/groningen-martinikerk/
LOCATION:Groningen\, Martinikerk\, Groningen
CATEGORIES:Koor- en Orgelconcert
ATTACH;FMTTYPE=image/jpeg:https://www.everhardzwart.nl/wp-content/uploads/2018/11/Foto1.jpg
END:VEVENT
BEGIN:VEVENT
DTSTART;TZID=Europe/Amsterdam:20181125T100000
DTEND;TZID=Europe/Amsterdam:20181125T113000
DTSTAMP:20260421T211324
CREATED:20181106T153750Z
LAST-MODIFIED:20181106T153750Z
UID:2153-1543140000-1543145400@www.everhardzwart.nl
SUMMARY:Zingen en herdenken
DESCRIPTION:Dienst op de laatste zondag van het kerkelijk jaar. \nDe overleden gemeenteleden worden herdacht\, maar er is ook ruimte om stil te staan bij het verlies van dierbaren in eigen kring. \nM.m.v. Chr.mannenkoor “De IJsselzangers” o.l.v. Everhard Zwart
URL:https://www.everhardzwart.nl/index.php/concert/zingen-en-herdenken/
LOCATION:De Ark\, Krimpen aan den IJssel\, Burg. Aalberslaan 41\, Krimpen aan den IJssel\, 2922 BC
CATEGORIES:Kerkdiensten
ATTACH;FMTTYPE=image/jpeg:https://www.everhardzwart.nl/wp-content/uploads/2018/11/Laatste-zondag.jpg
END:VEVENT
BEGIN:VEVENT
DTSTART;TZID=Europe/Amsterdam:20181121T124000
DTEND;TZID=Europe/Amsterdam:20181121T130000
DTSTAMP:20260421T211324
CREATED:20180902T195957Z
LAST-MODIFIED:20180913T175419Z
UID:2114-1542804000-1542805200@www.everhardzwart.nl
SUMMARY:Amsterdam\, Engelse Kerk (Begijnhof)
DESCRIPTION:Alledagkerk \nVoorganger: Dr. Wouter Klouwen uit Baarn \nOrgel: Everhard Zwart \nsamenzang vanaf 12.25 uur
URL:https://www.everhardzwart.nl/index.php/concert/amsterdam-engelse-kerk-begijnhof-9/
LOCATION:Engelse Kerk Begijnhof\, Amsterdam\, Begijnhof 48\, Amsterdam\, 1012 WV
CATEGORIES:Kerkdiensten
ATTACH;FMTTYPE=image/jpeg:https://www.everhardzwart.nl/wp-content/uploads/2017/09/begijnhof_eng_prot_kerk_10.jpg
END:VEVENT
BEGIN:VEVENT
DTSTART;TZID=Europe/Amsterdam:20181111T170000
DTEND;TZID=Europe/Amsterdam:20181111T183000
DTSTAMP:20260421T211324
CREATED:20180902T195751Z
LAST-MODIFIED:20180902T195751Z
UID:2110-1541955600-1541961000@www.everhardzwart.nl
SUMMARY:Rotterdam\, Breepleinkerk
DESCRIPTION:Dienst Zingen maakt Blij \nm.m.v. Chr. Gemengd Koor Asaf; Chr. Gemengd Koor Sanctus en Interkerkelijk Gemengd Koor River Voices o.l.v. Everhard Zwart \nDs. Wim Scheltens uit Lunteren \nOrgel: Martin Mans
URL:https://www.everhardzwart.nl/index.php/concert/rotterdam-breepleinkerk/
LOCATION:Breepleinkerk\, Van Malsenstraat 104\, Rotterdam\, 3074 PZ
CATEGORIES:Kerkdiensten,Koor- en samenzang
ATTACH;FMTTYPE=image/jpeg:https://www.everhardzwart.nl/wp-content/uploads/2018/09/Breepleinkerk.jpg
END:VEVENT
BEGIN:VEVENT
DTSTART;TZID=Europe/Amsterdam:20181104T183000
DTEND;TZID=Europe/Amsterdam:20181104T200000
DTSTAMP:20260421T211324
CREATED:20180902T195322Z
LAST-MODIFIED:20180902T195322Z
UID:2108-1541356200-1541361600@www.everhardzwart.nl
SUMMARY:Krimpen a/d IJssel\, De Ark
DESCRIPTION:Krimpen Zingt-dienst \nm.m.v. Ds. Robert-Jan van Amstel uit Rotterdam \nChr. Gemengd Koor De Slagsingers o.l.v. Johan den Hoedt \nOrgel: Everhard Zwart
URL:https://www.everhardzwart.nl/index.php/concert/krimpen-a-d-ijssel-de-ark-2/
LOCATION:De Ark\, Krimpen aan den IJssel\, Burg. Aalberslaan 41\, Krimpen aan den IJssel\, 2922 BC
CATEGORIES:Kerkdiensten
ATTACH;FMTTYPE=image/jpeg:https://www.everhardzwart.nl/wp-content/uploads/2017/08/zangdienst-in-De-Ark.jpg
END:VEVENT
BEGIN:VEVENT
DTSTART;TZID=Europe/Amsterdam:20181102T200000
DTEND;TZID=Europe/Amsterdam:20181102T210000
DTSTAMP:20260421T211324
CREATED:20180902T194949Z
LAST-MODIFIED:20181029T071933Z
UID:2104-1541188800-1541192400@www.everhardzwart.nl
SUMMARY:Drachten\, Grote Kerk
DESCRIPTION:Orgelconcert \nWillem Hendrik Zwart  \nTwee Psalmbewerkingen \n– Inleiding\, trio en koraal Psalm 84 \n– Fantasie Psalm 25 \n  \nJohann Sebastian Bach  \nPraeludium un Fuge  a-moll \n  \nMichael Christian Festing  \nSonate in E \n– Largo – Allegro – Air with Variations \n  \nFélix Mendelssohn-Bartholdy  \nSonata 4  Bes-Dur \n– Allegro moderato \n– Andante religioso \n– Allegretto \n– Allegro maestoso e Vivace \n  \nAlexandre Guilmant  \nLamentation \n  \nThomas Åberg  \nFantasy in a-minor \n  \nJan Zwart\nFantasie over het Lutherlied `Een Vaste Burcht is onze God
URL:https://www.everhardzwart.nl/index.php/concert/drachten-grote-kerk/
LOCATION:Grote Kerk\, De Drift 2\, Drachten\, 9203 GG
CATEGORIES:Orgelconcerten
ATTACH;FMTTYPE=image/jpeg:https://www.everhardzwart.nl/wp-content/uploads/2018/09/Drachten-Grote-Kerk.jpg
END:VEVENT
BEGIN:VEVENT
DTSTART;TZID=Europe/Amsterdam:20181031T124000
DTEND;TZID=Europe/Amsterdam:20181031T130000
DTSTAMP:20260421T211324
CREATED:20180902T194701Z
LAST-MODIFIED:20180902T194701Z
UID:2102-1540989600-1540990800@www.everhardzwart.nl
SUMMARY:Amsterdam\, Engelse Kerk (Begijnhof)
DESCRIPTION:Alledagkerk \ndr. Ad van Nieuwpoort uit Bloemendaal \nOrgel: Everhard Zwart \nsamenzang vanaf 12.25 uur
URL:https://www.everhardzwart.nl/index.php/concert/amsterdam-engelse-kerk-begijnhof-8/
LOCATION:Engelse Kerk Begijnhof\, Amsterdam\, Begijnhof 48\, Amsterdam\, 1012 WV
CATEGORIES:Kerkdiensten
ATTACH;FMTTYPE=image/jpeg:https://www.everhardzwart.nl/wp-content/uploads/2017/09/begijnhof_eng_prot_kerk_10.jpg
END:VEVENT
BEGIN:VEVENT
DTSTART;TZID=Europe/Amsterdam:20181027T200000
DTEND;TZID=Europe/Amsterdam:20181027T213000
DTSTAMP:20260421T211324
CREATED:20180902T194231Z
LAST-MODIFIED:20180902T194231Z
UID:2100-1540670400-1540675800@www.everhardzwart.nl
SUMMARY:Puttershoek\, Gereformeerde Kerk
DESCRIPTION:Koorconcert Chr. Gemengd Koor Asaf o.l.v. Everhard Zwart
URL:https://www.everhardzwart.nl/index.php/concert/puttershoek-gereformeerde-kerk-2/
LOCATION:Puttershoek-Gereformeerde Kerk\, Rembrandtstraat 1\, Puttershoek\, 3297 EP 
CATEGORIES:Koorconcerten
ATTACH;FMTTYPE=image/jpeg:https://www.everhardzwart.nl/wp-content/uploads/2015/05/koor_asaf.jpg
END:VEVENT
BEGIN:VEVENT
DTSTART;TZID=Europe/Amsterdam:20181025T200000
DTEND;TZID=Europe/Amsterdam:20181025T210000
DTSTAMP:20260421T211324
CREATED:20180902T200335Z
LAST-MODIFIED:20180905T093807Z
UID:2117-1540497600-1540501200@www.everhardzwart.nl
SUMMARY:Harderwijk\, Grote Kerk
DESCRIPTION:Orgelconcert programma \n  \nFeike Asma (1912 – 1984) \nTwee Liedbewerkingen \n– “Dat ons Loflied vrolijk rijze”\n– “Als ik Hem maar kenne” \n  \nJohann Sebastian Bach (1685 – 1750) \nPraludium und Fuge  h-moll – BWV 544 \n  \nGeorg Friedrich Händel (1685 – 1759) \nConcerto “Koekoek en Nachtegaal” \n  \nAlexandre Guilmant (1837 – 1911) \nLamentation \n  \nCésar Franck (1822 – 1890) \nChoral 3 \n  \nHendrik Andriessen (1892 – 1981) \nThema met Variaties \n  \nWillem Hendrik Zwart (1925 – 1997) \nKoraalfinale Psalm 111 \n  \n 
URL:https://www.everhardzwart.nl/index.php/concert/harderwijk-grote-kerk-2/
LOCATION:Grote Kerk\, Harderwijk\, Kerkplein 1\, Harderwijk\, 3841 EC
CATEGORIES:Orgelconcerten
ATTACH;FMTTYPE=image/jpeg:https://www.everhardzwart.nl/wp-content/uploads/2017/08/Harderwijk.jpg
END:VEVENT
BEGIN:VEVENT
DTSTART;TZID=Europe/Amsterdam:20181010T124000
DTEND;TZID=Europe/Amsterdam:20181010T130000
DTSTAMP:20260421T211324
CREATED:20180902T194030Z
LAST-MODIFIED:20180902T194030Z
UID:2098-1539175200-1539176400@www.everhardzwart.nl
SUMMARY:Amsterdam\, Engelse Kerk (Begijnhof)
DESCRIPTION:Alledagkerk \nsamenzang vanaf 12.25 uur \nVoorganger Drs Andries Knevel uit Huizen \nOrgel: Everhard Zwart
URL:https://www.everhardzwart.nl/index.php/concert/amsterdam-engelse-kerk-begijnhof-7/
LOCATION:Engelse Kerk Begijnhof\, Amsterdam\, Begijnhof 48\, Amsterdam\, 1012 WV
CATEGORIES:Kerkdiensten
ATTACH;FMTTYPE=image/jpeg:https://www.everhardzwart.nl/wp-content/uploads/2017/09/begijnhof_eng_prot_kerk_10.jpg
END:VEVENT
BEGIN:VEVENT
DTSTART;TZID=Europe/Amsterdam:20181007T190000
DTEND;TZID=Europe/Amsterdam:20181007T200000
DTSTAMP:20260421T211324
CREATED:20180902T193806Z
LAST-MODIFIED:20180902T193806Z
UID:2096-1538938800-1538942400@www.everhardzwart.nl
SUMMARY:Amsterdam\, Engelse Kerk (Begijnhof)
DESCRIPTION:Diensten met Belangstellenden \nVoorganger: Wim Scheltens uit Lunteren \nOrgel: Everhard Zwart \nTrompet: Hidde Zwart
URL:https://www.everhardzwart.nl/index.php/concert/amsterdam-engelse-kerk-begijnhof-6/
LOCATION:Engelse Kerk Begijnhof\, Amsterdam\, Begijnhof 48\, Amsterdam\, 1012 WV
CATEGORIES:Kerkdiensten
ATTACH;FMTTYPE=image/jpeg:https://www.everhardzwart.nl/wp-content/uploads/2017/09/Everhard-en-Hidde-Zwart-amsterdam-1-2.jpg
END:VEVENT
BEGIN:VEVENT
DTSTART;TZID=Europe/Amsterdam:20181006T200000
DTEND;TZID=Europe/Amsterdam:20181006T213000
DTSTAMP:20260421T211324
CREATED:20180902T193539Z
LAST-MODIFIED:20180927T145431Z
UID:2092-1538856000-1538861400@www.everhardzwart.nl
SUMMARY:Strijen\, St. Lambertuskerk
DESCRIPTION:Orgelconcert Programma \nCor Kee  \nFantasie-toccatine Psalm 24 \n  \nJohann Sebastian Bach  \nPraeludium und Fuge  a-moll (BWV 543) \n  \nAlexandre Guilmant  \nLamentation \n  \nJean Gabriel-Marie \nLa Cinquantaine \n  \nJames H. Rogers  \nMiniature Suite \n– Prelude \n– Intermezzo \n– Pastorale \n– Toccatina \n  \nHendrik Andriessen\nSonata da Chièsa \n  \nWillem Hendrik Zwart  \nCanonisch voorspel en koraal Psalm \n  \nWillem Hendrik Zwart                       \nToccata Psalm 146
URL:https://www.everhardzwart.nl/index.php/concert/strijen-st-lambertuskerk/
LOCATION:St. Lambertuskerk\, Kerkstraat 48\, Strijen
CATEGORIES:Orgelconcerten
ATTACH;FMTTYPE=image/jpeg:https://www.everhardzwart.nl/wp-content/uploads/2018/09/strijen.jpg
END:VEVENT
BEGIN:VEVENT
DTSTART;TZID=Europe/Amsterdam:20181006T160000
DTEND;TZID=Europe/Amsterdam:20181006T170000
DTSTAMP:20260421T211324
CREATED:20180902T193121Z
LAST-MODIFIED:20180927T145652Z
UID:2088-1538841600-1538845200@www.everhardzwart.nl
SUMMARY:Rotterdam\, Bergsingelkerk
DESCRIPTION:Orgelconcert Programma \nThomas Åberg  \nFantasy in a-minor \n  \nGeorg Friedrich Händel  \nConcerto 10 \nAdagio – Allegro – Recitativo – Allegro \n  \nJean Gabriel-Marie  \nLa Cinquantaine \n  \nCarol Williams  \nSuite (opus 5) \n– Festiva! \n– Mirage \n– Frisian March \n  \nPietro Yon  \nToccata Humoresque \n  \nWillem Hendrik Zwart\nToccata Psalm 146
URL:https://www.everhardzwart.nl/index.php/concert/rotterdam-bergsingelkerk/
LOCATION:Bergsingelkerk\, Bergsingel 150\, Rotterdam
CATEGORIES:Orgelconcerten
ATTACH;FMTTYPE=image/jpeg:https://www.everhardzwart.nl/wp-content/uploads/2018/09/Bergsingelkerk.jpg
END:VEVENT
BEGIN:VEVENT
DTSTART;TZID=Europe/Amsterdam:20180929T193000
DTEND;TZID=Europe/Amsterdam:20180929T210000
DTSTAMP:20260421T211324
CREATED:20180902T192418Z
LAST-MODIFIED:20180902T192418Z
UID:2084-1538249400-1538254800@www.everhardzwart.nl
SUMMARY:Ouderkerk a/d IJssel\, Herv. Kerk
DESCRIPTION:Zangdienst Krimpenerwaard Zingt \nM.m.v. Interkerkelijk Kinderkoor De Regenboog o.l.v. Hidde Zwart \nChr. Mannenkoor De IJsselzangers o.l.v. Everhard Zwart \nZang: Sterre van Boxtel \nOrgel: Everhard Zwart \n 
URL:https://www.everhardzwart.nl/index.php/concert/ouderkerk-a-d-ijssel-herv-kerk/
LOCATION:Herv.\, Kalverstraat 1\, Ouderkerk a/d IJssel\, 2935 AE
CATEGORIES:Koor- en samenzang
ATTACH;FMTTYPE=image/jpeg:https://www.everhardzwart.nl/wp-content/uploads/2018/09/IKK-De-Regenboog-juni-2018-2-scaled.jpg
END:VEVENT
BEGIN:VEVENT
DTSTART;TZID=Europe/Amsterdam:20180923T100000
DTEND;TZID=Europe/Amsterdam:20180923T111500
DTSTAMP:20260421T211324
CREATED:20180902T191739Z
LAST-MODIFIED:20180902T191739Z
UID:2080-1537696800-1537701300@www.everhardzwart.nl
SUMMARY:Krimpen a/d IJssel\, De Ark
DESCRIPTION:Ontmoetingsdienst \nDs. Margriet van der Kooi uit Woerden \nChr. mannenkoor Prins Alexander olv Arjan Breukhoven \nOrgel: Everhard Zwart
URL:https://www.everhardzwart.nl/index.php/concert/krimpen-a-d-ijssel-de-ark/
LOCATION:De Ark\, Krimpen aan den IJssel\, Burg. Aalberslaan 41\, Krimpen aan den IJssel\, 2922 BC
CATEGORIES:Kerkdiensten
ATTACH;FMTTYPE=image/jpeg:https://www.everhardzwart.nl/wp-content/uploads/2017/11/arkkrimpen.jpg
END:VEVENT
BEGIN:VEVENT
DTSTART;TZID=Europe/Amsterdam:20180919T124000
DTEND;TZID=Europe/Amsterdam:20180919T130000
DTSTAMP:20260421T211324
CREATED:20180902T191518Z
LAST-MODIFIED:20180902T191827Z
UID:2078-1537360800-1537362000@www.everhardzwart.nl
SUMMARY:Amsterdam\, Engelse Kerk (Begijnhof)
DESCRIPTION:Dienst Alledagkerk \nDs. Erick Versloot uit Mijdrecht \nOrgel: Everhard Zwart \nsamenzang vanaf 12.25 uur
URL:https://www.everhardzwart.nl/index.php/concert/amsterdam-engelse-kerk-begijnhof-5/
LOCATION:Engelse Kerk Begijnhof\, Amsterdam\, Begijnhof 48\, Amsterdam\, 1012 WV
CATEGORIES:Kerkdiensten
ATTACH;FMTTYPE=image/jpeg:https://www.everhardzwart.nl/wp-content/uploads/2017/09/begijnhof_eng_prot_kerk_10.jpg
END:VEVENT
BEGIN:VEVENT
DTSTART;TZID=Europe/Amsterdam:20180909T190000
DTEND;TZID=Europe/Amsterdam:20180909T200000
DTSTAMP:20260421T211324
CREATED:20180902T121919Z
LAST-MODIFIED:20180902T122042Z
UID:2076-1536519600-1536523200@www.everhardzwart.nl
SUMMARY:Amsterdam\, Engelse Kerk (Begijnhof)
DESCRIPTION:Diensten met Belangstellenden \nVoorganger: Ds. Peter van Dolderen uit Almere \nOrgel: Everhard Zwart \nTrompet: Hidde Zwart
URL:https://www.everhardzwart.nl/index.php/concert/amsterdam-engelse-kerk-begijnhof-4/
LOCATION:Engelse Kerk Begijnhof\, Amsterdam\, Begijnhof 48\, Amsterdam\, 1012 WV
CATEGORIES:Kerkdiensten
ATTACH;FMTTYPE=image/jpeg:https://www.everhardzwart.nl/wp-content/uploads/2017/09/Everhard-en-Hidde-Zwart-amsterdam-1-2.jpg
END:VEVENT
BEGIN:VEVENT
DTSTART;TZID=Europe/Amsterdam:20180908T200000
DTEND;TZID=Europe/Amsterdam:20180908T211500
DTSTAMP:20260421T211324
CREATED:20180902T121257Z
LAST-MODIFIED:20180902T121257Z
UID:2071-1536436800-1536441300@www.everhardzwart.nl
SUMMARY:Boven Hardinxveld\, Hervormde Kerk
DESCRIPTION:
URL:https://www.everhardzwart.nl/index.php/concert/boven-hardinxveld-hervormde-kerk/
LOCATION:Herv.Kerk\, Kerkplein 1\, Boven Hardinxveld\, 3372 DE
CATEGORIES:Orgelconcerten
ATTACH;FMTTYPE=image/jpeg:https://www.everhardzwart.nl/wp-content/uploads/2018/09/H.K.-Boven-Hardinxveld.jpg
END:VEVENT
BEGIN:VEVENT
DTSTART;TZID=Europe/Amsterdam:20180901T200000
DTEND;TZID=Europe/Amsterdam:20180901T211500
DTSTAMP:20260421T211324
CREATED:20180602T152810Z
LAST-MODIFIED:20180829T060649Z
UID:1996-1535832000-1535836500@www.everhardzwart.nl
SUMMARY:Kampen\, Bovenkerk
DESCRIPTION:PROGRAMMA \n  \nThomas Åberg            \nFantasy in a-minor \n  \nJohann Sebastian Bach  \nPraeludium und Fuge  c-moll (BWV 546) \n  \nCarol Williams  \nSuite (opus 5) \n– Festiva! \n– Mirage \n– Friesian March \n  \nAlexandre  Guilmant  \nSonate 7  (Suite) \n– Entrée \n– Lento assai \n– Intermezzo \n– Grand Choeur \n– Cantabile \n– Final \n  \nWillem Hendrik Zwart  \nFantasie Psalm 111
URL:https://www.everhardzwart.nl/index.php/concert/kampen-bovenkerk/
LOCATION:Bovenkerk Kampen\, Koornmarkt 28\, Kampen\, 8261 JX
CATEGORIES:Orgelconcerten
ATTACH;FMTTYPE=image/jpeg:https://www.everhardzwart.nl/wp-content/uploads/2018/06/AriedeKorte-11760-scaled.jpg
END:VEVENT
BEGIN:VEVENT
DTSTART;TZID=Europe/Amsterdam:20180828T200000
DTEND;TZID=Europe/Amsterdam:20180828T220000
DTSTAMP:20260421T211324
CREATED:20180602T152432Z
LAST-MODIFIED:20180602T152432Z
UID:1994-1535486400-1535493600@www.everhardzwart.nl
SUMMARY:Ede\, Johannus Orgelbouw
DESCRIPTION:Finale Feike Asma Concours
URL:https://www.everhardzwart.nl/index.php/concert/ede-johannus-orgelbouw-3/
LOCATION:Johannus Orgelbouw Ede\, Keplerlaan 2\, Ede\, 6716 BS
CATEGORIES:Concours Orgel
ATTACH;FMTTYPE=image/jpeg:https://www.everhardzwart.nl/wp-content/uploads/2017/08/johannus_orgelbouw_concertzaal4.jpg
END:VEVENT
BEGIN:VEVENT
DTSTART;TZID=Europe/Amsterdam:20180827T200000
DTEND;TZID=Europe/Amsterdam:20180827T201500
DTSTAMP:20260421T211324
CREATED:20180602T152224Z
LAST-MODIFIED:20180602T152224Z
UID:1992-1535400000-1535400900@www.everhardzwart.nl
SUMMARY:Capelle a/d IJssel\, Westerkerk
DESCRIPTION:Orgelconcert
URL:https://www.everhardzwart.nl/index.php/concert/capelle-a-d-ijssel-westerkerk-4/
LOCATION:Nieuwe Westerkerk Capelle a/d IJssel\, Valeriusrondeel 670\, Capelle aan den IJssel\, 2902CT
CATEGORIES:Orgelconcerten
ATTACH;FMTTYPE=image/jpeg:https://www.everhardzwart.nl/wp-content/uploads/2015/08/image9.jpg
END:VEVENT
BEGIN:VEVENT
DTSTART;VALUE=DATE:20180825
DTEND;VALUE=DATE:20180826
DTSTAMP:20260421T211324
CREATED:20180602T152045Z
LAST-MODIFIED:20180602T152045Z
UID:1989-1535155200-1535241599@www.everhardzwart.nl
SUMMARY:Ede\, Johannus Orgelbouw
DESCRIPTION:Feike Asma Concours\, \nAanvang 10.00 uur
URL:https://www.everhardzwart.nl/index.php/concert/ede-johannus-orgelbouw-2/
LOCATION:Johannus Orgelbouw Ede\, Keplerlaan 2\, Ede\, 6716 BS
CATEGORIES:Concours Orgel
ATTACH;FMTTYPE=image/jpeg:https://www.everhardzwart.nl/wp-content/uploads/2018/06/Jury-Asma-Concours.jpg
END:VEVENT
BEGIN:VEVENT
DTSTART;TZID=Europe/Amsterdam:20180824T200000
DTEND;TZID=Europe/Amsterdam:20180824T213000
DTSTAMP:20260421T211324
CREATED:20180625T145357Z
LAST-MODIFIED:20180822T175626Z
UID:2026-1535140800-1535146200@www.everhardzwart.nl
SUMMARY:Nunspeet\, Driestwegkerk
DESCRIPTION:“Hollandse Koraalkunst” \n  \nWillem Hendrik Zwart  \nTwee Liedbewerkingen: \n– “Op bergen en in dalen” \n– “Leid vriend’lijk licht” \nFantasie Psalm 25 \n  \nRutger van Mazijk \nFantasie Psalm 150 \n  \nAd Wammes \nVoorspel Psalm 23 \n  \nCor Kee \nFantasie-toccatine Psalm 24 \n  \nSamuel de Lange                                             \nFantasie-Sonate 3 “Ja\, Jezus heerscht\, het ongeloof verstom’” \n– Allegro moderato\n– Andante religioso\n– Allegro recitativo et Finale \n  \nJan Zwart  \nTwee liedbewerkingen \n– “Ga niet alleen door ‘t leven” \n– “Scheepje onder Jezus hoede” \n  \nFeike Asma  \nLiedbewerking “Beveel gerust uw wegen” \n  \nJan Zwart  \nFantasie over het Lutherlied \n“Een vaste burcht is onze God” \n  \n  \n  \n  \n 
URL:https://www.everhardzwart.nl/index.php/concert/nunspeet-driestwegkerk/
LOCATION:Driestwegkerk\, Driestweg 4\, Nunspeet\, 8071 BT
CATEGORIES:Orgelconcerten
ATTACH;FMTTYPE=image/jpeg:https://www.everhardzwart.nl/wp-content/uploads/2018/06/Driestwegkerk-Nunspeet.jpg
END:VEVENT
BEGIN:VEVENT
DTSTART;TZID=Europe/Amsterdam:20180820T200000
DTEND;TZID=Europe/Amsterdam:20180820T211500
DTSTAMP:20260421T211324
CREATED:20180602T151740Z
LAST-MODIFIED:20180819T111905Z
UID:1987-1534795200-1534799700@www.everhardzwart.nl
SUMMARY:Capelle a/d IJssel\, Westerkerk
DESCRIPTION:Orgelconcert Programma \nJan Zwart \nVoorspel Psalm 68 \nAd Wammes \nPsalm 23 “Ik wil van God als van mijn Herder spreken” \nCor Kee \nFantasie-toccatine Psalm 24 \n  \nGeorg Friedrich Händel \nConcerto 10 \nAdagio – Allegro – Recitativo – Allegro \n  \nJohann Sebastian Bach \nPraeludium und Fuge  a-moll \n  \nRulon Christiansen \nLyric Symphony \n– Prelude \n– Grand Choeur \n– Andante \n– Scherzetto \n– Adagio \n– Toccata \n  \nWillem Hendrik Zwart \nFantasie Psalm 25 \n 
URL:https://www.everhardzwart.nl/index.php/concert/capelle-a-d-ijssel-westerkerk-3/
LOCATION:Nieuwe Westerkerk Capelle a/d IJssel\, Valeriusrondeel 670\, Capelle aan den IJssel\, 2902CT
CATEGORIES:Orgelconcerten
ATTACH;FMTTYPE=image/jpeg:https://www.everhardzwart.nl/wp-content/uploads/2018/06/Capelle-ad-IJssel-Westerkerk.jpg
END:VEVENT
BEGIN:VEVENT
DTSTART;TZID=Europe/Amsterdam:20180818T193000
DTEND;TZID=Europe/Amsterdam:20180818T210000
DTSTAMP:20260421T211324
CREATED:20180602T151618Z
LAST-MODIFIED:20180614T173813Z
UID:1983-1534620600-1534626000@www.everhardzwart.nl
SUMMARY:Zeist\, Oosterkerk
DESCRIPTION:Programma Orgelconcert \nWillem Hendrik Zwart  \nLiedbewerking “Op bergen en in dalen” \n  \nJohannes Barend Litzau         \nAria “Agnus Dei”                                             \naus der h-moll Messe von J.S.Bach \n  \nJosef Löw                                \nZwei Tönstücke \n– Elegie \n– Impromt \n  \nSamuel de Lange                    \nFantasie-Sonate 3 “Ja\, Jezus heerscht\, het ongeloof verstom’” \n– Allegro moderato\n– Andante religioso\n– Allegro recitativo et Finale \n  \nAlexandre Guilmant                \n– Pastorale \n– Finale \n (uit Symphonie 1) \n  \nWillem Hendrik Zwart             \nToccata Psalm 146
URL:https://www.everhardzwart.nl/index.php/concert/zeist-oosterkerk/
LOCATION:Oosterkerk\, Zeist\, Woudenbergseweg 44\, Zeist\, 3701 BC
CATEGORIES:Orgelconcerten
ATTACH;FMTTYPE=image/jpeg:https://www.everhardzwart.nl/wp-content/uploads/2018/06/Zeist-Oosterkerk.jpg
END:VEVENT
BEGIN:VEVENT
DTSTART;TZID=Europe/Amsterdam:20180816T200000
DTEND;TZID=Europe/Amsterdam:20180816T211500
DTSTAMP:20260421T211324
CREATED:20180602T151402Z
LAST-MODIFIED:20180603T120610Z
UID:1979-1534449600-1534454100@www.everhardzwart.nl
SUMMARY:Easterein\, Martinikerk
DESCRIPTION:Programma Orgelconcert \nHollandse Koraalkunst: \nCor Kee \n– Fantasie-toccatine Psalm 24 \nAd Wammes  \n– Voorspel Psalm 23 \nRutger van Mazijk  \n– Fantasie Psalm 150 \n  \nGiovanni Battista Pescetti  \nAria (Adagio) \n  \nJohann Sebastian Bach \nPraeludium und fuge c-moll  (BWV  546) \n  \nJean Gabriel-Marie \nLa Cinquantaine \n  \nAlexandre Guilmant \nSonata 3 \n– Preludio : Allegro maestoso e con fuoco \n– Adagio Molto \n– Fuga : Allegro \n  \nJames H. Rogers \nMiniature Suite \n– Prelude \n– Intermezzo \n– Pastorale \n– Toccatina \n  \nWillem Hendrik Zwart \n– Canonisch voorspel en koraal Psalm 6 \n– Toccata Psalm 146
URL:https://www.everhardzwart.nl/index.php/concert/easterein-martinikerk/
LOCATION:Martinikerk\, Easterein\, Tserkebuorren 2\, Oostereind\, 8734 GX
CATEGORIES:Orgelconcerten
ATTACH;FMTTYPE=image/jpeg:https://www.everhardzwart.nl/wp-content/uploads/2018/06/Oosterend.jpg
END:VEVENT
BEGIN:VEVENT
DTSTART;TZID=Europe/Amsterdam:20180815T160000
DTEND;TZID=Europe/Amsterdam:20180815T170000
DTSTAMP:20260421T211324
CREATED:20180602T151100Z
LAST-MODIFIED:20180602T160757Z
UID:1975-1534348800-1534352400@www.everhardzwart.nl
SUMMARY:Urk\, Bethelkerk
DESCRIPTION:Programma Orgelconcert \nEverhard Zwart \nTrio Psalm 33 \n  \nJan Zwart \nFantasie-toccatine Psalm 33 \n  \nGeorg Friedrich Händel \nConcerto “Koekoek en Nachtegaal” \n  \nJan Zwart \nLiedbewerking “U bid ik aan\, o macht der liefde” \n  \nTomaso Albinoni \nAdagio \n  \nFélix Mendelssohn-Bartholdy \nVariaties over “het Gebed des Heren” \n  \nJan Zwart \nLiedbewerking “Neem Heer\, mijn beide handen” \n  \nWilliam Ralph Driffill \nToccata \n  \nWillem Hendrik Zwart \n– Canonisch voorspel Psalm 6 \n– Toccata Psalm 146
URL:https://www.everhardzwart.nl/index.php/concert/urk-bethelkerk/
LOCATION:Bethelkerk\, Urk\, Wijk 3-3\, Urk\, 8321 EW
CATEGORIES:Orgelconcerten
ATTACH;FMTTYPE=image/jpeg:https://www.everhardzwart.nl/wp-content/uploads/2018/06/Urk-Bethelkerk.jpg
END:VEVENT
BEGIN:VEVENT
DTSTART;TZID=Europe/Amsterdam:20180813T200000
DTEND;TZID=Europe/Amsterdam:20180813T211500
DTSTAMP:20260421T211324
CREATED:20180602T150553Z
LAST-MODIFIED:20180812T161218Z
UID:1973-1534190400-1534194900@www.everhardzwart.nl
SUMMARY:Capelle a/d IJssel\, Westerkerk
DESCRIPTION:Programma orgelconcert \nWillem Hendrik Zwart  \nLiedbewerking “Op bergen en in dalen” \n  \nJohann Sebastian Bach  \nSonate 4 (trio) BWV 528 \n– Adagio/Vivace – Andante – Un poco allegro \n  \nThomas Åberg  \nFantasy in a-minor \n  \nJoseph Rheinberger \nIntroductie en Passacaglia \n(uit Sonate 8) \n  \nCésar Franck  \nPrélude\, fugue et variation \n  \nCarol Williams  \nSuite (opus 5) \n– Festiva! \n– Mirage \n– Friesian March \n  \nFeike Asma  \nFantasie over Psalm 42
URL:https://www.everhardzwart.nl/index.php/concert/capelle-a-d-ijssel-westerkerk-2/
LOCATION:Nieuwe Westerkerk Capelle a/d IJssel\, Valeriusrondeel 670\, Capelle aan den IJssel\, 2902CT
CATEGORIES:Orgelconcerten
ATTACH;FMTTYPE=image/jpeg:https://www.everhardzwart.nl/wp-content/uploads/2018/06/Capelle-ad-IJssel-Westerkerk.jpg
END:VEVENT
END:VCALENDAR