BEGIN:VCALENDAR
VERSION:2.0
PRODID:-//Everhard Zwart - ECPv6.15.20//NONSGML v1.0//EN
CALSCALE:GREGORIAN
METHOD:PUBLISH
X-WR-CALNAME:Everhard Zwart
X-ORIGINAL-URL:https://www.everhardzwart.nl
X-WR-CALDESC:Evenementen voor Everhard Zwart
REFRESH-INTERVAL;VALUE=DURATION:PT1H
X-Robots-Tag:noindex
X-PUBLISHED-TTL:PT1H
BEGIN:VTIMEZONE
TZID:Europe/Amsterdam
BEGIN:DAYLIGHT
TZOFFSETFROM:+0100
TZOFFSETTO:+0200
TZNAME:CEST
DTSTART:20230326T010000
END:DAYLIGHT
BEGIN:STANDARD
TZOFFSETFROM:+0200
TZOFFSETTO:+0100
TZNAME:CET
DTSTART:20231029T010000
END:STANDARD
BEGIN:DAYLIGHT
TZOFFSETFROM:+0100
TZOFFSETTO:+0200
TZNAME:CEST
DTSTART:20240331T010000
END:DAYLIGHT
BEGIN:STANDARD
TZOFFSETFROM:+0200
TZOFFSETTO:+0100
TZNAME:CET
DTSTART:20241027T010000
END:STANDARD
BEGIN:DAYLIGHT
TZOFFSETFROM:+0100
TZOFFSETTO:+0200
TZNAME:CEST
DTSTART:20250330T010000
END:DAYLIGHT
BEGIN:STANDARD
TZOFFSETFROM:+0200
TZOFFSETTO:+0100
TZNAME:CET
DTSTART:20251026T010000
END:STANDARD
BEGIN:DAYLIGHT
TZOFFSETFROM:+0100
TZOFFSETTO:+0200
TZNAME:CEST
DTSTART:20260329T010000
END:DAYLIGHT
BEGIN:STANDARD
TZOFFSETFROM:+0200
TZOFFSETTO:+0100
TZNAME:CET
DTSTART:20261025T010000
END:STANDARD
END:VTIMEZONE
BEGIN:VEVENT
DTSTART;TZID=Europe/Amsterdam:20250604T122500
DTEND;TZID=Europe/Amsterdam:20250604T130000
DTSTAMP:20260420T003947
CREATED:20250411T155531Z
LAST-MODIFIED:20250411T155531Z
UID:11379-1749039900-1749042000@www.everhardzwart.nl
SUMMARY:Amsterdam\, Middagpauzedienst
DESCRIPTION:Middagpauzedienst van de Alle Dag Kerk\, in de Engelse Kerk aan het Begijnhof te Amsterdam \nVoorganger Ds. Koos Staat
URL:https://www.everhardzwart.nl/index.php/concert/amsterdam-middagpauzedienst-4/
LOCATION:Engelse Kerk Begijnhof\, Amsterdam\, Begijnhof 48\, Amsterdam\, 1012 WV
CATEGORIES:Middagpauzedienst
ATTACH;FMTTYPE=image/jpeg:https://www.everhardzwart.nl/wp-content/uploads/2018/01/orgeltje-engelse-kerk.jpg
END:VEVENT
BEGIN:VEVENT
DTSTART;TZID=Europe/Amsterdam:20250524T200000
DTEND;TZID=Europe/Amsterdam:20250524T213000
DTSTAMP:20260420T003947
CREATED:20250411T172411Z
LAST-MODIFIED:20250411T174731Z
UID:11383-1748116800-1748122200@www.everhardzwart.nl
SUMMARY:Kampen\, Bovenkerk
DESCRIPTION:Herdenkingsconcert 100-ste geboortedag Willem Hendrik Zwart \n  \nKorting via voorverkoop    www.ticketkantoor.nl/shop/EverhardZwart
URL:https://www.everhardzwart.nl/index.php/concert/kampen-bovenkerk-4/
LOCATION:Bovenkerk Kampen\, Koornmarkt 28\, Kampen\, 8261 JX
CATEGORIES:Orgelconcert
ATTACH;FMTTYPE=image/jpeg:https://www.everhardzwart.nl/wp-content/uploads/2025/04/Kampen-2025.jpg
END:VEVENT
BEGIN:VEVENT
DTSTART;TZID=Europe/Amsterdam:20250518T183000
DTEND;TZID=Europe/Amsterdam:20250518T200000
DTSTAMP:20260420T003947
CREATED:20250411T144632Z
LAST-MODIFIED:20250411T144632Z
UID:11365-1747593000-1747598400@www.everhardzwart.nl
SUMMARY:Krimpen a/d IJssel\, Krimpen Zingt-Dienst
DESCRIPTION:Zangdienst met voorganger Ds. Wim Scheltens uit Lunteren en Interk. Gemengd Koor RIVER VOICES o.l.v. Everhard Zwart\nBegeleiding samenzang: Everhard Zwart
URL:https://www.everhardzwart.nl/index.php/concert/krimpen-a-d-ijssel-krimpen-zingt-dienst/
LOCATION:Fonteinkerk Krimpen\, Burg. Aalberslaan 41\, Krimpen aan den IJssel
CATEGORIES:Kerkdienst met koor,zangdienst met een koor
ATTACH;FMTTYPE=image/jpeg:https://www.everhardzwart.nl/wp-content/uploads/2025/04/Foto-RV-scaled.jpg
END:VEVENT
BEGIN:VEVENT
DTSTART;TZID=Europe/Amsterdam:20250514T122500
DTEND;TZID=Europe/Amsterdam:20250514T130000
DTSTAMP:20260420T003947
CREATED:20250411T144159Z
LAST-MODIFIED:20250411T144802Z
UID:11363-1747225500-1747227600@www.everhardzwart.nl
SUMMARY:Amsterdam\, Middagpauzedienst
DESCRIPTION:Middagpauzedienst van de Alle Dag Kerk \nVoorganger: Ds. Gerie Stougie uit Pernis
URL:https://www.everhardzwart.nl/index.php/concert/amsterdam-middagpauzedienst-3/
LOCATION:Engelse Kerk Begijnhof\, Amsterdam\, Begijnhof 48\, Amsterdam\, 1012 WV
CATEGORIES:Middagpauzedienst
ATTACH;FMTTYPE=image/jpeg:https://www.everhardzwart.nl/wp-content/uploads/2023/07/Engelse-kerk-Amsterdam-ADK.jpg
END:VEVENT
BEGIN:VEVENT
DTSTART;TZID=Europe/Amsterdam:20250427T150000
DTEND;TZID=Europe/Amsterdam:20250427T163000
DTSTAMP:20260420T003947
CREATED:20250411T143814Z
LAST-MODIFIED:20250411T143814Z
UID:11357-1745766000-1745771400@www.everhardzwart.nl
SUMMARY:Schermerhorn\, Grote Kerk
DESCRIPTION:Leeghwater Orgel Concert t.g.v. 450 jaar Leeghwater
URL:https://www.everhardzwart.nl/index.php/concert/schermerhorn-grote-kerk/
LOCATION:Grote Kerk Schermerhorn\, Oosteinde 2\, Schermerhorn\, 1636 XV
CATEGORIES:Orgelconcert
ATTACH;FMTTYPE=image/jpeg:https://www.everhardzwart.nl/wp-content/uploads/2025/04/Grote-Kerk-Schermerhorn.jpg
END:VEVENT
BEGIN:VEVENT
DTSTART;TZID=Europe/Amsterdam:20250416T122500
DTEND;TZID=Europe/Amsterdam:20250416T130000
DTSTAMP:20260420T003947
CREATED:20250411T144012Z
LAST-MODIFIED:20250411T144012Z
UID:11361-1744806300-1744808400@www.everhardzwart.nl
SUMMARY:Amsterdam\, Middagpauzedienst
DESCRIPTION:Middagpauzedienst van de Alle Dag Kerk \nVoorganger: Ds. Bas van der Graaf
URL:https://www.everhardzwart.nl/index.php/concert/amsterdam-middagpauzedienst-2/
LOCATION:Engelse Kerk Begijnhof\, Amsterdam\, Begijnhof 48\, Amsterdam\, 1012 WV
CATEGORIES:Middagpauzedienst
ATTACH;FMTTYPE=image/jpeg:https://www.everhardzwart.nl/wp-content/uploads/2019/02/engelse-hervormde-kerk-orgel.jpg
END:VEVENT
BEGIN:VEVENT
DTSTART;TZID=Europe/Amsterdam:20250131T193000
DTEND;TZID=Europe/Amsterdam:20250131T210000
DTSTAMP:20260420T003947
CREATED:20241009T101952Z
LAST-MODIFIED:20241009T101952Z
UID:11258-1738351800-1738357200@www.everhardzwart.nl
SUMMARY:Capelle a/d IJssel\, Dorpskerk - Benefietconcert
DESCRIPTION:Concert voor de Stichting “Als kanker je raakt”\nm.m.v. Interkerkelijk Gemengd Koor RIVER VOICES o.l.v. Everhard Zwart\nThe Martin Mans Formation\nTheo-Hans Kuijvenhoven – hobo \nOrgel en piano: Martin en Everhard \nMeer informatie volgt z.s.m.
URL:https://www.everhardzwart.nl/index.php/concert/capelle-a-d-ijssel-dorpskerk-benefietconcert/
LOCATION:Dorpskerk\, Capelle aan den IJssel\, Kerklaan 2\, Capelle aan den IJssel\, 2903BE
CATEGORIES:Koor- en samenzang
ATTACH;FMTTYPE=image/jpeg:https://www.everhardzwart.nl/wp-content/uploads/2024/10/koor-aangepast-scaled.jpg
END:VEVENT
BEGIN:VEVENT
DTSTART;TZID=Europe/Amsterdam:20241230T150000
DTEND;TZID=Europe/Amsterdam:20241230T170000
DTSTAMP:20260420T003947
CREATED:20241031T131039Z
LAST-MODIFIED:20241031T131039Z
UID:11289-1735570800-1735578000@www.everhardzwart.nl
SUMMARY:Lemelerveld\, Willem Hendrik Zwart-hal
DESCRIPTION:Oudejaars-orgelconcert
URL:https://www.everhardzwart.nl/index.php/concert/lemelerveld-willem-hendrik-zwart-hal-3/
LOCATION:Willem Hendrik Zwart Hal\, Grensweg 17\, Lemelerveld\, 8153 RB
CATEGORIES:Orgelconcert
ATTACH;FMTTYPE=image/jpeg:https://www.everhardzwart.nl/wp-content/uploads/2017/12/WillemHendrikZwarthalLemelerveld2.jpg
END:VEVENT
BEGIN:VEVENT
DTSTART;TZID=Europe/Amsterdam:20241224T200000
DTEND;TZID=Europe/Amsterdam:20241224T210000
DTSTAMP:20260420T003947
CREATED:20241031T131714Z
LAST-MODIFIED:20241031T131714Z
UID:11291-1735070400-1735074000@www.everhardzwart.nl
SUMMARY:Hoek van Holland\, Kerstavonddienst
DESCRIPTION:IKGK River Voices zingt op kerstavond in de dienst in de Dorpskerk van Hoek van Holland. \nVoorganger is ds. Dirk van Duijvenbode
URL:https://www.everhardzwart.nl/index.php/concert/hoek-van-holland-kerstavonddienst/
LOCATION:hoek van holland Dorpskerk\, Prins Hendrikstraat 191\, Hoek van Holland\, 3151AH
CATEGORIES:Kerstavonddienst
ATTACH;FMTTYPE=image/jpeg:https://www.everhardzwart.nl/wp-content/uploads/2024/10/HvH.jpeg
END:VEVENT
BEGIN:VEVENT
DTSTART;TZID=Europe/Amsterdam:20241219T200000
DTEND;TZID=Europe/Amsterdam:20241219T211500
DTSTAMP:20260420T003947
CREATED:20241023T054817Z
LAST-MODIFIED:20241023T054817Z
UID:11269-1734638400-1734642900@www.everhardzwart.nl
SUMMARY:Harderwijk\, Grote Kerk - Kerstconcert
DESCRIPTION:Orgelconcert
URL:https://www.everhardzwart.nl/index.php/concert/harderwijk-grote-kerk-kerstconcert/
LOCATION:Grote Kerk\, Harderwijk\, Kerkplein 1\, Harderwijk\, 3841 EC
CATEGORIES:Orgelconcert
ATTACH;FMTTYPE=image/jpeg:https://www.everhardzwart.nl/wp-content/uploads/2024/10/Harderwijk-kerstconcert.jpg
END:VEVENT
BEGIN:VEVENT
DTSTART;TZID=Europe/Amsterdam:20241218T200000
DTEND;TZID=Europe/Amsterdam:20241218T213000
DTSTAMP:20260420T003947
CREATED:20240512T105446Z
LAST-MODIFIED:20241022T141052Z
UID:11193-1734552000-1734557400@www.everhardzwart.nl
SUMMARY:Den Haag\, Evangelisch-Lutherse Kerk
DESCRIPTION:Feike Asma herdenking ter gelegenheid van zijn 40-ste sterfdag. \nPresentatie nieuwe muziekbundels uit het Archief van Feike Asma \n  \nBestel nu je kaarten \nwww.ticketkantoor.nl/shop/EverhardZwart \n 
URL:https://www.everhardzwart.nl/index.php/concert/den-haag-evangelisch-lutherse-kerk/
LOCATION:Evangelisch-Lutherse Kerk\, Den Haag\, Lutherse Burgwal 7\, Den Haag\, 2512 CB
CATEGORIES:Orgelconcert,Orgelconcerten
ATTACH;FMTTYPE=image/jpeg:https://www.everhardzwart.nl/wp-content/uploads/2024/05/Flyer-18-december-FA-herdenking.jpg
END:VEVENT
BEGIN:VEVENT
DTSTART;TZID=Europe/Amsterdam:20241218T121500
DTEND;TZID=Europe/Amsterdam:20241218T130000
DTSTAMP:20260420T003947
CREATED:20241126T105344Z
LAST-MODIFIED:20241126T105344Z
UID:11304-1734524100-1734526800@www.everhardzwart.nl
SUMMARY:Middagpauzedienst Amsterdam
DESCRIPTION:Kerstviering Alle Dag Kerk \nSamenzang van de echte kerstliederen vanaf 12.15 uur. Dienst start 12.40 uur. Na afloop koffie/thee \nVoorganger: Ds. Koos Staat\, pianist: Rob van Dijk\, organist: Everhard Zwart
URL:https://www.everhardzwart.nl/index.php/concert/middagpauzedienst-amsterdam/
LOCATION:Engelse Kerk Begijnhof\, Amsterdam\, Begijnhof 48\, Amsterdam\, 1012 WV
CATEGORIES:Middagpauzedienst
ATTACH;FMTTYPE=image/jpeg:https://www.everhardzwart.nl/wp-content/uploads/2024/11/Kerst-Engelse-Kerk-e1732618410127.jpeg
END:VEVENT
BEGIN:VEVENT
DTSTART;TZID=Europe/Amsterdam:20241215T150000
DTEND;TZID=Europe/Amsterdam:20241215T170000
DTSTAMP:20260420T003947
CREATED:20241031T132807Z
LAST-MODIFIED:20241031T132903Z
UID:11295-1734274800-1734282000@www.everhardzwart.nl
SUMMARY:Kerstconcert\, Ammerzoden
DESCRIPTION:Kerstconcert met mannenkoor Il Favorito
URL:https://www.everhardzwart.nl/index.php/concert/kerstconcert-ammerzoden/
LOCATION:St. Willibrorduskerk\, Mr. La Grostraat 1\, Ammerzoden\, 5324AJ
CATEGORIES:Kerst - Koorconcert
ATTACH;FMTTYPE=image/jpeg:https://www.everhardzwart.nl/wp-content/uploads/2023/11/Il-Favorito-Ammerzoden-scaled.jpg
END:VEVENT
BEGIN:VEVENT
DTSTART;TZID=Europe/Amsterdam:20241214T193000
DTEND;TZID=Europe/Amsterdam:20241214T210000
DTSTAMP:20260420T003947
CREATED:20241009T103338Z
LAST-MODIFIED:20241009T103338Z
UID:11262-1734204600-1734210000@www.everhardzwart.nl
SUMMARY:Krimpen a/d IJssel\, Fonteinkerk - Kerstzang
DESCRIPTION:Kerstzang in de Fonteinkerk m.m.v. Interkerkelijk Gemengd Koor River Voices o.l.v. Everhard Zwart\nVocal group ORPHEUS uit Lviv – Oekraïne \nBoudewijn Zwart – piano\nStéfanie Mourik – dwarsfluit\nTheo-Hans Kuijvenhoven – hobo \n 
URL:https://www.everhardzwart.nl/index.php/concert/krimpen-a-d-ijssel-fonteinkerk-kerstzang/
LOCATION:Fonteinkerk Krimpen\, Burg. Aalberslaan 41\, Krimpen aan den IJssel
CATEGORIES:Kerst - Koorconcert
ATTACH;FMTTYPE=image/jpeg:https://www.everhardzwart.nl/wp-content/uploads/2024/10/b_0011.jpg
END:VEVENT
BEGIN:VEVENT
DTSTART;TZID=Europe/Amsterdam:20241117T183000
DTEND;TZID=Europe/Amsterdam:20241117T200000
DTSTAMP:20260420T003947
CREATED:20241023T055934Z
LAST-MODIFIED:20241023T055934Z
UID:11278-1731868200-1731873600@www.everhardzwart.nl
SUMMARY:Krimpen Zingt in de Fonteinkerk
DESCRIPTION:Krimpen Zingt-dienst met voorganger: Theoloog en evangelist Andries Knevel. \nM.m.v. The Martin Mans Formation.\nBegeleiding samenzang op orgel: Everhard Zwart & piano: Martin Mans
URL:https://www.everhardzwart.nl/index.php/concert/krimpen-zingt-in-de-fonteinkerk/
LOCATION:Fonteinkerk Krimpen\, Burg. Aalberslaan 41\, Krimpen aan den IJssel
CATEGORIES:zangdienst met een koor
ATTACH;FMTTYPE=image/png:https://www.everhardzwart.nl/wp-content/uploads/2024/10/TMMF-in-de-Fonteinkerk.png
END:VEVENT
BEGIN:VEVENT
DTSTART;TZID=Europe/Amsterdam:20241103T100000
DTEND;TZID=Europe/Amsterdam:20241103T110000
DTSTAMP:20260420T003947
CREATED:20241023T061338Z
LAST-MODIFIED:20241023T061338Z
UID:11282-1730628000-1730631600@www.everhardzwart.nl
SUMMARY:Oosterhout\, zingen in de Vredeskerk
DESCRIPTION:Voorganger: Ds. Bernadette de Groot. Met IKGK River Voices o.l.v. Everhard Zwart
URL:https://www.everhardzwart.nl/index.php/concert/oosterhout-zingen-in-de-vredeskerk/
LOCATION:Oosterhout\, Vredeskerk\, Rulstraat 6\, Oosterhout\, 4901 LN
CATEGORIES:Kerkdienst met koor
ATTACH;FMTTYPE=image/jpeg:https://www.everhardzwart.nl/wp-content/uploads/2024/10/koor-aangepast-scaled.jpg
END:VEVENT
BEGIN:VEVENT
DTSTART;TZID=Europe/Amsterdam:20241031T200000
DTEND;TZID=Europe/Amsterdam:20241031T210000
DTSTAMP:20260420T003947
CREATED:20241009T101409Z
LAST-MODIFIED:20241023T055152Z
UID:11256-1730404800-1730408400@www.everhardzwart.nl
SUMMARY:Harderwijk\, Grote Kerk
DESCRIPTION:Programma: \nKomt als kind’ren van het licht – Feike. Asma\nPraeludium en Fuga D-dur – D. Buxtehude\nConcerto h-moll – J.G. Walther\nAllein Gott in der Göh sei Ehr – J.S. Bach\nSonate IV – F. Mendelssohn-Bartholdy\nAllegro Vivace (Symf. nr V) – C.M. Widor\nEen vaste burcht is onze God – Feike Asma
URL:https://www.everhardzwart.nl/index.php/concert/harderwijk-grote-kerk-9/
LOCATION:Grote Kerk\, Harderwijk\, Kerkplein 1\, Harderwijk\, 3841 EC
CATEGORIES:Orgelconcert
ATTACH;FMTTYPE=image/jpeg:https://www.everhardzwart.nl/wp-content/uploads/2017/08/Harderwijk.jpg
END:VEVENT
BEGIN:VEVENT
DTSTART;TZID=Europe/Amsterdam:20241030T122000
DTEND;TZID=Europe/Amsterdam:20241030T130000
DTSTAMP:20260420T003947
CREATED:20241023T062507Z
LAST-MODIFIED:20241023T062507Z
UID:11285-1730290800-1730293200@www.everhardzwart.nl
SUMMARY:Amsterdam\, Alle Dag Kerk
DESCRIPTION:Middagpauzedienst met Prof. Antoine Bodar (RK Priester van de Friezenkerk te Rome)\nOrgel: Everhard Zwart. \nDe Middagpauzediensten in de Engelse Kerk aan het Begijnhof te Amsterdam zijn al bijna 100 jaar een waar begrip. Ruim 25 jaar mag ik als één van de organisten meewerken aan deze bijzondere diensten. Sinds juli 2023 ben ik als bestuurslid van de Stichting Alle Dag Kerk betrokken bij de organisatie van deze diensten. Voorgangers\, van alle kerkelijke gezindten en uit alle kanten van ons land\, komen graag naar Amsterdam om voor te gaan in onze dienst. De diensten duren slechts 20 minuten\, maar vooraf wordt er al heerlijk gezongen. De kerk gaat om 12.00 uur open.
URL:https://www.everhardzwart.nl/index.php/concert/amsterdam-alle-dag-kerk/
LOCATION:Engelse Kerk Begijnhof\, Amsterdam\, Begijnhof 48\, Amsterdam\, 1012 WV
CATEGORIES:Middagpauzedienst
ATTACH;FMTTYPE=image/jpeg:https://www.everhardzwart.nl/wp-content/uploads/2024/10/Antoine-Bodar.jpeg
END:VEVENT
BEGIN:VEVENT
DTSTART;TZID=Europe/Amsterdam:20240828T200000
DTEND;TZID=Europe/Amsterdam:20240828T210000
DTSTAMP:20260420T003947
CREATED:20240512T052720Z
LAST-MODIFIED:20240512T052720Z
UID:11179-1724875200-1724878800@www.everhardzwart.nl
SUMMARY:Ede\, Oude Kerk
DESCRIPTION:Orgelconcert
URL:https://www.everhardzwart.nl/index.php/concert/ede-oude-kerk-3/
LOCATION:Oude Kerk\, Ede\, Grotestraat 58\, Ede\, 6711 AN
CATEGORIES:Orgelconcert,Orgelconcerten
ATTACH;FMTTYPE=image/jpeg:https://www.everhardzwart.nl/wp-content/uploads/2018/06/Ede-Oude-Kerk.jpg
END:VEVENT
BEGIN:VEVENT
DTSTART;TZID=Europe/Amsterdam:20240826T200000
DTEND;TZID=Europe/Amsterdam:20240826T210000
DTSTAMP:20260420T003947
CREATED:20240512T050713Z
LAST-MODIFIED:20240512T050731Z
UID:11170-1724702400-1724706000@www.everhardzwart.nl
SUMMARY:Capelle a/d IJssel\, Nieuwe Westerkerk
DESCRIPTION:36-ste Zomerserie orgelconcerten op maandagavond
URL:https://www.everhardzwart.nl/index.php/concert/capelle-a-d-ijssel-nieuwe-westerkerl/
LOCATION:Nieuwe Westerkerk Capelle a/d IJssel\, Valeriusrondeel 670\, Capelle aan den IJssel\, 2902CT
CATEGORIES:Orgelconcert,Orgelconcerten
ATTACH;FMTTYPE=image/jpeg:https://www.everhardzwart.nl/wp-content/uploads/2024/05/Everhard-klavier.jpg
END:VEVENT
BEGIN:VEVENT
DTSTART;TZID=Europe/Amsterdam:20240819T200000
DTEND;TZID=Europe/Amsterdam:20240819T210000
DTSTAMP:20260420T003947
CREATED:20240512T050514Z
LAST-MODIFIED:20240818T182424Z
UID:11167-1724097600-1724101200@www.everhardzwart.nl
SUMMARY:Capelle a/d IJssel\, Nieuwe Westerkerk
DESCRIPTION:36-ste Zomerserie orgelconcerten op maandagavond \nProgramma: \nEverhard Zwart\n– Inleidende improvisatie “Hatikvah” \nJohann Sebastian Bach\n– Fuga “Gigue” \nGeorg Friedrich Händel\n– Concerto “Koekoek en Nachtegaal” \nAlexandre Guilmant\nMarche Funèbre et Chant Sérafique\n(Dodenmars en Eng’lenzang) \nCharles-Marie Widor\n– Allegro Vivace\n(Uit Symphonie 5) \nGordon Young\n– Cathedral Suite\n– Praeludium\n– Allemande\n– Aria\n– Rigaudon\n– Sarabande\n– Toccata \nFeike Asma\n– Fantasie over de Avondzang
URL:https://www.everhardzwart.nl/index.php/concert/capelle-a-d-ijssel-nieuwe-westerkerk-3/
LOCATION:Nieuwe Westerkerk Capelle a/d IJssel\, Valeriusrondeel 670\, Capelle aan den IJssel\, 2902CT
CATEGORIES:Orgelconcert,Orgelconcerten
ATTACH;FMTTYPE=image/jpeg:https://www.everhardzwart.nl/wp-content/uploads/2024/05/IMG_6052_768x473_2.jpg
END:VEVENT
BEGIN:VEVENT
DTSTART;TZID=Europe/Amsterdam:20240813T200000
DTEND;TZID=Europe/Amsterdam:20240813T213000
DTSTAMP:20260420T003947
CREATED:20240512T052427Z
LAST-MODIFIED:20240811T112503Z
UID:11177-1723579200-1723584600@www.everhardzwart.nl
SUMMARY:Apeldoorn\, Grote Kerk
DESCRIPTION:Orgelconcert \nProgramma : Willem Hendrik Zwart\, Twee liedbewerkingen ; Johann Sebastian Bach\, Praeludium und Fuge h-moll ; Alexandre Guilmant\, Lamentation ; César Franck\, Prélude\, Fugue et Variation ; Aloys Claussmann\, Scherzo ; Thédore Dubois\, Toccata ; Jan Zwart\, Fantasie over “Een vaste burcht is onze God”
URL:https://www.everhardzwart.nl/index.php/concert/apeldoorn-grote-kerk-6/
LOCATION:Grote Kerk\, Apeldoorn\, Loolaan 16\, Apeldoorn\, 7315 AB
CATEGORIES:Orgelconcert,Orgelconcerten
ATTACH;FMTTYPE=image/jpeg:https://www.everhardzwart.nl/wp-content/uploads/2018/06/Apeldoorn-Grote-Kerk.jpg
END:VEVENT
BEGIN:VEVENT
DTSTART;TZID=Europe/Amsterdam:20240812T200000
DTEND;TZID=Europe/Amsterdam:20240812T210000
DTSTAMP:20260420T003947
CREATED:20240512T045839Z
LAST-MODIFIED:20240811T112145Z
UID:11164-1723492800-1723496400@www.everhardzwart.nl
SUMMARY:Capelle a/d IJssel\, Nieuwe Westerkerk
DESCRIPTION:36-ste Zomerserie orgelconcerten op maandagavond \nProgramma:\nJan Zwart\, Canonisch voorspel en koraal Psalm 84 ; Tomaso Albinoni\, Adagio ; Dietrich Buxtehude\, Praeludium und Fuge D-Dur ; Johann GottfriedWalther\, Concerto h-moll ; Frits Tollig\, Marche Heroïque ; Aloys Claussmann\, Scherzo ; Charles-Marie Widor\, Pastorale ; Théodore Dubois\, Toccata ; Rutger van Mazijk\, Fantasie over Psalm 150
URL:https://www.everhardzwart.nl/index.php/concert/capelle-a-d-ijssel-nieuwe-westerkerk-2/
LOCATION:Nieuwe Westerkerk Capelle a/d IJssel\, Valeriusrondeel 670\, Capelle aan den IJssel\, 2902CT
CATEGORIES:Orgelconcert,Orgelconcerten
ATTACH;FMTTYPE=image/jpeg:https://www.everhardzwart.nl/wp-content/uploads/2024/05/Everhard-klavier.jpg
END:VEVENT
BEGIN:VEVENT
DTSTART;TZID=Europe/Amsterdam:20240807T200000
DTEND;TZID=Europe/Amsterdam:20240807T210000
DTSTAMP:20260420T003947
CREATED:20240512T051903Z
LAST-MODIFIED:20240512T083857Z
UID:11173-1723060800-1723064400@www.everhardzwart.nl
SUMMARY:Tiel\, St. Maartenskerk
DESCRIPTION:Orgelconcert Feike Asma herdenking
URL:https://www.everhardzwart.nl/index.php/concert/tiel-st-maartenskerk/
LOCATION:St. Maartenskerk\, Tiel\, Kerkplein 3\, Tiel
CATEGORIES:Orgelconcert,Orgelconcerten
ATTACH;FMTTYPE=image/jpeg:https://www.everhardzwart.nl/wp-content/uploads/2024/05/2-Orgel-St.Maartenskerk-TIEL.jpg
END:VEVENT
BEGIN:VEVENT
DTSTART;TZID=Europe/Amsterdam:20240805T200000
DTEND;TZID=Europe/Amsterdam:20240805T210000
DTSTAMP:20260420T003947
CREATED:20240512T045215Z
LAST-MODIFIED:20240512T045435Z
UID:11160-1722888000-1722891600@www.everhardzwart.nl
SUMMARY:Capelle a/d IJssel\, Nieuwe Westerkerk
DESCRIPTION:36-ste Zomerserie orgelconcerten op maandagavond \n 
URL:https://www.everhardzwart.nl/index.php/concert/capelle-a-d-ijssel-nieuwe-westerkerk/
LOCATION:Nieuwe Westerkerk Capelle a/d IJssel\, Valeriusrondeel 670\, Capelle aan den IJssel\, 2902CT
CATEGORIES:Orgelconcert,Orgelconcerten
ATTACH;FMTTYPE=image/jpeg:https://www.everhardzwart.nl/wp-content/uploads/2018/06/Capelle-ad-IJssel-Westerkerk.jpg
END:VEVENT
BEGIN:VEVENT
DTSTART;TZID=Europe/Amsterdam:20240730T200000
DTEND;TZID=Europe/Amsterdam:20240730T210000
DTSTAMP:20260420T003947
CREATED:20240525T165824Z
LAST-MODIFIED:20240725T145918Z
UID:11198-1722369600-1722373200@www.everhardzwart.nl
SUMMARY:Zuid-Scharwoude - Koogerkerk
DESCRIPTION:Orgelconcert \nWerken van Jan Zwart\, J.S.Bach\, G.F.Händel\, J.G.Walther\, Ch.M.Widor\, Aloys Claussmann\, A.Ketelbey\, A.Guilmant en Willem Hendrik Zwart
URL:https://www.everhardzwart.nl/index.php/concert/zuid-scharwoude-koogerkerk/
LOCATION:Zuid-Scharwoude\, Koog 30\, Zuid-Scharwoude\, 1722EM
CATEGORIES:Orgelconcert,Orgelconcerten
ATTACH;FMTTYPE=image/jpeg:https://www.everhardzwart.nl/wp-content/uploads/2024/05/vandam-orgel-zuid-scharwoude.jpg
END:VEVENT
BEGIN:VEVENT
DTSTART;TZID=Europe/Amsterdam:20240723T201500
DTEND;TZID=Europe/Amsterdam:20240723T213000
DTSTAMP:20260420T003947
CREATED:20240512T044800Z
LAST-MODIFIED:20240718T071055Z
UID:11158-1721765700-1721770200@www.everhardzwart.nl
SUMMARY:Katwijk aan Zee\, Vredeskerk
DESCRIPTION:Feike Asma\nFantasie “Komt als kind’ren van het Licht” \nGeorg Friedrich Händel\nAir and Hornpipe.   (uit Suite Watermusic) \nJohan Sebastian Bach\nPraeludium und Fuge a-moll \nWillem Hendrik Zwart\nFantasie Psalm 25 \nFrits Tollig\nMarche Héroique \nCharles-Marie Widor\nPastorale \nAlexandre Guilmant\nFinale \nJan Zwart\nToccata Psalm 146
URL:https://www.everhardzwart.nl/index.php/concert/katwijk-aan-zee-vredeskerk-5/
LOCATION:Vredeskerk\, Katwijk aan Zee\, Baljuwplein 1\, Katwijk aan Zee\, 2225 BR
CATEGORIES:Orgelconcert,Orgelconcerten
ATTACH;FMTTYPE=image/jpeg:https://www.everhardzwart.nl/wp-content/uploads/2018/06/Katwijk-Vredeskerk.jpg
END:VEVENT
BEGIN:VEVENT
DTSTART;TZID=Europe/Amsterdam:20240720T200000
DTEND;TZID=Europe/Amsterdam:20240720T210000
DTSTAMP:20260420T003947
CREATED:20240509T063943Z
LAST-MODIFIED:20240703T153709Z
UID:11153-1721505600-1721509200@www.everhardzwart.nl
SUMMARY:Hasselt\, Grote- of Stephanuskerk
DESCRIPTION:Programma \nJan Zwart  (1877 – 1937)\nOuverture “Dankt\, dankt nu allen God” – “Wilt heden nu treden” \nJohann Sebastian Bach  (1685 – 1750)\nPraeludium und Fuge  a-moll \nMichael Christian Festing  (1705 – 1752)\nLargo\, Allegro Aria & two Variations \nFelix Mendelssohn Bartholdy  (1809 – 1847)\nSonata  IV\n– Allegro con brio\n– Andante religioso\n– Allegretto\n– Allegro maestoso e vivace \nAloys Clausmann  (1850 – 1926)\nScherzo \nAuguste Durand  (1830 – 1909)\nChacone \nAlexandre Guilmant  (1837 – 1911)\nFinal \nJan Zwart  (1877 – 1937)\n– Liedbewerking “Neem\, Heer\, mijn beide handen”\n– Postludium “Alle roem is uitgesloten”
URL:https://www.everhardzwart.nl/index.php/concert/hasselt-grote-kerk-2/
LOCATION:Grote Kerk\, Hasselt\, Weesboom 12\, Hasselt\, 8061 LR
CATEGORIES:Orgelconcert,Orgelconcerten
ATTACH;FMTTYPE=image/jpeg:https://www.everhardzwart.nl/wp-content/uploads/2024/05/Hasselt-orgel-Grote-Kerk.jpg
END:VEVENT
BEGIN:VEVENT
DTSTART;TZID=Europe/Amsterdam:20240719T200000
DTEND;TZID=Europe/Amsterdam:20240719T210000
DTSTAMP:20260420T003947
CREATED:20240705T195016Z
LAST-MODIFIED:20240718T071207Z
UID:11220-1721419200-1721422800@www.everhardzwart.nl
SUMMARY:Harlingen\, Grote Kerk
DESCRIPTION:Frits Tollig\nMarche Héroique \nJohann Sebastian Bach\nSiciliano – BWV 103   (arr. Feike Asma) \nMichael Christian Festing\nLargo\, Allegro Aria & two Variations \nJohann Gottfried Walther\nConcerto h-moll\nAllegro – Agdagio – Allegro \nJan Zwart\nSombere muziek over Psalm 103\n“Gelijk het gras is ons kortstondig leven” \nFelix Mendelssohn Bartholdy \nSonata  IV\n– Allegro con brio\n– Andante religioso\n– Allegretto\n– Allegro maestoso e vivace \nJan Zwart\nFantasie over het Lutherlied\n“Een vaste burcht is onze God”
URL:https://www.everhardzwart.nl/index.php/concert/harlingen-grote-kerk/
LOCATION:Harlingen\, Kerkpad 3\, Harlingen\, 8861 ES
CATEGORIES:Orgelconcert
ATTACH;FMTTYPE=image/jpeg:https://www.everhardzwart.nl/wp-content/uploads/2024/07/Harlingen.jpg
END:VEVENT
BEGIN:VEVENT
DTSTART;TZID=Europe/Amsterdam:20240708T200000
DTEND;TZID=Europe/Amsterdam:20240708T200000
DTSTAMP:20260420T003947
CREATED:20240509T061949Z
LAST-MODIFIED:20240509T061949Z
UID:11150-1720468800-1720468800@www.everhardzwart.nl
SUMMARY:Beekbergen\, Hervormde Kerk
DESCRIPTION:Concert door Boudewijn Zwart en Everhard Zwart\nmet orgel\, beiaard en piano \nOrgelsolo\nFantasie “Op bergen en in dalen”  – Willem Hendrik Zwart \nOrgel & Beiaard\nCanon en Prelude in d – Johann Pachelbel \nOrgelsolo\nScherzo Aloys – Claussmann \nOrgel & Beiaard\nTwee Italiaanse composities\n– Psaume CVIX “Il ceuli immensi”  – Benedetto Marcello\n– Gavotte  – Giovani Battista Martini \nPianosolo\nImprovisatie  –  Boudewijn Zwart \nOrgel & Beiaard\nTwee Franse composities\nLe Cygne (uit: Carnaval des Animeaux)  – Camille Saint-Saëns\nToccata en re minuer   – Albert Renaud \nOrgelsolo\nToccata Psalm 146 – Jan Zwart
URL:https://www.everhardzwart.nl/index.php/concert/beekbergen-hervormde-kerk-3/
LOCATION:Hervormde Kerk Beekbergen\, Kerkweg 35\, Beekbergen\, 7361 BD
CATEGORIES:Orgel en beiaard,Orgel Plus,Orgelconcert,Orgelconcerten
ATTACH;FMTTYPE=image/jpeg:https://www.everhardzwart.nl/wp-content/uploads/2018/06/Beekbergen.jpg
END:VEVENT
END:VCALENDAR