BEGIN:VCALENDAR
VERSION:2.0
PRODID:-//Everhard Zwart - ECPv6.15.20//NONSGML v1.0//EN
CALSCALE:GREGORIAN
METHOD:PUBLISH
X-WR-CALNAME:Everhard Zwart
X-ORIGINAL-URL:https://www.everhardzwart.nl
X-WR-CALDESC:Evenementen voor Everhard Zwart
REFRESH-INTERVAL;VALUE=DURATION:PT1H
X-Robots-Tag:noindex
X-PUBLISHED-TTL:PT1H
BEGIN:VTIMEZONE
TZID:Europe/Amsterdam
BEGIN:DAYLIGHT
TZOFFSETFROM:+0100
TZOFFSETTO:+0200
TZNAME:CEST
DTSTART:20170326T010000
END:DAYLIGHT
BEGIN:STANDARD
TZOFFSETFROM:+0200
TZOFFSETTO:+0100
TZNAME:CET
DTSTART:20171029T010000
END:STANDARD
BEGIN:DAYLIGHT
TZOFFSETFROM:+0100
TZOFFSETTO:+0200
TZNAME:CEST
DTSTART:20180325T010000
END:DAYLIGHT
BEGIN:STANDARD
TZOFFSETFROM:+0200
TZOFFSETTO:+0100
TZNAME:CET
DTSTART:20181028T010000
END:STANDARD
BEGIN:DAYLIGHT
TZOFFSETFROM:+0100
TZOFFSETTO:+0200
TZNAME:CEST
DTSTART:20190331T010000
END:DAYLIGHT
BEGIN:STANDARD
TZOFFSETFROM:+0200
TZOFFSETTO:+0100
TZNAME:CET
DTSTART:20191027T010000
END:STANDARD
BEGIN:DAYLIGHT
TZOFFSETFROM:+0100
TZOFFSETTO:+0200
TZNAME:CEST
DTSTART:20200329T010000
END:DAYLIGHT
BEGIN:STANDARD
TZOFFSETFROM:+0200
TZOFFSETTO:+0100
TZNAME:CET
DTSTART:20201025T010000
END:STANDARD
END:VTIMEZONE
BEGIN:VEVENT
DTSTART;TZID=Europe/Amsterdam:20190601T200000
DTEND;TZID=Europe/Amsterdam:20190601T213000
DTSTAMP:20260421T224931
CREATED:20190107T120745Z
LAST-MODIFIED:20190506T092326Z
UID:2227-1559419200-1559424600@www.everhardzwart.nl
SUMMARY:Lemelerveld\, Willem Hendrik Zwart-hal
DESCRIPTION:Concert in de jubileumtour “40 jaar Concertorganist” \nWillem Hendrik Zwart  \n– Fantasie “Op bergen en in dalen” \n– Meditatie “O Heer\, die onze Vader zijt” \n– Fantasie Psalm 25 \n  \nGeorg Friedrich Händel  \nBasso Ostinato \n(uit Concerto 11) \n  \nTomaso Albinoni  \nAdagio  g-minor \n  \nJohann Sebastian Bach \nFantasia et Fuga  c-moll \nBWV 537 \n  \nFélix Mendelssohn-Bartholdy \nSonate 1 \n– Allegro moderato e serioso \n– Adagio \n– Andante recitativo \n– Allegro assai Vivace \n  \nWilliam Reed \n– Cantabilé \n– Grand Choeur \n  \nThomas Åberg \nFantasy a-minor \n  \nAivars Kalejs \nToccata über den Choral \n“Allein Gott in der Höh’ sei Ehr’” \n  \n 
URL:https://www.everhardzwart.nl/index.php/concert/lemelerveld-willem-hendrik-zwart-hal/
LOCATION:Willem Hendrik Zwart Hal\, Grensweg 17\, Lemelerveld\, 8153 RB
CATEGORIES:Orgelconcerten
ATTACH;FMTTYPE=image/jpeg:https://www.everhardzwart.nl/wp-content/uploads/2017/12/WillemHendrikZwarthalLemelerveld2.jpg
END:VEVENT
BEGIN:VEVENT
DTSTART;TZID=Europe/Amsterdam:20190529T124000
DTEND;TZID=Europe/Amsterdam:20190529T130000
DTSTAMP:20260421T224931
CREATED:20190107T193415Z
LAST-MODIFIED:20190107T193415Z
UID:2296-1559133600-1559134800@www.everhardzwart.nl
SUMMARY:Amsterdam\, Engelse Kerk (Begijnhof)
DESCRIPTION:Alle Dag Kerk \nDs. Bas van der Graaf (Amsterdam) \nEverhard Zwart – orgel \nSamenzang vanaf 12.25 uur
URL:https://www.everhardzwart.nl/index.php/concert/amsterdam-engelse-kerk-begijnhof-16/
LOCATION:Engelse Kerk Begijnhof\, Amsterdam\, Begijnhof 48\, Amsterdam\, 1012 WV
CATEGORIES:Middagpauzedienst
ATTACH;FMTTYPE=image/jpeg:https://www.everhardzwart.nl/wp-content/uploads/2018/01/orgeltje-engelse-kerk.jpg
END:VEVENT
BEGIN:VEVENT
DTSTART;TZID=Europe/Amsterdam:20190511T193000
DTEND;TZID=Europe/Amsterdam:20190511T203000
DTSTAMP:20260421T224931
CREATED:20190107T120422Z
LAST-MODIFIED:20190506T092215Z
UID:2223-1557603000-1557606600@www.everhardzwart.nl
SUMMARY:Urk\, Ichthuskerk
DESCRIPTION:Concert in jubileumtour “40 jaar Concertorganist” \nJan Zwart \n– Fantasie-toccatine Psalm 33 \n– Liedbewerking “Neem\, Heer\, mijn beide handen” \n  \nGeorg Friedrich Händel \nConcerto 6 (Bes-dur) \n– Allegro \n– Andante \n– Allegro \n  \nJohann Sebastian Bach \nFantasia et Fuga g-moll \nBWV 542 \n  \nFélix Mendelssohn-Bartholdy \nSonate 1 \n– Allegro moderato e serioso \n– Adagio \n– Andante recitativo \n– Allegro assai Vivace \n  \nAlexandre Guilmant \nSonate 3 \n– Allegro maestoso e con fuoco \n– Adagio molto \n– Fuga \n  \nWillem Hendrik Zwart \n– Canonische bewerking Psalm 6 \n– Toccata Psalm 146
URL:https://www.everhardzwart.nl/index.php/concert/urk-ichthuskerk/
LOCATION:Ichthuskerk\, Urk\, Richel 2\, Urk\, 8321 RX
CATEGORIES:Orgelconcerten
ATTACH;FMTTYPE=image/jpeg:https://www.everhardzwart.nl/wp-content/uploads/2019/01/Ichthuskerk-Urk.jpg
END:VEVENT
BEGIN:VEVENT
DTSTART;TZID=Europe/Amsterdam:20190508T124000
DTEND;TZID=Europe/Amsterdam:20190508T130000
DTSTAMP:20260421T224931
CREATED:20190107T193214Z
LAST-MODIFIED:20190107T193214Z
UID:2294-1557319200-1557320400@www.everhardzwart.nl
SUMMARY:Amsterdam\, Engelse Kerk (Begijnhof)
DESCRIPTION:Alle Dag Kerk \nDs. Teus Prins (Aalsmeer) \nEverhard Zwart – orgel \nSamenzang vanaf 12.25 uur
URL:https://www.everhardzwart.nl/index.php/concert/amsterdam-engelse-kerk-begijnhof-15/
LOCATION:Engelse Kerk Begijnhof\, Amsterdam\, Begijnhof 48\, Amsterdam\, 1012 WV
CATEGORIES:Middagpauzedienst
ATTACH;FMTTYPE=image/jpeg:https://www.everhardzwart.nl/wp-content/uploads/2018/01/orgeltje-engelse-kerk.jpg
END:VEVENT
BEGIN:VEVENT
DTSTART;TZID=Europe/Amsterdam:20190428T190000
DTEND;TZID=Europe/Amsterdam:20190428T200000
DTSTAMP:20260421T224931
CREATED:20190423T083529Z
LAST-MODIFIED:20190423T083529Z
UID:2360-1556478000-1556481600@www.everhardzwart.nl
SUMMARY:Amsterdam\, Engelse Kerk (Begijnhof)
DESCRIPTION:Diensten met Belangstellenden \nVoorganger: Ds. Andre F. Troost\, Ermelo \nEverhard Zwart – orgel & Hidde Zwart – trompet \n 
URL:https://www.everhardzwart.nl/index.php/concert/amsterdam-engelse-kerk-begijnhof-22/
LOCATION:Engelse Kerk Begijnhof\, Amsterdam\, Begijnhof 48\, Amsterdam\, 1012 WV
CATEGORIES:Kerkdiensten
ATTACH;FMTTYPE=image/jpeg:https://www.everhardzwart.nl/wp-content/uploads/2017/09/Everhard-en-Hidde-Zwart-amsterdam-1-2.jpg
END:VEVENT
BEGIN:VEVENT
DTSTART;TZID=Europe/Amsterdam:20190427T193000
DTEND;TZID=Europe/Amsterdam:20190427T210000
DTSTAMP:20260421T224931
CREATED:20190107T115917Z
LAST-MODIFIED:20190423T083102Z
UID:2221-1556393400-1556398800@www.everhardzwart.nl
SUMMARY:Terneuzen\, Grote Kerk
DESCRIPTION:Concert in jubileumtour “40 jaar Concertorganist” \nm.m.v. Tim Bouwsma – koororgel \n  \nJan Zwart  \nOuverture \n“Dankt\, dankt nu allen God”\n“Wilt heden nu treden” \n  \nJohn Stanley  \nAir in d minor \narr. Feike Asma \n  \nGeorg Friedrich Händel (op twee orgels)                  \nConcerto 5  F-dur \n– Larghetto \n– Allegro \n– Alla siciliano \n– Presto \n  \nWillem Mudde  \nVariaties “O Nederland let op uw saeck” \n  \nJosef Blanco (op twee orgels)                                      \nConcerto de dos Organos \n  \nJacques-Nicolas Lemmens  \nFanfare \n  \nFeike Asma  \nHollandse Rhapsody \n  \nFrits Tollig  \nMarche Héroique \n  \nJan Zwart  \nFantasia alla marcia over het Wilhelmus \nmet de bede uit Psalm 134 “Dat ’s Heren zege op u daal” \n 
URL:https://www.everhardzwart.nl/index.php/concert/terneuzen-grote-kerk/
LOCATION:Grote Kerk Terneuzen\, Noordstraat 62\, Terneuzen\, 4531 GJ
CATEGORIES:Orgelconcerten
ATTACH;FMTTYPE=image/jpeg:https://www.everhardzwart.nl/wp-content/uploads/2018/01/Grote-Kerk-Terneuzen.jpg
END:VEVENT
BEGIN:VEVENT
DTSTART;TZID=Europe/Amsterdam:20190422T193000
DTEND;TZID=Europe/Amsterdam:20190422T210000
DTSTAMP:20260421T224931
CREATED:20190107T115418Z
LAST-MODIFIED:20190416T110120Z
UID:2217-1555961400-1555966800@www.everhardzwart.nl
SUMMARY:Katwijk aan Zee\, Nieuwe Kerk
DESCRIPTION:2e Paasdag \nConcert in jubileumtour “40 jaar Concertorganist” \nProgramma \nCarol Williams (1962) \nSuite (opus 5)                                                                      \n– Festiva!                                                                   \n– Mirage \n– Frisian March \n  \nJohann Sebastian Bach (1685 – 1750) \nPraeludium und Fuge a-moll (BWV 543) \n  \nJan Zwart (1877 – 1937)\nIntroïtus “Christus is opgestaan” \nFantasie “Daar juicht een toon” \n  \nJohannes Barend Litzau (1822 – 1893) \nAria “Agnus Dei” \n(aus der h-moll Messe von J.S.Bach) \n  \nThomas Åberg (1952) \nToccata – dedicated to Everhard Zwart –  \n  \nCésar Franck (1822 – 1890) \nChoral III \n  \nAivars Kalejs (1951) \nToccata über den Choral                         \n“Allein Gott in der Höh’ sei Ehr’”
URL:https://www.everhardzwart.nl/index.php/concert/katwijk-aan-zee-nieuwe-kerk/
LOCATION:Nieuwe Kerk Katwijk\, Voorstraat 79\, Katwijk aan Zee\, 2225 EM
CATEGORIES:Orgelconcerten
ATTACH;FMTTYPE=image/jpeg:https://www.everhardzwart.nl/wp-content/uploads/2019/01/Nieuwe-Kerk-Katwijk-aan-Zee.jpg
END:VEVENT
BEGIN:VEVENT
DTSTART;TZID=Europe/Amsterdam:20190420T140000
DTEND;TZID=Europe/Amsterdam:20190420T160000
DTSTAMP:20260421T224931
CREATED:20190107T114726Z
LAST-MODIFIED:20190327T075508Z
UID:2212-1555768800-1555776000@www.everhardzwart.nl
SUMMARY:Kampen\, Bovenkerk
DESCRIPTION:Orgelconcert samen met Vincent de Vries
URL:https://www.everhardzwart.nl/index.php/concert/zutphen-grote-of-walburgiskerk/
LOCATION:Bovenkerk Kampen\, Koornmarkt 28\, Kampen\, 8261 JX
CATEGORIES:Orgelconcerten
ATTACH;FMTTYPE=image/jpeg:https://www.everhardzwart.nl/wp-content/uploads/2019/01/orgel.jpg
END:VEVENT
BEGIN:VEVENT
DTSTART;TZID=Europe/Amsterdam:20190417T124000
DTEND;TZID=Europe/Amsterdam:20190417T130000
DTSTAMP:20260421T224931
CREATED:20190107T193024Z
LAST-MODIFIED:20190107T193024Z
UID:2292-1555504800-1555506000@www.everhardzwart.nl
SUMMARY:Amsterdam\, Engelse Kerk (Begijnhof)
DESCRIPTION:Alle Dag Kerk \nPastor Joost Verhoef (Amsterdam) \nEverhard Zwart – orgel \nSamenzang vanaf 12.25 uur
URL:https://www.everhardzwart.nl/index.php/concert/amsterdam-engelse-kerk-begijnhof-14/
LOCATION:Engelse Kerk Begijnhof\, Amsterdam\, Begijnhof 48\, Amsterdam\, 1012 WV
CATEGORIES:Middagpauzedienst
ATTACH;FMTTYPE=image/jpeg:https://www.everhardzwart.nl/wp-content/uploads/2018/01/orgeltje-engelse-kerk.jpg
END:VEVENT
BEGIN:VEVENT
DTSTART;TZID=Europe/Amsterdam:20190327T124000
DTEND;TZID=Europe/Amsterdam:20190327T130000
DTSTAMP:20260421T224931
CREATED:20190107T192821Z
LAST-MODIFIED:20190107T192821Z
UID:2290-1553690400-1553691600@www.everhardzwart.nl
SUMMARY:Amsterdam\, Engelse Kerk (Begijnhof)
DESCRIPTION:Alle Dag Kerk \nDs. Annette Driebergen (Noordeloos) \nEverhard Zwart – orgel \nSamenzang vanaf 12.25 uur
URL:https://www.everhardzwart.nl/index.php/concert/amsterdam-engelse-kerk-begijnhof-13/
LOCATION:Engelse Kerk Begijnhof\, Amsterdam\, Begijnhof 48\, Amsterdam\, 1012 WV
CATEGORIES:Middagpauzedienst
ATTACH;FMTTYPE=image/jpeg:https://www.everhardzwart.nl/wp-content/uploads/2018/01/orgeltje-engelse-kerk.jpg
END:VEVENT
BEGIN:VEVENT
DTSTART;VALUE=DATE:20190324
DTEND;VALUE=DATE:20190325
DTSTAMP:20260421T224931
CREATED:20190107T195257Z
LAST-MODIFIED:20190107T195257Z
UID:2304-1553385600-1553471999@www.everhardzwart.nl
SUMMARY:Amsterdam\, Engelse Kerk (Begijnhof)
DESCRIPTION:Diensten met Belangstellenden \nds. Wim Scheltens\, Lunteren \nEverhard Zwart – orgel \nHidde Zwart – trompet
URL:https://www.everhardzwart.nl/index.php/concert/amsterdam-engelse-kerk-begijnhof-20/
LOCATION:Engelse Kerk Begijnhof\, Amsterdam\, Begijnhof 48\, Amsterdam\, 1012 WV
CATEGORIES:Kerkdiensten
ATTACH;FMTTYPE=image/jpeg:https://www.everhardzwart.nl/wp-content/uploads/2017/09/Everhard-en-Hidde-Zwart-amsterdam-1-2.jpg
END:VEVENT
BEGIN:VEVENT
DTSTART;TZID=Europe/Amsterdam:20190312T200000
DTEND;TZID=Europe/Amsterdam:20190312T211500
DTSTAMP:20260421T224931
CREATED:20190107T114429Z
LAST-MODIFIED:20190311T115248Z
UID:2208-1552420800-1552425300@www.everhardzwart.nl
SUMMARY:Volendam\, St. Vincestiuskerk
DESCRIPTION:Concert in jubileumtour “40 jaar Concertorganist” \nProgramma \nThomas Åberg (1952) \nFantasy in a-minor                                                \n  \nJohann Sebastian Bach (1685 – 1750) \nChoralvorspiel “Wer nur den lieben Gott läßt walten” \n  \nJohann Sebastian Bach (1685 – 1750) \nPraeludium und Fuge a-moll (BWV 543) \n  \nCésar Franck (1822 – 1890) \nPastorale (opus 19) \n  \nJoseph Renner jun. (1868 – 1934) \nThema mit Variationen \n  \nCarol Williams (1962) \nSuite (opus 5)                                                                      \n– Festiva!                                                                   \n– Mirage \n– Frisian March \n  \nWillem Hendrik Zwart (1925 – 1997) \nToccata Psalm 146
URL:https://www.everhardzwart.nl/index.php/concert/volendam-st-vincesciuskerk/
LOCATION:St. Vincentiuskerk\, Kerkepad 1\, Volendam\, 1131 CX
CATEGORIES:Orgelconcerten
ATTACH;FMTTYPE=image/jpeg:https://www.everhardzwart.nl/wp-content/uploads/2019/01/St.Vincenciuskerk-Volendam.jpg
END:VEVENT
BEGIN:VEVENT
DTSTART;TZID=Europe/Amsterdam:20190310T190000
DTEND;TZID=Europe/Amsterdam:20190310T200000
DTSTAMP:20260421T224931
CREATED:20190107T194912Z
LAST-MODIFIED:20190107T194912Z
UID:2302-1552244400-1552248000@www.everhardzwart.nl
SUMMARY:Amsterdam\, Engelse Kerk (Begijnhof)
DESCRIPTION:Diensten met Belangstellenden \nds. Peter van Dolderen\, Almere \nEverhard Zwart – orgel \nHidde Zwart – trompet
URL:https://www.everhardzwart.nl/index.php/concert/amsterdam-engelse-kerk-begijnhof-19/
LOCATION:Engelse Kerk Begijnhof\, Amsterdam\, Begijnhof 48\, Amsterdam\, 1012 WV
CATEGORIES:Kerkdiensten
ATTACH;FMTTYPE=image/jpeg:https://www.everhardzwart.nl/wp-content/uploads/2017/09/Everhard-en-Hidde-Zwart-amsterdam-1-2.jpg
END:VEVENT
BEGIN:VEVENT
DTSTART;TZID=Europe/Amsterdam:20190306T124000
DTEND;TZID=Europe/Amsterdam:20190306T130000
DTSTAMP:20260421T224931
CREATED:20190107T192618Z
LAST-MODIFIED:20190107T192618Z
UID:2288-1551876000-1551877200@www.everhardzwart.nl
SUMMARY:Amsterdam\, Engelse Kerk (Begijnhof)
DESCRIPTION:Alle Dag Kerk \nDr. Wouter Klouwen (Baarn) \nEverhard Zwart – orgel \nSamenzang vanaf 12.25 uur
URL:https://www.everhardzwart.nl/index.php/concert/amsterdam-engelse-kerk-begijnhof-12/
LOCATION:Engelse Kerk Begijnhof\, Amsterdam\, Begijnhof 48\, Amsterdam\, 1012 WV
CATEGORIES:Middagpauzedienst
ATTACH;FMTTYPE=image/jpeg:https://www.everhardzwart.nl/wp-content/uploads/2017/08/orgeltje-engelse-kerk.jpg
END:VEVENT
BEGIN:VEVENT
DTSTART;TZID=Europe/Amsterdam:20190227T124000
DTEND;TZID=Europe/Amsterdam:20190227T130000
DTSTAMP:20260421T224931
CREATED:20190221T125706Z
LAST-MODIFIED:20190221T125706Z
UID:2330-1551271200-1551272400@www.everhardzwart.nl
SUMMARY:Amsterdam\, Engelse Kerk (Begijnhof)
DESCRIPTION:Alle dag kerk \nvoorganger: Ds. Ruud Stiemer\, ‘s Hertogenbosch \norgel: Everhard Zwart \n  \nsamenzang vanaf 12.25 uur
URL:https://www.everhardzwart.nl/index.php/concert/amsterdam-engelse-kerk-begijnhof-21/
LOCATION:Engelse Kerk Begijnhof\, Amsterdam\, Begijnhof 48\, Amsterdam\, 1012 WV
CATEGORIES:Middagpauzedienst
ATTACH;FMTTYPE=image/jpeg:https://www.everhardzwart.nl/wp-content/uploads/2019/02/engelse-hervormde-kerk-orgel.jpg
END:VEVENT
BEGIN:VEVENT
DTSTART;TZID=Europe/Amsterdam:20190213T124000
DTEND;TZID=Europe/Amsterdam:20190213T130000
DTSTAMP:20260421T224931
CREATED:20190107T192407Z
LAST-MODIFIED:20190107T192407Z
UID:2286-1550061600-1550062800@www.everhardzwart.nl
SUMMARY:Amsterdam\, Engelse Kerk (Begijnhof)
DESCRIPTION:Alle Dag Kerk \nDs. Ruben van Zwieten (Amsterdam) \nEverhard Zwart – orgel \nSamenzang vanaf 12.25 uur
URL:https://www.everhardzwart.nl/index.php/concert/amsterdam-engelse-kerk-begijnhof-11/
LOCATION:Engelse Kerk Begijnhof\, Amsterdam\, Begijnhof 48\, Amsterdam\, 1012 WV
CATEGORIES:Middagpauzedienst
ATTACH;FMTTYPE=image/jpeg:https://www.everhardzwart.nl/wp-content/uploads/2017/08/orgeltje-engelse-kerk.jpg
END:VEVENT
BEGIN:VEVENT
DTSTART;TZID=Europe/Amsterdam:20190127T190000
DTEND;TZID=Europe/Amsterdam:20190127T200000
DTSTAMP:20260421T224931
CREATED:20190107T194704Z
LAST-MODIFIED:20190107T194704Z
UID:2300-1548615600-1548619200@www.everhardzwart.nl
SUMMARY:Amsterdam\, Engelse Kerk (Begijnhof)
DESCRIPTION:Diensten met Belangstellenden \nDs. Paul Visser (Amsterdam) \nEverhard Zwart – orgel \nHidde Zwart – trompet
URL:https://www.everhardzwart.nl/index.php/concert/amsterdam-engelse-kerk-begijnhof-18/
LOCATION:Engelse Kerk Begijnhof\, Amsterdam\, Begijnhof 48\, Amsterdam\, 1012 WV
CATEGORIES:Kerkdiensten
ATTACH;FMTTYPE=image/jpeg:https://www.everhardzwart.nl/wp-content/uploads/2017/09/Everhard-en-Hidde-Zwart-amsterdam-1-2.jpg
END:VEVENT
BEGIN:VEVENT
DTSTART;TZID=Europe/Amsterdam:20190123T124000
DTEND;TZID=Europe/Amsterdam:20190123T130000
DTSTAMP:20260421T224931
CREATED:20190107T192049Z
LAST-MODIFIED:20190107T192049Z
UID:2284-1548247200-1548248400@www.everhardzwart.nl
SUMMARY:Amsterdam\, Engelse Kerk (Begijnhof)
DESCRIPTION:Alle Dag Kerk \nDs. Erick Versloot (Mijdrecht) \nEverhard Zwart -orgel \nSamenzang vanaf 12.25 uur
URL:https://www.everhardzwart.nl/index.php/concert/amsterdam-engelse-kerk-begijnhof-10/
LOCATION:Engelse Kerk Begijnhof\, Amsterdam\, Begijnhof 48\, Amsterdam\, 1012 WV
CATEGORIES:Middagpauzedienst
ATTACH;FMTTYPE=image/jpeg:https://www.everhardzwart.nl/wp-content/uploads/2017/08/orgeltje-engelse-kerk.jpg
END:VEVENT
BEGIN:VEVENT
DTSTART;TZID=Europe/Amsterdam:20190105T150000
DTEND;TZID=Europe/Amsterdam:20190105T163000
DTSTAMP:20260421T224931
CREATED:20181127T140504Z
LAST-MODIFIED:20181222T081517Z
UID:2187-1546700400-1546705800@www.everhardzwart.nl
SUMMARY:Kampen\, Nieuwjaarsconcert
DESCRIPTION:Opening jubileumjaar 40 jaar organist \nFeike Asma  \nFantasie “Komt als kind’ren van het licht” \n  \nWillem Hendrik Zwart  \nVariaties “O God\, die droeg ons voorgeslacht” \n  \nJohann Sebastian Bach  \nFantasia et Fuga g-moll      BWV 542 \n  \nSigfrid Karg-Elert  \n“O Durchbrecher aller Bände” \n“Nun danket alle Gott” \n  \nCharles-Marie Widor  \nUit Symphonie 2 \nPastorale \nFinale \n  \nGordon Young   \nCathedral Suite \nPraeludium \nAllemande \nAria \nRigaudon \nSarabande \nToccata \n  \nWillem Hendrik Zwart  \nOrgelkoraal Psalm 91 “Hij\, die op Gods bescherming wacht”\nToccata Psalm 146 “Prijs de Heer met blijde galmen” \n 
URL:https://www.everhardzwart.nl/index.php/concert/kampen-nieuwjaarsconcert/
LOCATION:Bovenkerk Kampen\, Koornmarkt 28\, Kampen\, 8261 JX
CATEGORIES:Orgelconcerten
END:VEVENT
BEGIN:VEVENT
DTSTART;TZID=Europe/Amsterdam:20190102T124000
DTEND;TZID=Europe/Amsterdam:20190102T130000
DTSTAMP:20260421T224931
CREATED:20181126T142531Z
LAST-MODIFIED:20181126T142531Z
UID:2181-1546432800-1546434000@www.everhardzwart.nl
SUMMARY:Alledagkerk Amsterdam
DESCRIPTION:Dienst van Stichting Alledag Kerk te Amsterdam \nVoorganger nog niet bekend\, \nOrgel Everhard Zwart \nsamenzang vanaf 12.25 uur \n  \n 
URL:https://www.everhardzwart.nl/index.php/concert/alledagkerk-amsterdam-2/
LOCATION:Engelse Kerk Begijnhof\, Amsterdam\, Begijnhof 48\, Amsterdam\, 1012 WV
ATTACH;FMTTYPE=image/jpeg:https://www.everhardzwart.nl/wp-content/uploads/2017/09/begijnhof_eng_prot_kerk_10.jpg
END:VEVENT
BEGIN:VEVENT
DTSTART;TZID=Europe/Amsterdam:20181229T150000
DTEND;TZID=Europe/Amsterdam:20181229T170000
DTSTAMP:20260421T224931
CREATED:20181126T142044Z
LAST-MODIFIED:20181203T152506Z
UID:2178-1546095600-1546102800@www.everhardzwart.nl
SUMMARY:Lemelerveld\, W.H. Zwart-hal
DESCRIPTION:Eindejaars Orgelconcert \nProgramma: \nJan Zwart  \nHymne “U alleen\, U loven wij” \nMeditatie “Rust mijn ziel uw God is Koning” \n  \nJohann Sebastian Bach  \nPraeludium un Fuge  a-moll  (BWV 543) \n  \nMichael Christian Festing  \nSonate in E \n– Largo – Allegro – Air with Variations \n  \nFélix Mendelssohn-Bartholdy  \nSonate 2 in C \n– Grave – Adagio \n– Allegro maestoso e vivace \n– Fuga \n  \nAlexandre Guilmant\nLamentation \n  \nCarol Williams \nSuite (opus 5) \n– Festiva! \n– Mirage \n– Frisian March \n  \nWillem Hendrik Zwart  \nFantasie Psalm 90 \n  \n  \n 
URL:https://www.everhardzwart.nl/index.php/concert/lemelerveld-w-h-zwart-hal/
LOCATION:W.H. Zwart hal\, Grensweg 17\, Lemerlerveld
CATEGORIES:Orgelconcerten
ATTACH;FMTTYPE=image/jpeg:https://www.everhardzwart.nl/wp-content/uploads/2017/12/WillemHendrikZwarthalLemelerveld2.jpg
END:VEVENT
BEGIN:VEVENT
DTSTART;TZID=Europe/Amsterdam:20181224T200000
DTEND;TZID=Europe/Amsterdam:20181224T213000
DTSTAMP:20260421T224931
CREATED:20181028T063756Z
LAST-MODIFIED:20181028T063756Z
UID:2143-1545681600-1545687000@www.everhardzwart.nl
SUMMARY:Kerstavond Concertgebouw Amsterdam
DESCRIPTION:Ieder jaar organiseert DmB een kerstavonddienst in Het Koninklijk Concertgebouw van Amsterdam. Ook dit jaar gaan de deuren open om je te verwelkomen voor een feestelijke viering. Feestelijk vanwege de prachtige ambiance van Het Concertgebouw. Feestelijk vanwege de inhoud van de samenkomst. De dienst staat dit jaar onder leiding van dominee Wim Scheltens. \nGratis toegang\n Iedereen is welkom! Net als voorgaande jaren is de toegang gratis. Aan het organiseren van een dergelijk evenement hangt echter een fors prijskaartje. De prijs van één stoel bedraagt € 12\,50. Het zou ontzettend fijn zijn als je bijdraagt in de bestrijding van de onkosten. Er zal een collecte worden gehouden en het is mogelijk om snel\, veilig en gemakkelijk via iDeal te doneren. \nLet op:\nBinnenkort heb je via www.kerstavonddienst.nl de mogelijkheid om voorrangskaarten te kopen\, zodat je verzekerd bent van een stoel. Daarnaast steun je iemand anders die de kosten niet kan dragen. \n De deuren gaan op maandagavond 24 december om 19.30 uur open\, de samenzang start om 19.45 uur en de dienst is van 20.00 – 22.00 uur.  \n Er zijn 1933 plaatsen. Onder alle mensen die in de rij staan\, worden rond 19.00 uur kaarten uitgedeeld. Als je een kaartje ontvangt\, weet je zeker dat je een plekje hebt. Mocht je later komen en geen kaartje hebben gekregen\, dan kijkt het team van Het Concertgebouw of er nog plek vrij is.  \nMuzikale medewerking\n De muzikale medewerking wordt verleend door: \n Koorvereniging Concertante uit Voorburg\nChoral Voices uit Groningen\nKloosterkerkkoor uit s’Gravenhage\nSchola Davidica uit Utrecht\nVocaal Ensemble Magnificat uit Emmen \nMarjolein Kolkert – Sopraan\nMattijs Leffers – Tuba\nBoudewijn Zwart – Vleugel en Carillon\nEverhard Zwart – Orgel \nDaniel’s Orchestra (begeleidingsorkest )bestaande uit strijkers\, harp\, fluit\, hobo\, koperblazers en pauken. \n Dit geheel staat onder leiding van dirigent Daniël Rouwkema\n  
URL:https://www.everhardzwart.nl/index.php/concert/kerstavond-concertgebouw-amsterdam/
LOCATION:Concertgebouw Amsterdam\, Concertgebouwplein 10\, Amsterdam
CATEGORIES:Koor- en samenzang
ATTACH;FMTTYPE=image/jpeg:https://www.everhardzwart.nl/wp-content/uploads/2018/10/concertgebouw.jpg
END:VEVENT
BEGIN:VEVENT
DTSTART;TZID=Europe/Amsterdam:20181220T200000
DTEND;TZID=Europe/Amsterdam:20181220T213000
DTSTAMP:20260421T224931
CREATED:20181126T141013Z
LAST-MODIFIED:20181207T132014Z
UID:2173-1545336000-1545341400@www.everhardzwart.nl
SUMMARY:Puttershoek Kerstconcert Asaf
DESCRIPTION:Kerstzangavond van Chr. gemengde Zangvereniging Asaf Puttershoek \no.l.v. Everhard Zwart \n 
URL:https://www.everhardzwart.nl/index.php/concert/puttershoek-kerstconcert-asaf/
LOCATION:Puttershoek\, Hervormde Kerk\, Kerkplein 1\, Puttershoek
CATEGORIES:Kerst - Koorconcert
ATTACH;FMTTYPE=image/jpeg:https://www.everhardzwart.nl/wp-content/uploads/2015/05/koor_asaf.jpg
END:VEVENT
BEGIN:VEVENT
DTSTART;TZID=Europe/Amsterdam:20181215T190000
DTEND;TZID=Europe/Amsterdam:20181215T203000
DTSTAMP:20260421T224931
CREATED:20181125T063729Z
LAST-MODIFIED:20181125T063729Z
UID:2170-1544900400-1544905800@www.everhardzwart.nl
SUMMARY:Kerstzang aan de IJssel
DESCRIPTION:Traditioneel kerstconcert met \nInterkerkelijk gemengd koor “River Voices” en Chr. Mannenkoor “De IJsselzangers” o.l.v. Everhard Zwart \nInterkerkelijk Kinderkoor “De Regenboog” o.l.v. Hidde Zwart \npiano en KAMER CARILLON – Boudewijn Zwart \nEen kerstfeest voor jong en oud.
URL:https://www.everhardzwart.nl/index.php/concert/kerstzang-aan-de-ijssel-2/
LOCATION:De Ark\, Krimpen aan den IJssel\, Burg. Aalberslaan 41\, Krimpen aan den IJssel\, 2922 BC
CATEGORIES:Koor- en samenzang
ATTACH;FMTTYPE=image/jpeg:https://www.everhardzwart.nl/wp-content/uploads/2018/11/Kerstzang-2018.jpg
END:VEVENT
BEGIN:VEVENT
DTSTART;TZID=Europe/Amsterdam:20181212T200000
DTEND;TZID=Europe/Amsterdam:20181212T213000
DTSTAMP:20260421T224931
CREATED:20181125T063219Z
LAST-MODIFIED:20181125T063219Z
UID:2167-1544644800-1544650200@www.everhardzwart.nl
SUMMARY:Barendrecht\, Hervormde Dorpskerk
DESCRIPTION:Koorconcert met Chr. Gemengd Koor “Sanctus” uit Rotterdam en Chr. Gemengde Zangvereniging “Asaf” uit Puttershoek o.l.v. gastdirigent Hidde Zwart. \nArie de Korte – piano en Everhard Zwart – orgel \n 
URL:https://www.everhardzwart.nl/index.php/concert/barendrecht-hervormde-dorpskerk/
LOCATION:Dorpskerk Barendrecht\, Dorpsstraat 146\, Barendrecht\, 2992 BE
CATEGORIES:Koorconcerten
ATTACH;FMTTYPE=image/jpeg:https://www.everhardzwart.nl/wp-content/uploads/2018/11/Dorpskerk-Barendrecht.jpg
END:VEVENT
BEGIN:VEVENT
DTSTART;TZID=Europe/Amsterdam:20181210T200000
DTEND;TZID=Europe/Amsterdam:20181210T220000
DTSTAMP:20260421T224931
CREATED:20181125T062140Z
LAST-MODIFIED:20181125T062140Z
UID:2163-1544472000-1544479200@www.everhardzwart.nl
SUMMARY:Groningen\, Martinikerk
DESCRIPTION:Orgelgala \nBesloten concert o.a. met Jongens- en mannenkoor “Poznanski Chor Katedralnv”   –  De Poolse Nachtegalen
URL:https://www.everhardzwart.nl/index.php/concert/groningen-martinikerk/
LOCATION:Groningen\, Martinikerk\, Groningen
CATEGORIES:Koor- en Orgelconcert
ATTACH;FMTTYPE=image/jpeg:https://www.everhardzwart.nl/wp-content/uploads/2018/11/Foto1.jpg
END:VEVENT
BEGIN:VEVENT
DTSTART;TZID=Europe/Amsterdam:20181125T100000
DTEND;TZID=Europe/Amsterdam:20181125T113000
DTSTAMP:20260421T224931
CREATED:20181106T153750Z
LAST-MODIFIED:20181106T153750Z
UID:2153-1543140000-1543145400@www.everhardzwart.nl
SUMMARY:Zingen en herdenken
DESCRIPTION:Dienst op de laatste zondag van het kerkelijk jaar. \nDe overleden gemeenteleden worden herdacht\, maar er is ook ruimte om stil te staan bij het verlies van dierbaren in eigen kring. \nM.m.v. Chr.mannenkoor “De IJsselzangers” o.l.v. Everhard Zwart
URL:https://www.everhardzwart.nl/index.php/concert/zingen-en-herdenken/
LOCATION:De Ark\, Krimpen aan den IJssel\, Burg. Aalberslaan 41\, Krimpen aan den IJssel\, 2922 BC
CATEGORIES:Kerkdiensten
ATTACH;FMTTYPE=image/jpeg:https://www.everhardzwart.nl/wp-content/uploads/2018/11/Laatste-zondag.jpg
END:VEVENT
BEGIN:VEVENT
DTSTART;TZID=Europe/Amsterdam:20181121T124000
DTEND;TZID=Europe/Amsterdam:20181121T130000
DTSTAMP:20260421T224931
CREATED:20180902T195957Z
LAST-MODIFIED:20180913T175419Z
UID:2114-1542804000-1542805200@www.everhardzwart.nl
SUMMARY:Amsterdam\, Engelse Kerk (Begijnhof)
DESCRIPTION:Alledagkerk \nVoorganger: Dr. Wouter Klouwen uit Baarn \nOrgel: Everhard Zwart \nsamenzang vanaf 12.25 uur
URL:https://www.everhardzwart.nl/index.php/concert/amsterdam-engelse-kerk-begijnhof-9/
LOCATION:Engelse Kerk Begijnhof\, Amsterdam\, Begijnhof 48\, Amsterdam\, 1012 WV
CATEGORIES:Kerkdiensten
ATTACH;FMTTYPE=image/jpeg:https://www.everhardzwart.nl/wp-content/uploads/2017/09/begijnhof_eng_prot_kerk_10.jpg
END:VEVENT
BEGIN:VEVENT
DTSTART;TZID=Europe/Amsterdam:20181111T170000
DTEND;TZID=Europe/Amsterdam:20181111T183000
DTSTAMP:20260421T224931
CREATED:20180902T195751Z
LAST-MODIFIED:20180902T195751Z
UID:2110-1541955600-1541961000@www.everhardzwart.nl
SUMMARY:Rotterdam\, Breepleinkerk
DESCRIPTION:Dienst Zingen maakt Blij \nm.m.v. Chr. Gemengd Koor Asaf; Chr. Gemengd Koor Sanctus en Interkerkelijk Gemengd Koor River Voices o.l.v. Everhard Zwart \nDs. Wim Scheltens uit Lunteren \nOrgel: Martin Mans
URL:https://www.everhardzwart.nl/index.php/concert/rotterdam-breepleinkerk/
LOCATION:Breepleinkerk\, Van Malsenstraat 104\, Rotterdam\, 3074 PZ
CATEGORIES:Kerkdiensten,Koor- en samenzang
ATTACH;FMTTYPE=image/jpeg:https://www.everhardzwart.nl/wp-content/uploads/2018/09/Breepleinkerk.jpg
END:VEVENT
BEGIN:VEVENT
DTSTART;TZID=Europe/Amsterdam:20181104T183000
DTEND;TZID=Europe/Amsterdam:20181104T200000
DTSTAMP:20260421T224931
CREATED:20180902T195322Z
LAST-MODIFIED:20180902T195322Z
UID:2108-1541356200-1541361600@www.everhardzwart.nl
SUMMARY:Krimpen a/d IJssel\, De Ark
DESCRIPTION:Krimpen Zingt-dienst \nm.m.v. Ds. Robert-Jan van Amstel uit Rotterdam \nChr. Gemengd Koor De Slagsingers o.l.v. Johan den Hoedt \nOrgel: Everhard Zwart
URL:https://www.everhardzwart.nl/index.php/concert/krimpen-a-d-ijssel-de-ark-2/
LOCATION:De Ark\, Krimpen aan den IJssel\, Burg. Aalberslaan 41\, Krimpen aan den IJssel\, 2922 BC
CATEGORIES:Kerkdiensten
ATTACH;FMTTYPE=image/jpeg:https://www.everhardzwart.nl/wp-content/uploads/2017/08/zangdienst-in-De-Ark.jpg
END:VEVENT
END:VCALENDAR