BEGIN:VCALENDAR
VERSION:2.0
PRODID:-//Everhard Zwart - ECPv6.15.20//NONSGML v1.0//EN
CALSCALE:GREGORIAN
METHOD:PUBLISH
X-WR-CALNAME:Everhard Zwart
X-ORIGINAL-URL:https://www.everhardzwart.nl
X-WR-CALDESC:Evenementen voor Everhard Zwart
REFRESH-INTERVAL;VALUE=DURATION:PT1H
X-Robots-Tag:noindex
X-PUBLISHED-TTL:PT1H
BEGIN:VTIMEZONE
TZID:Europe/Amsterdam
BEGIN:DAYLIGHT
TZOFFSETFROM:+0100
TZOFFSETTO:+0200
TZNAME:CEST
DTSTART:20180325T010000
END:DAYLIGHT
BEGIN:STANDARD
TZOFFSETFROM:+0200
TZOFFSETTO:+0100
TZNAME:CET
DTSTART:20181028T010000
END:STANDARD
BEGIN:DAYLIGHT
TZOFFSETFROM:+0100
TZOFFSETTO:+0200
TZNAME:CEST
DTSTART:20190331T010000
END:DAYLIGHT
BEGIN:STANDARD
TZOFFSETFROM:+0200
TZOFFSETTO:+0100
TZNAME:CET
DTSTART:20191027T010000
END:STANDARD
BEGIN:DAYLIGHT
TZOFFSETFROM:+0100
TZOFFSETTO:+0200
TZNAME:CEST
DTSTART:20200329T010000
END:DAYLIGHT
BEGIN:STANDARD
TZOFFSETFROM:+0200
TZOFFSETTO:+0100
TZNAME:CET
DTSTART:20201025T010000
END:STANDARD
BEGIN:DAYLIGHT
TZOFFSETFROM:+0100
TZOFFSETTO:+0200
TZNAME:CEST
DTSTART:20210328T010000
END:DAYLIGHT
BEGIN:STANDARD
TZOFFSETFROM:+0200
TZOFFSETTO:+0100
TZNAME:CET
DTSTART:20211031T010000
END:STANDARD
END:VTIMEZONE
BEGIN:VEVENT
DTSTART;TZID=Europe/Amsterdam:20200808T193000
DTEND;TZID=Europe/Amsterdam:20200808T200000
DTSTAMP:20260420T223016
CREATED:20200814T182202Z
LAST-MODIFIED:20200814T182202Z
UID:4866-1596915000-1596916800@www.everhardzwart.nl
SUMMARY:Asperen\, Hervormde Kerk - YouTube Orgelbespeling
DESCRIPTION:https://youtu.be/Ac7ReLmb_8w
URL:https://www.everhardzwart.nl/index.php/concert/asperen-hervormde-kerk-youtube-orgelbespeling-2/
CATEGORIES:Livestream Orgelconcert
ATTACH;FMTTYPE=image/jpeg:https://www.everhardzwart.nl/wp-content/uploads/2020/08/20200729121322_IMG_0891-rotated.jpg
END:VEVENT
BEGIN:VEVENT
DTSTART;TZID=Europe/Amsterdam:20200801T193000
DTEND;TZID=Europe/Amsterdam:20200801T200000
DTSTAMP:20260420T223016
CREATED:20200814T182010Z
LAST-MODIFIED:20200814T182010Z
UID:4863-1596310200-1596312000@www.everhardzwart.nl
SUMMARY:Asperen\, Hervormde Kerk - YouTube Orgelbespeling
DESCRIPTION:https://youtu.be/TyensuLfkno
URL:https://www.everhardzwart.nl/index.php/concert/asperen-hervormde-kerk-youtube-orgelbespeling/
CATEGORIES:Livestream Orgelconcert
ATTACH;FMTTYPE=image/jpeg:https://www.everhardzwart.nl/wp-content/uploads/2020/08/20200729121322_IMG_0891-rotated.jpg
END:VEVENT
BEGIN:VEVENT
DTSTART;TZID=Europe/Amsterdam:20200725T193000
DTEND;TZID=Europe/Amsterdam:20200725T200000
DTSTAMP:20260420T223016
CREATED:20200814T182657Z
LAST-MODIFIED:20200814T182657Z
UID:4872-1595705400-1595707200@www.everhardzwart.nl
SUMMARY:Capelle a/d IJssel\, Nw. Westerkerk - YouTube Orgelbespeling
DESCRIPTION:https://youtu.be/mcjGu8iOOrk
URL:https://www.everhardzwart.nl/index.php/concert/capelle-a-d-ijssel-nw-westerkerk-youtube-orgelbespeling-3/
CATEGORIES:Livestream Orgelconcert
ATTACH;FMTTYPE=image/jpeg:https://www.everhardzwart.nl/wp-content/uploads/2018/06/Capelle-ad-IJssel-Westerkerk.jpg
END:VEVENT
BEGIN:VEVENT
DTSTART;TZID=Europe/Amsterdam:20200721T200000
DTEND;TZID=Europe/Amsterdam:20200721T213000
DTSTAMP:20260420T223016
CREATED:20200717T184253Z
LAST-MODIFIED:20200717T184253Z
UID:4816-1595361600-1595367000@www.everhardzwart.nl
SUMMARY:Bolsward\, Martinikerk  LIVESTREAMCONCERT
DESCRIPTION:Helaas zijn er in de zomer van 2020 geen live concerten in de Martinikerk.\nWel kunt u kijken naar de live stream op YouTube (Bolsward Hinsz-orgel): \n  \nProgramma \nFeike Asma (1912 – 1984)\nTwee liedbewerkingen\n“Komt als kind’ren van het licht”\n“Beveel gerust uw wegen” \nJohann Sebastian Bach (1685 – 1750)\nFantasia et Fuga  g-moll\nBWV 542 \nWillem Hendrik Zwart (1925 – 1997)\nKoraalbewerking “Gebed des Heeren”\nToccata Psalm 99 \nRené Louis Becker (1882 – 1956)\nFirst Sonata in g-minor      (opus 40)\nPraeludium Festivum\nDialogue\nScherzo\nPrayer\nToccata \nJan Zwart (1877 – 1937)\nTrio “Gebed des Heeren”\nPraeludium Psalm 68\n“De Heer zal opstaan tot de strijd”
URL:https://www.everhardzwart.nl/index.php/concert/bolsward-martinikerk-livestreamconcert/
LOCATION:Martinikerk\, Bolsward\, Groot Kerkhof 4\, Bolsward\, 8701 HG
CATEGORIES:Livestream Orgelconcert
ATTACH;FMTTYPE=image/jpeg:https://www.everhardzwart.nl/wp-content/uploads/2018/06/Bolsward.jpg
END:VEVENT
BEGIN:VEVENT
DTSTART;TZID=Europe/Amsterdam:20200718T193000
DTEND;TZID=Europe/Amsterdam:20200718T200000
DTSTAMP:20260420T223016
CREATED:20200814T182532Z
LAST-MODIFIED:20200814T182532Z
UID:4870-1595100600-1595102400@www.everhardzwart.nl
SUMMARY:Capelle a/d IJssel\, Nw. Westerkerk - YouTube Orgelbespeling
DESCRIPTION:
URL:https://www.everhardzwart.nl/index.php/concert/capelle-a-d-ijssel-nw-westerkerk-youtube-orgelbespeling-2/
CATEGORIES:Livestream Orgelconcert
ATTACH;FMTTYPE=image/jpeg:https://www.everhardzwart.nl/wp-content/uploads/2018/06/Capelle-ad-IJssel-Westerkerk.jpg
END:VEVENT
BEGIN:VEVENT
DTSTART;TZID=Europe/Amsterdam:20200711T193000
DTEND;TZID=Europe/Amsterdam:20200711T200000
DTSTAMP:20260420T223016
CREATED:20200814T182408Z
LAST-MODIFIED:20200814T182408Z
UID:4868-1594495800-1594497600@www.everhardzwart.nl
SUMMARY:Capelle a/d IJssel\, Nw. Westerkerk - YouTube Orgelbespeling
DESCRIPTION:https://youtu.be/eHn44NwCDno
URL:https://www.everhardzwart.nl/index.php/concert/capelle-a-d-ijssel-nw-westerkerk-youtube-orgelbespeling/
CATEGORIES:Livestream Orgelconcert
ATTACH;FMTTYPE=image/jpeg:https://www.everhardzwart.nl/wp-content/uploads/2018/06/Capelle-ad-IJssel-Westerkerk.jpg
END:VEVENT
BEGIN:VEVENT
DTSTART;TZID=Europe/Amsterdam:20200708T200000
DTEND;TZID=Europe/Amsterdam:20200708T211500
DTSTAMP:20260420T223016
CREATED:20200622T141118Z
LAST-MODIFIED:20200622T141118Z
UID:4764-1594238400-1594242900@www.everhardzwart.nl
SUMMARY:Bovenkerk Kampen
DESCRIPTION:Orgelconcert \n  \nReserveren verplicht via     https://www.klassiekemuziek.nl/orgelserie-kampen \n  \nProgramma \nWillem Hendrik Zwart\n1925 – 1997\nLiedbewerking “Op bergen en in dalen” \nJohann Sebastian Bach\n1685 – 1750\nPraeludium un Fuge  a-moll\n(BWV 543) \nFélix Mendelssohn-Bartholdy\n1809 – 1847\nAndante met Variaties \nCésar Franck\n1822 – 1890\nPastorale\n(opus 19) \nCarol Williams\n1962\nSuite (opus 5)\n– Festiva!\n– Mirage\n– Frisian March \nWillem Hendrik Zwart\n1925 – 1997\n– Psalm 91\n“Hij\, die op Gods bescherming wacht”\n– Toccata Psalm 99\n“God\, de Heer\, regeert”
URL:https://www.everhardzwart.nl/index.php/concert/bovenkerk-kampen-2/
LOCATION:Bovenkerk Kampen\, Koornmarkt 28\, Kampen\, 8261 JX
CATEGORIES:Orgelconcerten
ATTACH;FMTTYPE=image/jpeg:https://www.everhardzwart.nl/wp-content/uploads/2020/06/Kampen-8-juli-2020.jpg
END:VEVENT
BEGIN:VEVENT
DTSTART;TZID=Europe/Amsterdam:20200704T193000
DTEND;TZID=Europe/Amsterdam:20200704T200000
DTSTAMP:20260420T223016
CREATED:20200622T141325Z
LAST-MODIFIED:20200622T141433Z
UID:4767-1593891000-1593892800@www.everhardzwart.nl
SUMMARY:Orgelbespeling via Youtube
DESCRIPTION:Voorlopig iedere zaterdagavond een half uur concert vanuit de Nieuwe Westerkerk te Capelle aan den IJssel. \nVia het YouTube-kanaal van Everhard Zwart \n  \nZo ben ik “dichterbij in een tijd van afstand”
URL:https://www.everhardzwart.nl/index.php/concert/orgelbespeling-via-youtube-6/
CATEGORIES:Livestream Orgelconcert
ATTACH;FMTTYPE=image/jpeg:https://www.everhardzwart.nl/wp-content/uploads/2018/06/Capelle-ad-IJssel-Westerkerk.jpg
ORGANIZER;CN="Everhard Zwart":MAILTO:public-relations@everhardzwart.nl
END:VEVENT
BEGIN:VEVENT
DTSTART;TZID=Europe/Amsterdam:20200627T193000
DTEND;TZID=Europe/Amsterdam:20200627T200000
DTSTAMP:20260420T223016
CREATED:20200613T180410Z
LAST-MODIFIED:20200613T180410Z
UID:4745-1593286200-1593288000@www.everhardzwart.nl
SUMMARY:Orgelbespeling via Youtube
DESCRIPTION:Voorlopig iedere zaterdagavond een half uur concert vanuit de Nieuwe Westerkerk te Capelle aan den IJssel. \nVia het YouTube-kanaal van Everhard Zwart \n  \nZo ben ik “dichterbij in een tijd van afstand” \n  \n  \n  \n  \n 
URL:https://www.everhardzwart.nl/index.php/concert/orgelbespeling-via-youtube-5/
CATEGORIES:Livestream Orgelconcert
ATTACH;FMTTYPE=image/jpeg:https://www.everhardzwart.nl/wp-content/uploads/2018/06/Capelle-ad-IJssel-Westerkerk.jpg
ORGANIZER;CN="Everhard Zwart":MAILTO:public-relations@everhardzwart.nl
END:VEVENT
BEGIN:VEVENT
DTSTART;TZID=Europe/Amsterdam:20200620T193000
DTEND;TZID=Europe/Amsterdam:20200620T200000
DTSTAMP:20260420T223016
CREATED:20200613T180247Z
LAST-MODIFIED:20200613T180247Z
UID:4743-1592681400-1592683200@www.everhardzwart.nl
SUMMARY:Orgelbespeling via Youtube
DESCRIPTION:Voorlopig iedere zaterdagavond een half uur concert vanuit de Nieuwe Westerkerk te Capelle aan den IJssel.\nVia het YouTube-kanaal van Everhard Zwart \nZo ben ik “dichterbij in een tijd van afstand”
URL:https://www.everhardzwart.nl/index.php/concert/orgelbespeling-via-youtube-4/
CATEGORIES:Livestream Orgelconcert
ATTACH;FMTTYPE=image/jpeg:https://www.everhardzwart.nl/wp-content/uploads/2018/06/Capelle-ad-IJssel-Westerkerk.jpg
ORGANIZER;CN="Everhard Zwart":MAILTO:public-relations@everhardzwart.nl
END:VEVENT
BEGIN:VEVENT
DTSTART;TZID=Europe/Amsterdam:20200613T193000
DTEND;TZID=Europe/Amsterdam:20200613T200000
DTSTAMP:20260420T223016
CREATED:20200613T180011Z
LAST-MODIFIED:20200613T180011Z
UID:4740-1592076600-1592078400@www.everhardzwart.nl
SUMMARY:Orgelbespeling via Youtube
DESCRIPTION:Voorlopig iedere zaterdagavond een half uur concert vanuit de Nieuwe Westerkerk te Capelle aan den IJssel. \nVia het YouTube-kanaal van Everhard Zwart \n  \nZo ben ik “dichterbij in een tijd van afstand”
URL:https://www.everhardzwart.nl/index.php/concert/orgelbespeling-via-youtube-3/
CATEGORIES:Livestream Orgelconcert
ATTACH;FMTTYPE=image/jpeg:https://www.everhardzwart.nl/wp-content/uploads/2018/06/Capelle-ad-IJssel-Westerkerk.jpg
END:VEVENT
BEGIN:VEVENT
DTSTART;TZID=Europe/Amsterdam:20200606T193000
DTEND;TZID=Europe/Amsterdam:20200606T200000
DTSTAMP:20260420T223016
CREATED:20200613T175701Z
LAST-MODIFIED:20200613T175701Z
UID:4738-1591471800-1591473600@www.everhardzwart.nl
SUMMARY:Orgelbespeling via Youtube
DESCRIPTION:Voorlopig iedere zaterdagavond een half uur concert vanuit de Nieuwe Westerkerk te Capelle aan den IJssel. \n  \nVia het YouTube-kanaal van Everhard Zwart
URL:https://www.everhardzwart.nl/index.php/concert/orgelbespeling-via-youtube-2/
CATEGORIES:Livestream Orgelconcert
ATTACH;FMTTYPE=image/jpeg:https://www.everhardzwart.nl/wp-content/uploads/2018/06/Capelle-ad-IJssel-Westerkerk.jpg
ORGANIZER;CN="Everhard Zwart":MAILTO:public-relations@everhardzwart.nl
END:VEVENT
BEGIN:VEVENT
DTSTART;TZID=Europe/Amsterdam:20200601T160000
DTEND;TZID=Europe/Amsterdam:20200601T170000
DTSTAMP:20260420T223016
CREATED:20200528T194715Z
LAST-MODIFIED:20200528T194715Z
UID:4699-1591027200-1591030800@www.everhardzwart.nl
SUMMARY:Kampen\, Bovenkerk   PINKSTERCONCERT
DESCRIPTION:Reserveren verplicht. \n  \nProgramma de mooiste Pinksterkoralen
URL:https://www.everhardzwart.nl/index.php/concert/kampen-bovenkerk-pinksterconcert/
LOCATION:Bovenkerk Kampen\, Koornmarkt 28\, Kampen\, 8261 JX
CATEGORIES:Orgelconcerten
ATTACH;FMTTYPE=image/jpeg:https://www.everhardzwart.nl/wp-content/uploads/2020/05/pinksterconcert-Kampen.jpg
END:VEVENT
BEGIN:VEVENT
DTSTART;TZID=Europe/Amsterdam:20200530T193000
DTEND;TZID=Europe/Amsterdam:20200530T200000
DTSTAMP:20260420T223016
CREATED:20200528T195423Z
LAST-MODIFIED:20200528T195423Z
UID:4702-1590867000-1590868800@www.everhardzwart.nl
SUMMARY:Orgelbespeling via YouTube
DESCRIPTION:Voorlopig iedere zaterdagavond een half uur concert vanuit de Nieuwe Westerkerk te Capelle aan den IJssel. \n  \nVia het YouTube-kanaal van Everhard Zwart
URL:https://www.everhardzwart.nl/index.php/concert/orgelbespeling-via-youtube/
CATEGORIES:Orgelconcerten
ATTACH;FMTTYPE=image/jpeg:https://www.everhardzwart.nl/wp-content/uploads/2020/05/Dia1.jpg
END:VEVENT
BEGIN:VEVENT
DTSTART;TZID=Europe/Amsterdam:20200502T193000
DTEND;TZID=Europe/Amsterdam:20200502T200000
DTSTAMP:20260420T223016
CREATED:20200429T190447Z
LAST-MODIFIED:20200430T165417Z
UID:4582-1588447800-1588449600@www.everhardzwart.nl
SUMMARY:Capelle aan den IJssel\, Orgelhalfuurtje
DESCRIPTION:Live vanuit de Nieuwe Westerkerk Iedere zaterdagavond van 19.30 tot 20.00 uur\nwww.kerkdienstgemist.nl       (Zuid Holland\, Capelle aan den IJssel\, Nieuwe Westerkerk) \nAls u een gift wilt overmaken wordt dat heel erg op prijs gesteld.\nRekeningnummer NL 36 INGB 000 0061743\nt.n.v. Hervormde Gemeente Wijk West o.v.v. orgelconcert \nPROGRAMMA   “VIER 5 mei” \n4 mei herdenken wij. \nAlexandre Guilmant\n1837 – 1911\nMarche Funèbre et Chant Sérafique \nTomaso Albinoni\n1671 – 1751\nAdagio \n  \n\n5 mei vieren wij. \nJacques-Nicolas Lemmens\n1823 – 1881\nFanfare \nFrits Tollig\n1876 – 1943\nMarche Héroïque \n 
URL:https://www.everhardzwart.nl/index.php/concert/capelle-aan-den-ijssel-orgelhalfuurtje/
LOCATION:Nieuwe Westerkerk Capelle a/d IJssel\, Valeriusrondeel 670\, Capelle aan den IJssel\, 2902CT
CATEGORIES:Livestream Orgelconcert
ATTACH;FMTTYPE=image/jpeg:https://www.everhardzwart.nl/wp-content/uploads/2015/08/image9.jpg
END:VEVENT
BEGIN:VEVENT
DTSTART;VALUE=DATE:20200417
DTEND;VALUE=DATE:20200421
DTSTAMP:20260420T223016
CREATED:20200130T185209Z
LAST-MODIFIED:20200408T073056Z
UID:2710-1587081600-1587427199@www.everhardzwart.nl
SUMMARY:GAAT NIET DOOR Bach Festival OekraÏne
DESCRIPTION:AT NIET OROTwee Orgelconcerten in Kharkov en Sumy
URL:https://www.everhardzwart.nl/index.php/concert/bach-festival-oekraine/
CATEGORIES:Orgeltoer
ATTACH;FMTTYPE=image/jpeg:https://www.everhardzwart.nl/wp-content/uploads/2020/01/Philharmonie-Sumy-Oekraine.jpg
END:VEVENT
BEGIN:VEVENT
DTSTART;TZID=Europe/Amsterdam:20200329T100000
DTEND;TZID=Europe/Amsterdam:20200329T113000
DTSTAMP:20260420T223016
CREATED:20200130T193358Z
LAST-MODIFIED:20200314T093022Z
UID:2722-1585476000-1585481400@www.everhardzwart.nl
SUMMARY:GAAT NIET DOOR Ontmoetingsdienst (Krimpen aan den IJssel)
DESCRIPTION:
URL:https://www.everhardzwart.nl/index.php/concert/ontmoetingsdienst-krimpen-aan-den-ijssel/
LOCATION:De Ark\, Krimpen aan den IJssel\, Burg. Aalberslaan 41\, Krimpen aan den IJssel\, 2922 BC
CATEGORIES:zangdienst met een koor
ATTACH;FMTTYPE=image/jpeg:https://www.everhardzwart.nl/wp-content/uploads/2020/01/De-Ark-Krimpen.jpg
END:VEVENT
BEGIN:VEVENT
DTSTART;TZID=Europe/Amsterdam:20200321T200000
DTEND;TZID=Europe/Amsterdam:20200321T213000
DTSTAMP:20260420T223016
CREATED:20190107T182040Z
LAST-MODIFIED:20200314T093114Z
UID:2250-1584820800-1584826200@www.everhardzwart.nl
SUMMARY:GAAT NIET DOOR Kampen\, Bovenkerk
DESCRIPTION:GAAT NIET DOOR \nOrgelconcert – Bach programma  \nJohann Sebastian Bach ( 21 maart 1685 – 28 juli 1750) \n 
URL:https://www.everhardzwart.nl/index.php/concert/kampen-bovenkerk-2/
LOCATION:Bovenkerk Kampen\, Koornmarkt 28\, Kampen\, 8261 JX
CATEGORIES:Orgelconcerten
ATTACH;FMTTYPE=image/jpeg:https://www.everhardzwart.nl/wp-content/uploads/2015/08/image12.jpg
END:VEVENT
BEGIN:VEVENT
DTSTART;TZID=Europe/Amsterdam:20200315T190000
DTEND;TZID=Europe/Amsterdam:20200315T200000
DTSTAMP:20260420T223016
CREATED:20200130T185524Z
LAST-MODIFIED:20200319T110409Z
UID:2713-1584298800-1584302400@www.everhardzwart.nl
SUMMARY:GAAT NIET DOOR Amsterdam\, Engelse Kerk
DESCRIPTION:Diensten met Belangstellenden. \nAdvies voor ouderen en mensen met een kwetsbare gezondheid om niet te komen. \nOok reizen met openbaarvervoer wordt afgeraden. \n  \nVoorganger Ds. Taco Koster \nEverhard Zwart – orgel \n 
URL:https://www.everhardzwart.nl/index.php/concert/amsterdam-engelse-kerk-2/
LOCATION:Engelse Kerk Begijnhof\, Amsterdam\, Begijnhof 48\, Amsterdam\, 1012 WV
CATEGORIES:Kerkdiensten
ATTACH;FMTTYPE=image/jpeg:https://www.everhardzwart.nl/wp-content/uploads/2017/09/begijnhof_eng_prot_kerk_10.jpg
END:VEVENT
BEGIN:VEVENT
DTSTART;TZID=Europe/Amsterdam:20200313T200000
DTEND;TZID=Europe/Amsterdam:20200313T213000
DTSTAMP:20260420T223016
CREATED:20190107T185537Z
LAST-MODIFIED:20200314T093148Z
UID:2280-1584129600-1584135000@www.everhardzwart.nl
SUMMARY:GAAT NIET DOOR Drachten\, Grote Kerk
DESCRIPTION:Orgelconcert – 200 jaar Hillebrand orgel \nProgramma \nJan Zwart\nOuverture\n“Dankt\, dankt nu allen God”\n“Wilt heden nu treden” \nJohann Sebastian Bach\nChoralvorspiel “Wohl mir\, daß Ich Jesum habe“\nToccata et Fuga d-moll \nJohann Gottfried Walther \nConcerto h-moll\nAllegro – Adagio – Allegro \nOtto Dienel\nChoralvorspiel “Wer nur den lieben Gott läßt walten” \nFélix Mendelssohn-Bartholdy\nVariaties over “het Gebed des Heren” \nCésar Franck\nChoral 3 \nJean Gabriel-Marie\nLa Cinquantaine \nWillem Hendrik Zwart\nFantasie Psalm 25
URL:https://www.everhardzwart.nl/index.php/concert/drachten-grote-kerk-2/
LOCATION:Grote Kerk Drachten\, De Drift 2\, Drachten\, 9203 GG
CATEGORIES:Orgelconcerten
ATTACH;FMTTYPE=image/jpeg:https://www.everhardzwart.nl/wp-content/uploads/2019/01/Grote-Kerk-Drachten.jpg
END:VEVENT
BEGIN:VEVENT
DTSTART;TZID=Europe/Amsterdam:20200301T183000
DTEND;TZID=Europe/Amsterdam:20200301T193000
DTSTAMP:20260420T223016
CREATED:20200130T191725Z
LAST-MODIFIED:20200130T191725Z
UID:2715-1583087400-1583091000@www.everhardzwart.nl
SUMMARY:Krimpen Zingt-dienst (Krimpen aan den IJssel)
DESCRIPTION:Zangdienst m.m.v. ds. Dirk van Duijvenbode \nVocalgroup Voice o.l.v. Martin Mans \nEverhard Zwart\, orgel
URL:https://www.everhardzwart.nl/index.php/concert/krimpen-zingt-dienst-krimpen-aan-den-ijssel/
LOCATION:De Ark\, Krimpen aan den IJssel\, Burg. Aalberslaan 41\, Krimpen aan den IJssel\, 2922 BC
CATEGORIES:zangdienst met een koor
ATTACH;FMTTYPE=image/jpeg:https://www.everhardzwart.nl/wp-content/uploads/2020/01/De-Ark-Krimpen.jpg
END:VEVENT
BEGIN:VEVENT
DTSTART;TZID=Europe/Amsterdam:20200219T123500
DTEND;TZID=Europe/Amsterdam:20200219T130000
DTSTAMP:20260420T223016
CREATED:20200130T193057Z
LAST-MODIFIED:20200130T193057Z
UID:2720-1582115700-1582117200@www.everhardzwart.nl
SUMMARY:Amsterdam\, Engelse Kerk
DESCRIPTION:Alle-Dag-Kerk. \nKorte middagpauzedienst \nvoorganger Ds. Sonja van der Meulen uit Leiden \norganist Everhard Zwart \nSamenzang vanaf 12.20 uur
URL:https://www.everhardzwart.nl/index.php/concert/amsterdam-engelse-kerk-3/
LOCATION:Engelse Kerk Begijnhof\, Amsterdam\, Begijnhof 48\, Amsterdam\, 1012 WV
CATEGORIES:Kerkdiensten,Middagpauzedienst
ATTACH;FMTTYPE=image/jpeg:https://www.everhardzwart.nl/wp-content/uploads/2017/08/orgeltje-engelse-kerk.jpg
END:VEVENT
BEGIN:VEVENT
DTSTART;TZID=Europe/Amsterdam:20191230T150000
DTEND;TZID=Europe/Amsterdam:20191230T170000
DTSTAMP:20260420T223016
CREATED:20191127T095218Z
LAST-MODIFIED:20191130T084910Z
UID:2656-1577718000-1577725200@www.everhardzwart.nl
SUMMARY:Oudejaarsconcert in Lemelerveld
DESCRIPTION:Royal Music Out \nFeike Asma (1912 – 1984)\n– Fantasie “Komt\, als kind’ren van het Licht”\n– Liedbewerking “Beveel gerust uw wegen” \nJohann Sebastian Bach (1685 – 1750)\nZwei Choralvorspiele\n– “Wachet aus\, ruft uns die Stimme” – BWV 645\n– “Allein Gott in der Höh’ sei Ehr’”- BWV 711 \nToccata et Fuga d-moll – BWV 565 \nDenis Bédard (1950)\nSuite du premier ton\n– Choral\n– Dialogue\n– Récit\n– Grand Choeur \nAlexandre Guilmant (1837 – 1911)\nMarche funèbre et chant sérafique\n-Dodenmars en Eng’lenzang- \nWilliam Ralph Driffill (1870 – 1922)\nToccata f-minor \nWim Magré (1962)\nVariaties “Als g’in nood gezeten” \nJan Zwart (1877 – 1937)\nFantasie over het Lutherlied\n“Een vaste burcht is onze God”
URL:https://www.everhardzwart.nl/index.php/concert/oudejaarsconcert-in-lemelerveld/
LOCATION:Willem Hendrik Zwart Hal\, Grensweg 17\, Lemelerveld\, 8153 RB
CATEGORIES:Orgelconcerten
ATTACH;FMTTYPE=image/jpeg:https://www.everhardzwart.nl/wp-content/uploads/2017/12/WillemHendrikZwarthalLemelerveld2.jpg
END:VEVENT
BEGIN:VEVENT
DTSTART;TZID=Europe/Amsterdam:20191222T150000
DTEND;TZID=Europe/Amsterdam:20191222T163000
DTSTAMP:20260420T223016
CREATED:20191129T130635Z
LAST-MODIFIED:20191129T130635Z
UID:2664-1577026800-1577032200@www.everhardzwart.nl
SUMMARY:Kerstconcert in Ammerzoden
DESCRIPTION:Mannenkoor Il Favorito o.l.v. Everhard Zwart \nm.m.v. Interk. Gemengd Koor River Voices o.l.v. Arie de Korte. \n 
URL:https://www.everhardzwart.nl/index.php/concert/kerstconcert-in-ammerzoden/
LOCATION:Sint Willibrorduskerk\, Ammerzoden\, Meester la Grostraat 1\, 5324 AJ
CATEGORIES:Kerst - Koorconcert
ATTACH;FMTTYPE=image/jpeg:https://www.everhardzwart.nl/wp-content/uploads/2019/11/poster-Il-Favorito-Kerst-2019-scaled.jpg
END:VEVENT
BEGIN:VEVENT
DTSTART;TZID=Europe/Amsterdam:20191218T201500
DTEND;TZID=Europe/Amsterdam:20191218T214500
DTSTAMP:20260420T223016
CREATED:20191127T093801Z
LAST-MODIFIED:20191127T093848Z
UID:2645-1576700100-1576705500@www.everhardzwart.nl
SUMMARY:Kerstconcert met Mannenkoor Vox Humana in Leiden
DESCRIPTION:Kerstconcert door RCM Vox Humana o.l.v. Everhard Zwart \nm.m.v. Poznan Kathedraal jongenskoor (De Poolse Nachtegalen) \n  \n 
URL:https://www.everhardzwart.nl/index.php/concert/2645/
LOCATION:Opstandingskerk\, Aerent Bruunstraat 21\, Leiden\, 2321ED
ATTACH;FMTTYPE=image/jpeg:https://www.everhardzwart.nl/wp-content/uploads/2019/11/Flyer-kerst-2019.jpg
END:VEVENT
BEGIN:VEVENT
DTSTART;TZID=Europe/Amsterdam:20191214T190000
DTEND;TZID=Europe/Amsterdam:20191214T203000
DTSTAMP:20260420T223016
CREATED:20191127T094357Z
LAST-MODIFIED:20191127T094357Z
UID:2650-1576350000-1576355400@www.everhardzwart.nl
SUMMARY:Kerstzang aan de IJssel
DESCRIPTION:De traditionele kerstzang georganiseerd door 3 koren.\nEen feestelijk kerstconcert voor iedereen. \nM.m.v. Chr. Mannenkoor De IJsselzangers o.l.v. Everhard Zwart\nInterk. Gemengd Koor River Voices o.l.v. Arie de Korte\nInterk. Kinderkoor De Regenboog o.l.v. Hidde Zwart \nDit jaar als speciale gast de sopraan Marjolein Kolkert \nKerstzang begint om 19.00 uur. Toegang is gratis\, maar wel een collecte !
URL:https://www.everhardzwart.nl/index.php/concert/kerstzang-aan-de-ijssel-3/
LOCATION:De Ark\, Krimpen aan den IJssel\, Burg. Aalberslaan 41\, Krimpen aan den IJssel\, 2922 BC
CATEGORIES:Kerst - Koorconcert
ATTACH;FMTTYPE=image/jpeg:https://www.everhardzwart.nl/wp-content/uploads/2019/11/Affiche-kerst-2019.jpg
END:VEVENT
BEGIN:VEVENT
DTSTART;TZID=Europe/Amsterdam:20191208T190000
DTEND;TZID=Europe/Amsterdam:20191208T200000
DTSTAMP:20260420T223016
CREATED:20191127T095826Z
LAST-MODIFIED:20191127T095826Z
UID:2658-1575831600-1575835200@www.everhardzwart.nl
SUMMARY:Kerkdienst op het Begijnhof
DESCRIPTION:Stichting Diensten met Belangstellenden organiseert wekelijks\, op zondagavond om 19.00 uur\, een kerkdienst in de Engelse Kerk aan het Begijnhof te Amsterdam. \nDs. Taco Koster \nOrgel – Everhard Zwart\nTrompet – Hidde Zwart \n  \nParkeeradvies: P+R Noord of RAI (kosten met OV korting € 1\,00)\nen dan met de Noord-Zuid lijn. Halte (uitgang) Rokin.\nVanaf de metro slechts 2 minuten lopen.
URL:https://www.everhardzwart.nl/index.php/concert/kerkdienst-op-het-begijnhof/
LOCATION:Engelse Kerk Begijnhof\, Amsterdam\, Begijnhof 48\, Amsterdam\, 1012 WV
CATEGORIES:Kerkdiensten
ATTACH;FMTTYPE=image/jpeg:https://www.everhardzwart.nl/wp-content/uploads/2017/09/begijnhof_eng_prot_kerk_10.jpg
END:VEVENT
BEGIN:VEVENT
DTSTART;TZID=Europe/Amsterdam:20191123T200000
DTEND;TZID=Europe/Amsterdam:20191123T213000
DTSTAMP:20260420T223016
CREATED:20190508T125247Z
LAST-MODIFIED:20191115T154927Z
UID:2414-1574539200-1574544600@www.everhardzwart.nl
SUMMARY:Maassluis\, Groote Kerk
DESCRIPTION:Orgelconcert “40 jaar Concertorganist” \nFeike Asma (1912 – 1984)\nFantasie “Komt\, als kind’ren van het Licht” \nJohann Sebastian Bach (1685 – 1750)\nChoralvorspiel “Liebster Jesu\, wir sind hier” – BWV 73 \nFranz Liszt (1811 – 1886)\nPraeludium und Fuge B.A.C.H. \nGeorg Friedrich Händel (1685 – 1759)\nBasso Ostinato (uit Concerto 11) \nRulon Christiansen (1949)\nLyric Symphony\n– Prelude\n– Grand Choeur\n– Andante\n– Scherzetto\n– Adagio\n– Toccata \nAivars Kalejs (geb. 1951)\nToccata über den Choral\n“Allein Gott in der Höh’ sei Ehr’”
URL:https://www.everhardzwart.nl/index.php/concert/maassluis-groote-kerk/
LOCATION:Maassluis\, Groote Kerk\, Kerkplein 2\, Maassluis\, 3144 EK
CATEGORIES:Orgelconcerten
ATTACH;FMTTYPE=image/jpeg:https://www.everhardzwart.nl/wp-content/uploads/2019/05/Maassluis-orgel.jpg
END:VEVENT
BEGIN:VEVENT
DTSTART;TZID=Europe/Amsterdam:20191026T200000
DTEND;TZID=Europe/Amsterdam:20191026T213000
DTSTAMP:20260420T223016
CREATED:20190508T125004Z
LAST-MODIFIED:20191020T151653Z
UID:2410-1572120000-1572125400@www.everhardzwart.nl
SUMMARY:Emlichheim (D)\, Evangelisch-Altreformierte Kirche
DESCRIPTION:Orgelconcert \n \nEverhard Zwart (geb. 1958)\nTrio Psalm 33 \nJan Zwart (1837 – 1937)\nFantasie – toccatine Psalm 33 \nJohann Sebastian Bach (1685 – 1750)\nSiciliano – arr. Feike Asma – \nGeorg Friedrich Händel (1685 – 1759)\nAllegro – uit Concerto 6 – Bes-dur \n \nJan Zwart (1877 – 1937)\nLiedbewerkingen\n“Ga niet alleen door het leven”\n“Achter Hem aan”\n“Scheepje onder Jezus hoede” \nFélix Mendelssohn-Bartholdy (1809 – 1847)\nSonate 1\n– Allegro moderato e serioso\n– Adagio\n– Andante recitativo\n– Allegro assai Vivace \nFeike Asma (1912 – 1984)\nLiedbewerking “Beveel gerust uw wegen” \nPietro Yon (1886 – 1943)\nToccata  “Humoresque” \nJan Zwart (1877 – 1937)\nFantasie over het Lutherlied\n“Een vaste burcht is onze God” \n 
URL:https://www.everhardzwart.nl/index.php/concert/emlichheim-d-evangelisch-altreformierte-kirche/
LOCATION:Emlichheim\, Altreformierte Kirche\, Mühlenstraße\, Emlichheim\, Germany
CATEGORIES:Orgelconcerten
ATTACH;FMTTYPE=image/jpeg:https://www.everhardzwart.nl/wp-content/uploads/2019/05/Emlichheim.jpg
END:VEVENT
BEGIN:VEVENT
DTSTART;TZID=Europe/Amsterdam:20191024T200000
DTEND;TZID=Europe/Amsterdam:20191024T213000
DTSTAMP:20260420T223016
CREATED:20190508T124628Z
LAST-MODIFIED:20190916T070502Z
UID:2408-1571947200-1571952600@www.everhardzwart.nl
SUMMARY:Harderwijk\, Grote Kerk
DESCRIPTION:Orgelconcert “40 jaar Concertorganist” \nCarol Williams (1962)\nSuite (opus 5)\n– Festiva!\n– Mirage\n– Frisian March \nFeike Asma (1912 – 1984)\nFantasie “Komt als kind’ren van het Licht” \nJohann Sebastian Bach (1685 – 1750)\nPraeludium und Fuge a-moll\nBWV 543 \nCésar Franck (1822 – 1890)\nPastorale (opus 19) \nHendrik Andriessen (1892 – 1981)\nDeuxième Choral \nAivars Kalejs (1951)\nToccata über den Choral\n“Allein Gott in der Höh’ sei Ehr’” \nWim Magré (1962)\nVariaties “Als g’in nood gezeten” \nJan Zwart (1877 – 1937)\nPostludium “Alle roem is uitgesloten”
URL:https://www.everhardzwart.nl/index.php/concert/harderwijk-grote-kerk-4/
LOCATION:Grote Kerk\, Harderwijk\, Kerkplein 1\, Harderwijk\, 3841 EC
CATEGORIES:Orgelconcerten
ATTACH;FMTTYPE=image/jpeg:https://www.everhardzwart.nl/wp-content/uploads/2017/08/Harderwijk.jpg
END:VEVENT
END:VCALENDAR