BEGIN:VCALENDAR
VERSION:2.0
PRODID:-//Everhard Zwart - ECPv6.15.20//NONSGML v1.0//EN
CALSCALE:GREGORIAN
METHOD:PUBLISH
X-WR-CALNAME:Everhard Zwart
X-ORIGINAL-URL:https://www.everhardzwart.nl
X-WR-CALDESC:Evenementen voor Everhard Zwart
REFRESH-INTERVAL;VALUE=DURATION:PT1H
X-Robots-Tag:noindex
X-PUBLISHED-TTL:PT1H
BEGIN:VTIMEZONE
TZID:Europe/Amsterdam
BEGIN:DAYLIGHT
TZOFFSETFROM:+0100
TZOFFSETTO:+0200
TZNAME:CEST
DTSTART:20240331T010000
END:DAYLIGHT
BEGIN:STANDARD
TZOFFSETFROM:+0200
TZOFFSETTO:+0100
TZNAME:CET
DTSTART:20241027T010000
END:STANDARD
BEGIN:DAYLIGHT
TZOFFSETFROM:+0100
TZOFFSETTO:+0200
TZNAME:CEST
DTSTART:20250330T010000
END:DAYLIGHT
BEGIN:STANDARD
TZOFFSETFROM:+0200
TZOFFSETTO:+0100
TZNAME:CET
DTSTART:20251026T010000
END:STANDARD
BEGIN:DAYLIGHT
TZOFFSETFROM:+0100
TZOFFSETTO:+0200
TZNAME:CEST
DTSTART:20260329T010000
END:DAYLIGHT
BEGIN:STANDARD
TZOFFSETFROM:+0200
TZOFFSETTO:+0100
TZNAME:CET
DTSTART:20261025T010000
END:STANDARD
BEGIN:DAYLIGHT
TZOFFSETFROM:+0100
TZOFFSETTO:+0200
TZNAME:CEST
DTSTART:20270328T010000
END:DAYLIGHT
BEGIN:STANDARD
TZOFFSETFROM:+0200
TZOFFSETTO:+0100
TZNAME:CET
DTSTART:20271031T010000
END:STANDARD
END:VTIMEZONE
BEGIN:VEVENT
DTSTART;TZID=Europe/Amsterdam:20250804T200000
DTEND;TZID=Europe/Amsterdam:20250804T211500
DTSTAMP:20260420T074517
CREATED:20250411T172949Z
LAST-MODIFIED:20250616T193642Z
UID:11386-1754337600-1754342100@www.everhardzwart.nl
SUMMARY:Beekbergen\, Hervormde Kerk
DESCRIPTION:Jubileumjaar 50 jaar orgelconcerten in Beekbergen \nWillem Hendrik Zwart\nFantasie “Op bergen en in dalen” \nJan Zwart\nLiedbewerking  “Scheepje onder Jezus hoede” \nJohann Sebastian Bach\nOrgelkoraal “Wohl mir dasz ich Jesum habe” \nGeorg Friedrich Händel\nAllegro (uit Concerto 6) \nRené L. BeckerFirst Sonata\n– Praeludium festivum\n– Dialogue\n– Scherzo\n– Prayer\n– Toccata \nWillem Hendrik Zwart\nFantasie Psalm 25
URL:https://www.everhardzwart.nl/index.php/concert/beekbergen-hervormde-kerk-4/
LOCATION:Hervormde Kerk Beekbergen\, Kerkweg 35\, Beekbergen\, 7361 BD
CATEGORIES:Orgelconcert
ATTACH;FMTTYPE=image/jpeg:https://www.everhardzwart.nl/wp-content/uploads/2018/06/Beekbergen.jpg
END:VEVENT
BEGIN:VEVENT
DTSTART;TZID=Europe/Amsterdam:20250806T200000
DTEND;TZID=Europe/Amsterdam:20250806T210000
DTSTAMP:20260420T074517
CREATED:20250411T173542Z
LAST-MODIFIED:20250702T190713Z
UID:11388-1754510400-1754514000@www.everhardzwart.nl
SUMMARY:Zeist\, Oude Kerk
DESCRIPTION:Programma \nWillem Hendrik Zwart\nFantasie Psalm 25 \nAloys Claussmann\nScherzo \nJohann Sebastian Bach\nOrgelkoraal “Allein Gott in der Höh’ sei Ehr’” \nGeorg Friedrich Händel\nAndante met variaties \nJohann Sebastian Bach\nOrgelkoraal “Wachet auf ruft uns die Stimme” \nRené L. Becker\nFirst Sonata\n– Praeludium festivum\n– Dialogue\n– Scherzo\n– Prayer\n– Toccata \nJan Zwart\nFantasie over het Lutherlied\n“Een vaste burcht is onze God” \n  \n  \n 
URL:https://www.everhardzwart.nl/index.php/concert/zeist-oude-kerk/
LOCATION:Zeist\, Oude Kerk\, 1e Dorpsstraat 1\, Zeist\, 3701 HA
CATEGORIES:Orgelconcert
ATTACH;FMTTYPE=image/jpeg:https://www.everhardzwart.nl/wp-content/uploads/2025/04/batz-orgel-oude-kerk-zeist.jpg
END:VEVENT
BEGIN:VEVENT
DTSTART;TZID=Europe/Amsterdam:20250808T120000
DTEND;TZID=Europe/Amsterdam:20250808T130000
DTSTAMP:20260420T074517
CREATED:20250411T173907Z
LAST-MODIFIED:20250724T134658Z
UID:11392-1754654400-1754658000@www.everhardzwart.nl
SUMMARY:Vlissingen\, Sint Jacobs Kerk
DESCRIPTION:Middagpauzeconcert \nKoororgel\nRigaudon                                                    Padre Andre Campra  (1660 – 1744) \nHoofdorgel\n– Trio  Psalm 33                                         Everhard Zwart (1958)\n– Fantasie-toccatine Psalm 33                Jan Zwart (877 – 1937) \nUit Sonata 1                                                René Louis Becker (1882 – 1956)\n– Praeludium Festivum\n– Dialogue\n– Scherzo\n– Toccata
URL:https://www.everhardzwart.nl/index.php/concert/vlissingen-sint-jacobs-kerk/
CATEGORIES:Orgelconcert
ATTACH;FMTTYPE=image/jpeg:https://www.everhardzwart.nl/wp-content/uploads/2019/01/Grote-Kerk-Vlissingen.jpg
END:VEVENT
BEGIN:VEVENT
DTSTART;TZID=Europe/Amsterdam:20250812T201500
DTEND;TZID=Europe/Amsterdam:20250812T213000
DTSTAMP:20260420T074517
CREATED:20250411T174145Z
LAST-MODIFIED:20250702T190500Z
UID:11394-1755029700-1755034200@www.everhardzwart.nl
SUMMARY:Katwijk aan Zee\, Vredeskerk
DESCRIPTION:Programma \nFeike Asma  – 1912 – 1984\nFantasie Psalm 77 \nAloys Claussmann – 1850 – 1926\nScherzo \nGeorg Friedrich Händel – 1685 – 1759\nAndante met variaties \nJan Zwart  = 1887 – 1937\nTwee liedbewerkingen\n“Blijf bij mij Heer”\n“Scheepje onder Jezus hoede” \nRené L. Becker – 1882 – 1956\nFirst Sonata\n– Praeludium festivum\n– Dialogue\n– Scherzo\n– Prayer\n– Toccata \nFeike Asma –  1912 – 1984\nFantasie Psalm 42
URL:https://www.everhardzwart.nl/index.php/concert/katwijk-aan-zee-vredeskerk-6/
LOCATION:Vredeskerk\, Katwijk aan Zee\, Baljuwplein 1\, Katwijk aan Zee\, 2225 BR
CATEGORIES:Orgelconcert
ATTACH;FMTTYPE=image/jpeg:https://www.everhardzwart.nl/wp-content/uploads/2018/06/Katwijk-Vredeskerk.jpg
END:VEVENT
BEGIN:VEVENT
DTSTART;TZID=Europe/Amsterdam:20250831T160000
DTEND;TZID=Europe/Amsterdam:20250831T170000
DTSTAMP:20260420T074517
CREATED:20250411T154035Z
LAST-MODIFIED:20250411T154035Z
UID:11369-1756656000-1756659600@www.everhardzwart.nl
SUMMARY:Steinfeld (Duitsland)\, Basilica
DESCRIPTION:Internationale Orgelcyclus
URL:https://www.everhardzwart.nl/index.php/concert/steinfeld-duitsland-basilica/
LOCATION:Steinfeld\, Basilica\, Hermann-Josef Strasse\, Steinfeld\, Germany
CATEGORIES:Orgelconcert
ATTACH;FMTTYPE=image/jpeg:https://www.everhardzwart.nl/wp-content/uploads/2025/04/Steinfeld.jpg
END:VEVENT
BEGIN:VEVENT
DTSTART;TZID=Europe/Amsterdam:20251023T200000
DTEND;TZID=Europe/Amsterdam:20251023T211500
DTSTAMP:20260420T074517
CREATED:20250724T135209Z
LAST-MODIFIED:20250728T192730Z
UID:11428-1761249600-1761254100@www.everhardzwart.nl
SUMMARY:Harderwijk\, Grote Kerk
DESCRIPTION:Programma:\nWillem Hendrik Zwart\n– Fantasie Psalm 77 \nAloys Claussmann\n– Scherzo \nWillem Hendrik Zwart\n– Liedbewerking “Leid vriend’lijk Licht” \nJohann Sebastian Bach\n– Orgelkoraal “Wachet auf ruft uns die Stimme” \nWillem Hendrik Zwart\n– Fantasie Psalm 25 \nRené L. Becker\nFirst Sonata\n– Praeludium festivum\n– Dialogue\n– Scherzo\n– Prayer\n– Toccata \nWillem Hendrik Zwart\n– Toccatine Psalm 99
URL:https://www.everhardzwart.nl/index.php/concert/harderwijk-grote-kerk-10/
LOCATION:Grote Kerk\, Harderwijk\, Kerkplein 1\, Harderwijk\, 3841 EC
CATEGORIES:Orgelconcert
ATTACH;FMTTYPE=image/jpeg:https://www.everhardzwart.nl/wp-content/uploads/2024/10/Harderwijk-kerstconcert.jpg
END:VEVENT
BEGIN:VEVENT
DTSTART;TZID=Europe/Amsterdam:20251218T200000
DTEND;TZID=Europe/Amsterdam:20251218T211500
DTSTAMP:20260420T074517
CREATED:20251216T132029Z
LAST-MODIFIED:20251216T132218Z
UID:11451-1766088000-1766092500@www.everhardzwart.nl
SUMMARY:Harderwijk\, Grote Kerk
DESCRIPTION:Programma \nWillem Hendrik Zwart\nFantasie “Hoor de eng’len zingen d’eer” \nJan Zwart –  Feike Asma\nKerstparaphrase: Ere zij God – Heerlijk klonk het lied der eng’len – Stille Nacht  – \nCarl Sattler  (1874 – 1938)\nWeihnachtspastorale unter Verwendung des Liedes: “Es ist ein Ros entsprungen” \nLouis-Claude Daquin (1694 – 1772)\nNoël \nJan Zwart – Feike Asma\nKerstparaphrase\nDaar ruist langs de wolken – O hoe heerlijk –\nNog juicht ons toe die zaal’ge nacht –\nPastorale “Hij zetelt in geen trots paleis” – Pastorale “De herdertjes” \nPietro A. Yon (1886 – !943)\nPastorale “Gesu Bambino” \nJan Zwart (1877 – 1937)\nPostludium “Daar is uit ’s werelds duistre wolken“\n“Ere zij God” \n  \n  \n 
URL:https://www.everhardzwart.nl/index.php/concert/harderwijk-grote-kerk-11/
LOCATION:Grote Kerk\, Harderwijk\, Kerkplein 1\, Harderwijk\, 3841 EC
CATEGORIES:Orgelconcert
ATTACH;FMTTYPE=image/jpeg:https://www.everhardzwart.nl/wp-content/uploads/2024/10/Harderwijk-kerstconcert.jpg
END:VEVENT
BEGIN:VEVENT
DTSTART;TZID=Europe/Amsterdam:20260425T160000
DTEND;TZID=Europe/Amsterdam:20260425T170000
DTSTAMP:20260420T074517
CREATED:20260418T140510Z
LAST-MODIFIED:20260418T172522Z
UID:11467-1777132800-1777136400@www.everhardzwart.nl
SUMMARY:Pernis\, Hervormde Kerk
DESCRIPTION:Orgelconcert met samenzang t.g.v. 100 jaar Hervormde Kerk \n  \nProgramma \nVoorspel met samenzang “Loof de Koning\, heel mijn wezen” \nConcerto “Koekoek en Nachtegaal” – Georg Friedrich Händel \nAdagio – Tomaso Albinoni \nFantasie Psalm 138  – Feike Asma\nMet aansluitend samenzang \nSonate g-minor – René Louis Becker\n– Praeludium Festivum\n– Dialogue\n– Scherzo\n– Prayer\n– Toccata \nThe Holy City –  Feike Asma \nSamenzang “U zij de glorie”
URL:https://www.everhardzwart.nl/index.php/concert/pernis-hervormde-kerk/
LOCATION:Pernis\, Hervormde Kerk\, Ring 1\, Pernis\, 3195XB
CATEGORIES:Orgel en samenzang,Orgelconcert,Orgelconcerten
ATTACH;FMTTYPE=image/jpeg:https://www.everhardzwart.nl/wp-content/uploads/2026/04/Herv.kerk-Pernis.jpg
END:VEVENT
END:VCALENDAR