BEGIN:VCALENDAR
VERSION:2.0
PRODID:-//Everhard Zwart - ECPv6.15.20//NONSGML v1.0//EN
CALSCALE:GREGORIAN
METHOD:PUBLISH
X-WR-CALNAME:Everhard Zwart
X-ORIGINAL-URL:https://www.everhardzwart.nl
X-WR-CALDESC:Evenementen voor Everhard Zwart
REFRESH-INTERVAL;VALUE=DURATION:PT1H
X-Robots-Tag:noindex
X-PUBLISHED-TTL:PT1H
BEGIN:VTIMEZONE
TZID:Europe/Amsterdam
BEGIN:DAYLIGHT
TZOFFSETFROM:+0100
TZOFFSETTO:+0200
TZNAME:CEST
DTSTART:20240331T010000
END:DAYLIGHT
BEGIN:STANDARD
TZOFFSETFROM:+0200
TZOFFSETTO:+0100
TZNAME:CET
DTSTART:20241027T010000
END:STANDARD
BEGIN:DAYLIGHT
TZOFFSETFROM:+0100
TZOFFSETTO:+0200
TZNAME:CEST
DTSTART:20250330T010000
END:DAYLIGHT
BEGIN:STANDARD
TZOFFSETFROM:+0200
TZOFFSETTO:+0100
TZNAME:CET
DTSTART:20251026T010000
END:STANDARD
BEGIN:DAYLIGHT
TZOFFSETFROM:+0100
TZOFFSETTO:+0200
TZNAME:CEST
DTSTART:20260329T010000
END:DAYLIGHT
BEGIN:STANDARD
TZOFFSETFROM:+0200
TZOFFSETTO:+0100
TZNAME:CET
DTSTART:20261025T010000
END:STANDARD
BEGIN:DAYLIGHT
TZOFFSETFROM:+0100
TZOFFSETTO:+0200
TZNAME:CEST
DTSTART:20270328T010000
END:DAYLIGHT
BEGIN:STANDARD
TZOFFSETFROM:+0200
TZOFFSETTO:+0100
TZNAME:CET
DTSTART:20271031T010000
END:STANDARD
END:VTIMEZONE
BEGIN:VEVENT
DTSTART;TZID=Europe/Amsterdam:20251023T200000
DTEND;TZID=Europe/Amsterdam:20251023T211500
DTSTAMP:20260420T082552
CREATED:20250724T135209Z
LAST-MODIFIED:20250728T192730Z
UID:11428-1761249600-1761254100@www.everhardzwart.nl
SUMMARY:Harderwijk\, Grote Kerk
DESCRIPTION:Programma:\nWillem Hendrik Zwart\n– Fantasie Psalm 77 \nAloys Claussmann\n– Scherzo \nWillem Hendrik Zwart\n– Liedbewerking “Leid vriend’lijk Licht” \nJohann Sebastian Bach\n– Orgelkoraal “Wachet auf ruft uns die Stimme” \nWillem Hendrik Zwart\n– Fantasie Psalm 25 \nRené L. Becker\nFirst Sonata\n– Praeludium festivum\n– Dialogue\n– Scherzo\n– Prayer\n– Toccata \nWillem Hendrik Zwart\n– Toccatine Psalm 99
URL:https://www.everhardzwart.nl/index.php/concert/harderwijk-grote-kerk-10/
LOCATION:Grote Kerk\, Harderwijk\, Kerkplein 1\, Harderwijk\, 3841 EC
CATEGORIES:Orgelconcert
ATTACH;FMTTYPE=image/jpeg:https://www.everhardzwart.nl/wp-content/uploads/2024/10/Harderwijk-kerstconcert.jpg
END:VEVENT
BEGIN:VEVENT
DTSTART;TZID=Europe/Amsterdam:20251218T200000
DTEND;TZID=Europe/Amsterdam:20251218T211500
DTSTAMP:20260420T082552
CREATED:20251216T132029Z
LAST-MODIFIED:20251216T132218Z
UID:11451-1766088000-1766092500@www.everhardzwart.nl
SUMMARY:Harderwijk\, Grote Kerk
DESCRIPTION:Programma \nWillem Hendrik Zwart\nFantasie “Hoor de eng’len zingen d’eer” \nJan Zwart –  Feike Asma\nKerstparaphrase: Ere zij God – Heerlijk klonk het lied der eng’len – Stille Nacht  – \nCarl Sattler  (1874 – 1938)\nWeihnachtspastorale unter Verwendung des Liedes: “Es ist ein Ros entsprungen” \nLouis-Claude Daquin (1694 – 1772)\nNoël \nJan Zwart – Feike Asma\nKerstparaphrase\nDaar ruist langs de wolken – O hoe heerlijk –\nNog juicht ons toe die zaal’ge nacht –\nPastorale “Hij zetelt in geen trots paleis” – Pastorale “De herdertjes” \nPietro A. Yon (1886 – !943)\nPastorale “Gesu Bambino” \nJan Zwart (1877 – 1937)\nPostludium “Daar is uit ’s werelds duistre wolken“\n“Ere zij God” \n  \n  \n 
URL:https://www.everhardzwart.nl/index.php/concert/harderwijk-grote-kerk-11/
LOCATION:Grote Kerk\, Harderwijk\, Kerkplein 1\, Harderwijk\, 3841 EC
CATEGORIES:Orgelconcert
ATTACH;FMTTYPE=image/jpeg:https://www.everhardzwart.nl/wp-content/uploads/2024/10/Harderwijk-kerstconcert.jpg
END:VEVENT
BEGIN:VEVENT
DTSTART;TZID=Europe/Amsterdam:20260425T160000
DTEND;TZID=Europe/Amsterdam:20260425T170000
DTSTAMP:20260420T082552
CREATED:20260418T140510Z
LAST-MODIFIED:20260418T172522Z
UID:11467-1777132800-1777136400@www.everhardzwart.nl
SUMMARY:Pernis\, Hervormde Kerk
DESCRIPTION:Orgelconcert met samenzang t.g.v. 100 jaar Hervormde Kerk \n  \nProgramma \nVoorspel met samenzang “Loof de Koning\, heel mijn wezen” \nConcerto “Koekoek en Nachtegaal” – Georg Friedrich Händel \nAdagio – Tomaso Albinoni \nFantasie Psalm 138  – Feike Asma\nMet aansluitend samenzang \nSonate g-minor – René Louis Becker\n– Praeludium Festivum\n– Dialogue\n– Scherzo\n– Prayer\n– Toccata \nThe Holy City –  Feike Asma \nSamenzang “U zij de glorie”
URL:https://www.everhardzwart.nl/index.php/concert/pernis-hervormde-kerk/
LOCATION:Pernis\, Hervormde Kerk\, Ring 1\, Pernis\, 3195XB
CATEGORIES:Orgel en samenzang,Orgelconcert,Orgelconcerten
ATTACH;FMTTYPE=image/jpeg:https://www.everhardzwart.nl/wp-content/uploads/2026/04/Herv.kerk-Pernis.jpg
END:VEVENT
END:VCALENDAR