BEGIN:VCALENDAR
VERSION:2.0
PRODID:-//Everhard Zwart - ECPv6.15.20//NONSGML v1.0//EN
CALSCALE:GREGORIAN
METHOD:PUBLISH
X-WR-CALNAME:Everhard Zwart
X-ORIGINAL-URL:https://www.everhardzwart.nl
X-WR-CALDESC:Evenementen voor Everhard Zwart
REFRESH-INTERVAL;VALUE=DURATION:PT1H
X-Robots-Tag:noindex
X-PUBLISHED-TTL:PT1H
BEGIN:VTIMEZONE
TZID:Europe/Amsterdam
BEGIN:DAYLIGHT
TZOFFSETFROM:+0100
TZOFFSETTO:+0200
TZNAME:CEST
DTSTART:20240331T010000
END:DAYLIGHT
BEGIN:STANDARD
TZOFFSETFROM:+0200
TZOFFSETTO:+0100
TZNAME:CET
DTSTART:20241027T010000
END:STANDARD
BEGIN:DAYLIGHT
TZOFFSETFROM:+0100
TZOFFSETTO:+0200
TZNAME:CEST
DTSTART:20250330T010000
END:DAYLIGHT
BEGIN:STANDARD
TZOFFSETFROM:+0200
TZOFFSETTO:+0100
TZNAME:CET
DTSTART:20251026T010000
END:STANDARD
BEGIN:DAYLIGHT
TZOFFSETFROM:+0100
TZOFFSETTO:+0200
TZNAME:CEST
DTSTART:20260329T010000
END:DAYLIGHT
BEGIN:STANDARD
TZOFFSETFROM:+0200
TZOFFSETTO:+0100
TZNAME:CET
DTSTART:20261025T010000
END:STANDARD
END:VTIMEZONE
BEGIN:VEVENT
DTSTART;TZID=Europe/Amsterdam:20250524T200000
DTEND;TZID=Europe/Amsterdam:20250524T213000
DTSTAMP:20260420T183653
CREATED:20250411T172411Z
LAST-MODIFIED:20250411T174731Z
UID:11383-1748116800-1748122200@www.everhardzwart.nl
SUMMARY:Kampen\, Bovenkerk
DESCRIPTION:Herdenkingsconcert 100-ste geboortedag Willem Hendrik Zwart \n  \nKorting via voorverkoop    www.ticketkantoor.nl/shop/EverhardZwart
URL:https://www.everhardzwart.nl/index.php/concert/kampen-bovenkerk-4/
LOCATION:Bovenkerk Kampen\, Koornmarkt 28\, Kampen\, 8261 JX
CATEGORIES:Orgelconcert
ATTACH;FMTTYPE=image/jpeg:https://www.everhardzwart.nl/wp-content/uploads/2025/04/Kampen-2025.jpg
END:VEVENT
END:VCALENDAR