BEGIN:VCALENDAR
VERSION:2.0
PRODID:-//Everhard Zwart - ECPv6.15.20//NONSGML v1.0//EN
CALSCALE:GREGORIAN
METHOD:PUBLISH
X-ORIGINAL-URL:https://www.everhardzwart.nl
X-WR-CALDESC:Evenementen voor Everhard Zwart
REFRESH-INTERVAL;VALUE=DURATION:PT1H
X-Robots-Tag:noindex
X-PUBLISHED-TTL:PT1H
BEGIN:VTIMEZONE
TZID:Europe/Amsterdam
BEGIN:DAYLIGHT
TZOFFSETFROM:+0100
TZOFFSETTO:+0200
TZNAME:CEST
DTSTART:20230326T010000
END:DAYLIGHT
BEGIN:STANDARD
TZOFFSETFROM:+0200
TZOFFSETTO:+0100
TZNAME:CET
DTSTART:20231029T010000
END:STANDARD
BEGIN:DAYLIGHT
TZOFFSETFROM:+0100
TZOFFSETTO:+0200
TZNAME:CEST
DTSTART:20240331T010000
END:DAYLIGHT
BEGIN:STANDARD
TZOFFSETFROM:+0200
TZOFFSETTO:+0100
TZNAME:CET
DTSTART:20241027T010000
END:STANDARD
BEGIN:DAYLIGHT
TZOFFSETFROM:+0100
TZOFFSETTO:+0200
TZNAME:CEST
DTSTART:20250330T010000
END:DAYLIGHT
BEGIN:STANDARD
TZOFFSETFROM:+0200
TZOFFSETTO:+0100
TZNAME:CET
DTSTART:20251026T010000
END:STANDARD
END:VTIMEZONE
BEGIN:VEVENT
DTSTART;TZID=Europe/Amsterdam:20240511T200000
DTEND;TZID=Europe/Amsterdam:20240511T210000
DTSTAMP:20260421T122054
CREATED:20240429T152220Z
LAST-MODIFIED:20240429T152220Z
UID:11139-1715457600-1715461200@www.everhardzwart.nl
SUMMARY:Ouderkerk aan den IJssel\, Dorpskerk
DESCRIPTION:Orgelconcert van Pasen naar Pinksteren \n\nFeestvoorspel en koraal Psalm 47 – Jan Zwart\n“God vaart voor het oog met gejuich omhoog”\nAdagio in sol mineur –  Tomaso Albinoni\nMeditatie – Willem Hendrik Zwart\n“O Heil’ge Geest daal op ons neer”\nToccata a-moll  – Johann Ludwig Krebs\nChoral – Johann Sebastian Bach\n“Wer nur den lieben Gott lässt walten”\nFantasie in toccata-stijl  – Cor Kee\nPsalm 24\nPetite Fantasie –  Joseph Callaerts\nFantasie over bekende Pinksterliederen – Feike Asma\nScherzo – Aloys Claussmann\nPostludium –  Jan Zwart\n“Geest des Heeren\, kom van boven”
URL:https://www.everhardzwart.nl/index.php/concert/ouderkerk-aan-den-ijssel-dorpskerk/
LOCATION:Dorpskerk Ouderkerk ad IJssel\, Kalverstraat 1\, Ouderkerk aan den IJssel
CATEGORIES:Orgelconcert
ATTACH;FMTTYPE=image/jpeg:https://www.everhardzwart.nl/wp-content/uploads/2024/04/Ouderkerk-a.d-IJssel.jpeg
END:VEVENT
END:VCALENDAR