BEGIN:VCALENDAR
VERSION:2.0
PRODID:-//Everhard Zwart - ECPv6.15.20//NONSGML v1.0//EN
CALSCALE:GREGORIAN
METHOD:PUBLISH
X-WR-CALNAME:Everhard Zwart
X-ORIGINAL-URL:https://www.everhardzwart.nl
X-WR-CALDESC:Evenementen voor Everhard Zwart
REFRESH-INTERVAL;VALUE=DURATION:PT1H
X-Robots-Tag:noindex
X-PUBLISHED-TTL:PT1H
BEGIN:VTIMEZONE
TZID:Europe/Amsterdam
BEGIN:DAYLIGHT
TZOFFSETFROM:+0100
TZOFFSETTO:+0200
TZNAME:CEST
DTSTART:20220327T010000
END:DAYLIGHT
BEGIN:STANDARD
TZOFFSETFROM:+0200
TZOFFSETTO:+0100
TZNAME:CET
DTSTART:20221030T010000
END:STANDARD
BEGIN:DAYLIGHT
TZOFFSETFROM:+0100
TZOFFSETTO:+0200
TZNAME:CEST
DTSTART:20230326T010000
END:DAYLIGHT
BEGIN:STANDARD
TZOFFSETFROM:+0200
TZOFFSETTO:+0100
TZNAME:CET
DTSTART:20231029T010000
END:STANDARD
BEGIN:DAYLIGHT
TZOFFSETFROM:+0100
TZOFFSETTO:+0200
TZNAME:CEST
DTSTART:20240331T010000
END:DAYLIGHT
BEGIN:STANDARD
TZOFFSETFROM:+0200
TZOFFSETTO:+0100
TZNAME:CET
DTSTART:20241027T010000
END:STANDARD
END:VTIMEZONE
BEGIN:VEVENT
DTSTART;TZID=Europe/Amsterdam:20231019T200000
DTEND;TZID=Europe/Amsterdam:20231019T210000
DTSTAMP:20260422T001150
CREATED:20230922T181130Z
LAST-MODIFIED:20230922T181130Z
UID:11041-1697745600-1697749200@www.everhardzwart.nl
SUMMARY:Harderwijk\, Grote Kerk
DESCRIPTION:Orgelconcert \nPsalm 33\ntrio                                                                            Everhard Zwart\nFantasie-toccatine                                                 Jan Zwart \nAndre Campra                                                        1660 – 1774\nRigaudon \nJean-Baptiste Loeillet                                           1680 – 1730\nAria (uit Suite in A) \nJohann Sebastian Bach                                        1685 – 1750\nToccata et Fuga  d-moll \nGeorg Friedrich Händel                                       1685 – 1759\nAndante met variaties \nFilippo Capocci                                                      1840 – 1911\nScherzo in D \nWilliam Reed                                                          1876 – 1942\nCantilène \nCésar Franck                                                           1822 – 1890\nSortie \nHendrik Andriessen                                              1892 – 1981\nPremier Choral \nJan Zwart                                                                 1877 – 1937\nToccata Psalm 146 \n 
URL:https://www.everhardzwart.nl/index.php/concert/harderwijk-grote-kerk-7/
LOCATION:Grote Kerk\, Harderwijk\, Kerkplein 1\, Harderwijk\, 3841 EC
CATEGORIES:Orgelconcert
ATTACH;FMTTYPE=image/jpeg:https://www.everhardzwart.nl/wp-content/uploads/2017/08/Harderwijk.jpg
END:VEVENT
END:VCALENDAR