BEGIN:VCALENDAR
VERSION:2.0
PRODID:-//Everhard Zwart - ECPv6.15.20//NONSGML v1.0//EN
CALSCALE:GREGORIAN
METHOD:PUBLISH
X-ORIGINAL-URL:https://www.everhardzwart.nl
X-WR-CALDESC:Evenementen voor Everhard Zwart
REFRESH-INTERVAL;VALUE=DURATION:PT1H
X-Robots-Tag:noindex
X-PUBLISHED-TTL:PT1H
BEGIN:VTIMEZONE
TZID:UTC
BEGIN:STANDARD
TZOFFSETFROM:+0000
TZOFFSETTO:+0000
TZNAME:UTC
DTSTART:20210101T000000
END:STANDARD
END:VTIMEZONE
BEGIN:VEVENT
DTSTART;TZID=UTC:20220924T200000
DTEND;TZID=UTC:20220924T210000
DTSTAMP:20260423T043140
CREATED:20220915T154534Z
LAST-MODIFIED:20220915T203107Z
UID:10859-1664049600-1664053200@www.everhardzwart.nl
SUMMARY:Zaamslag\, Podium van Zaamslag
DESCRIPTION:Podium van Zaamslag \nOrgelconcert\, aanvang 20.00 uur t.g.v. 100 jarig bestaan van het orgel \n 
URL:https://www.everhardzwart.nl/index.php/concert/zaamslag-podium-van-zaamslag/
LOCATION:Podium van Zaamslag\, Terneuzensestraat 2\, Zaamslag\, 4543BN
CATEGORIES:Orgelconcert
ATTACH;FMTTYPE=image/jpeg:https://www.everhardzwart.nl/wp-content/uploads/2022/09/Zaamslag-podium.jpg
END:VEVENT
END:VCALENDAR