BEGIN:VCALENDAR
VERSION:2.0
PRODID:-//Everhard Zwart - ECPv6.15.20//NONSGML v1.0//EN
CALSCALE:GREGORIAN
METHOD:PUBLISH
X-ORIGINAL-URL:https://www.everhardzwart.nl
X-WR-CALDESC:Evenementen voor Everhard Zwart
REFRESH-INTERVAL;VALUE=DURATION:PT1H
X-Robots-Tag:noindex
X-PUBLISHED-TTL:PT1H
BEGIN:VTIMEZONE
TZID:Europe/Amsterdam
BEGIN:DAYLIGHT
TZOFFSETFROM:+0100
TZOFFSETTO:+0200
TZNAME:CEST
DTSTART:20210328T010000
END:DAYLIGHT
BEGIN:STANDARD
TZOFFSETFROM:+0200
TZOFFSETTO:+0100
TZNAME:CET
DTSTART:20211031T010000
END:STANDARD
BEGIN:DAYLIGHT
TZOFFSETFROM:+0100
TZOFFSETTO:+0200
TZNAME:CEST
DTSTART:20220327T010000
END:DAYLIGHT
BEGIN:STANDARD
TZOFFSETFROM:+0200
TZOFFSETTO:+0100
TZNAME:CET
DTSTART:20221030T010000
END:STANDARD
BEGIN:DAYLIGHT
TZOFFSETFROM:+0100
TZOFFSETTO:+0200
TZNAME:CEST
DTSTART:20230326T010000
END:DAYLIGHT
BEGIN:STANDARD
TZOFFSETFROM:+0200
TZOFFSETTO:+0100
TZNAME:CET
DTSTART:20231029T010000
END:STANDARD
END:VTIMEZONE
BEGIN:VEVENT
DTSTART;TZID=Europe/Amsterdam:20220801T200000
DTEND;TZID=Europe/Amsterdam:20220801T210000
DTSTAMP:20260423T062543
CREATED:20220727T043102Z
LAST-MODIFIED:20220727T043523Z
UID:10814-1659384000-1659387600@www.everhardzwart.nl
SUMMARY:Capelle aan den IJssel\, Nieuwe Westerkerk
DESCRIPTION:Orgelconcerten in de zomer. \nDit seizoen 5 orgelconcerten op de maandagavonden in augustus. \nWisselende en veelzijdige programma’s met een verzoekprogramma op 29 augustus
URL:https://www.everhardzwart.nl/index.php/concert/capelle-aan-den-ijssel-nieuwe-westerkerk-6/
LOCATION:Nieuwe Westerkerk Capelle a/d IJssel\, Valeriusrondeel 670\, Capelle aan den IJssel\, 2902CT
CATEGORIES:Orgelconcert,Orgelconcerten
ATTACH;FMTTYPE=image/jpeg:https://www.everhardzwart.nl/wp-content/uploads/2018/06/Capelle-ad-IJssel-Westerkerk.jpg
END:VEVENT
BEGIN:VEVENT
DTSTART;TZID=Europe/Amsterdam:20220802T201500
DTEND;TZID=Europe/Amsterdam:20220802T213000
DTSTAMP:20260423T062543
CREATED:20220728T063728Z
LAST-MODIFIED:20220728T063728Z
UID:10827-1659471300-1659475800@www.everhardzwart.nl
SUMMARY:Katwijk aan Zee\, Vredeskerk
DESCRIPTION:Orgelconcert met o.a. werken van Bach\, Händel\, Krebs\, Mendelssohn\, Capocci\, Callaerts\, Choveuax \n 
URL:https://www.everhardzwart.nl/index.php/concert/katwijk-aan-zee-vredeskerk-3/
LOCATION:Vredeskerk\, Katwijk aan Zee\, Baljuwplein 1\, Katwijk aan Zee\, 2225 BR
CATEGORIES:Orgelconcert,Orgelconcerten
ATTACH;FMTTYPE=image/jpeg:https://www.everhardzwart.nl/wp-content/uploads/2018/06/Katwijk-Vredeskerk.jpg
END:VEVENT
BEGIN:VEVENT
DTSTART;TZID=Europe/Amsterdam:20220808T200000
DTEND;TZID=Europe/Amsterdam:20220808T210000
DTSTAMP:20260423T062543
CREATED:20220728T061542Z
LAST-MODIFIED:20220728T061542Z
UID:10819-1659988800-1659992400@www.everhardzwart.nl
SUMMARY:Capelle aan den IJssel\, Nieuwe Westerkerk
DESCRIPTION:Orgelconcerten in de zomer. \nDit seizoen 5 orgelconcerten op de maandagavonden in augustus. \nWisselende en veelzijdige programma’s met een verzoekprogramma op 29 augustus
URL:https://www.everhardzwart.nl/index.php/concert/capelle-aan-den-ijssel-nieuwe-westerkerk-7/
LOCATION:Nieuwe Westerkerk Capelle a/d IJssel\, Valeriusrondeel 670\, Capelle aan den IJssel\, 2902CT
CATEGORIES:Orgelconcert,Orgelconcerten
ATTACH;FMTTYPE=image/jpeg:https://www.everhardzwart.nl/wp-content/uploads/2018/06/Capelle-ad-IJssel-Westerkerk.jpg
END:VEVENT
BEGIN:VEVENT
DTSTART;TZID=Europe/Amsterdam:20220815T200000
DTEND;TZID=Europe/Amsterdam:20220815T210000
DTSTAMP:20260423T062543
CREATED:20220728T061705Z
LAST-MODIFIED:20220813T182203Z
UID:10821-1660593600-1660597200@www.everhardzwart.nl
SUMMARY:Capelle aan den IJssel\, Nieuwe Westerkerk
DESCRIPTION:Everhard Zwart\nVoorspel “Abba Vader” \nJohn Stanley\nAir in d-minor \nJohann Sebastian Bach\nPraeludium und fuge  a-moll \nGeorg Friedrich Händel\nConcerto 10\nAndante – Allegro – Allegro \nCésar Franck\nCantabilé \nFilippo Capocci\nScherzo \nJoseph Callaerts\nPetit Fantasie \nNicholas Choveaux\nMarch \nFeike Asma\nFantasie Psalm 42
URL:https://www.everhardzwart.nl/index.php/concert/capelle-aan-den-ijssel-nieuwe-westerkerk-8/
LOCATION:Nieuwe Westerkerk Capelle a/d IJssel\, Valeriusrondeel 670\, Capelle aan den IJssel\, 2902CT
CATEGORIES:Orgelconcert,Orgelconcerten
ATTACH;FMTTYPE=image/jpeg:https://www.everhardzwart.nl/wp-content/uploads/2015/08/image9.jpg
END:VEVENT
BEGIN:VEVENT
DTSTART;TZID=Europe/Amsterdam:20220816T200000
DTEND;TZID=Europe/Amsterdam:20220816T210000
DTSTAMP:20260423T062543
CREATED:20220728T064004Z
LAST-MODIFIED:20220804T164749Z
UID:10829-1660680000-1660683600@www.everhardzwart.nl
SUMMARY:Apeldoorn\, Grote Kerk
DESCRIPTION:Orgelconcert \nWillem Hendrik Zwart\nVoorspel en koraal Psalm 71\n“Op U betrouw ik\, Heer der Heren” \nGeorg Friedrich Händel\nConcerto 10\nAndante – Allegro – Allegro \nJohann Sebastian Bach\nPraeludium und Fuge  a-moll\nBWV 543 \nAloys Claussmann\nScherzo\nOpus 16 \nJoseph Callaerts\nPetit Fantasie \nJacques-Nicolas Lemmens\nSonate in D\n– Fanfare\n– Cantabilé\n– Finale \nWillem Hendrik Zwart Orgelkoraal\n– “Leid vriend’lijk Licht”\n– Finale Psalm 99
URL:https://www.everhardzwart.nl/index.php/concert/apeldoorn-grote-kerk-4/
LOCATION:Grote Kerk\, Apeldoorn\, Loolaan 16\, Apeldoorn\, 7315 AB
CATEGORIES:Orgelconcert,Orgelconcerten
ATTACH;FMTTYPE=image/jpeg:https://www.everhardzwart.nl/wp-content/uploads/2018/06/Apeldoorn-Grote-Kerk.jpg
END:VEVENT
BEGIN:VEVENT
DTSTART;TZID=Europe/Amsterdam:20220818T200000
DTEND;TZID=Europe/Amsterdam:20220818T210000
DTSTAMP:20260423T062543
CREATED:20220728T065044Z
LAST-MODIFIED:20220728T065721Z
UID:10833-1660852800-1660856400@www.everhardzwart.nl
SUMMARY:Doesburg\, Martinikerk
DESCRIPTION:Hendrik Andriessen\n– Deuxième Choral \nJohann Sebastian Bach\n– Praeludium und Fuge  a-moll \nKarl Hoyer\n– Einleitung\, Variatioenen und Fuge über den Choral “Jerusalem\, du hochgebaute Stadt” \nMax Reger\n– Melodia \nJosef Renner jr\n– Thema mit Variationen \nAivars Kalējs\n– Toccata “Allein Gott in der Höh’ sei Ehr”
URL:https://www.everhardzwart.nl/index.php/concert/doesburg-martinikerk/
LOCATION:Doesburg\, Martinikerk\, Kerkstraat 4\, Doesburg\, 6981CM
CATEGORIES:Orgelconcert,Orgelconcerten
ATTACH;FMTTYPE=image/jpeg:https://www.everhardzwart.nl/wp-content/uploads/2022/07/Doesburg-Martinikerk.jpg
END:VEVENT
BEGIN:VEVENT
DTSTART;TZID=Europe/Amsterdam:20220822T200000
DTEND;TZID=Europe/Amsterdam:20220822T210000
DTSTAMP:20260423T062543
CREATED:20220728T061850Z
LAST-MODIFIED:20220728T061850Z
UID:10823-1661198400-1661202000@www.everhardzwart.nl
SUMMARY:Capelle aan den IJssel\, Nieuwe Westerkerk
DESCRIPTION:Orgelconcerten in de zomer. \nDit seizoen 5 orgelconcerten op de maandagavonden in augustus. \nWisselende en veelzijdige programma’s met een verzoekprogramma op 29 augustus
URL:https://www.everhardzwart.nl/index.php/concert/capelle-aan-den-ijssel-nieuwe-westerkerk-9/
LOCATION:Nieuwe Westerkerk Capelle a/d IJssel\, Valeriusrondeel 670\, Capelle aan den IJssel\, 2902CT
CATEGORIES:Orgelconcert,Orgelconcerten
ATTACH;FMTTYPE=image/jpeg:https://www.everhardzwart.nl/wp-content/uploads/2017/08/Orgel-Westerkerk.jpg
END:VEVENT
BEGIN:VEVENT
DTSTART;TZID=Europe/Amsterdam:20220829T200000
DTEND;TZID=Europe/Amsterdam:20220829T210000
DTSTAMP:20260423T062543
CREATED:20220728T062109Z
LAST-MODIFIED:20220828T095722Z
UID:10825-1661803200-1661806800@www.everhardzwart.nl
SUMMARY:Capelle aan den IJssel\, Nieuwe Westerkerk
DESCRIPTION:Slotconcert met een verzoekprogramma \nJan Zwart\nToccata Psalm 118 \nLéon Boëllmann\nuit Suite Gotique\n– Prière\n– Toccata \nSamuel Wesley\n– Air and Gavotte \nAlexandre Guilmant\nScherzo Symphonique \nGeorg Friedrich Händel\nConcerto Koekoek en Nachtegaal \nEverhard Zwart\nLiedbewerking “Soms groet een licht van vreugde” \nAlexandre Guilmant\nMarche funèbre et Chant Sérafique \nTheodore Dubois\nToccata \nJan Zwart\nFantasie alla marcia over het Wilhelmus\nmet de bede uit Psalm 134 “Dat ’s Heeren zege op u daal”
URL:https://www.everhardzwart.nl/index.php/concert/capelle-aan-den-ijssel-nieuwe-westerkerk-10/
LOCATION:Nieuwe Westerkerk Capelle a/d IJssel\, Valeriusrondeel 670\, Capelle aan den IJssel\, 2902CT
CATEGORIES:Orgelconcert,Orgelconcerten
ATTACH;FMTTYPE=image/jpeg:https://www.everhardzwart.nl/wp-content/uploads/2017/08/Orgel-Westerkerk.jpg
END:VEVENT
END:VCALENDAR