BEGIN:VCALENDAR
VERSION:2.0
PRODID:-//Everhard Zwart - ECPv6.15.20//NONSGML v1.0//EN
CALSCALE:GREGORIAN
METHOD:PUBLISH
X-ORIGINAL-URL:https://www.everhardzwart.nl
X-WR-CALDESC:Evenementen voor Everhard Zwart
REFRESH-INTERVAL;VALUE=DURATION:PT1H
X-Robots-Tag:noindex
X-PUBLISHED-TTL:PT1H
BEGIN:VTIMEZONE
TZID:Europe/Amsterdam
BEGIN:DAYLIGHT
TZOFFSETFROM:+0100
TZOFFSETTO:+0200
TZNAME:CEST
DTSTART:20210328T010000
END:DAYLIGHT
BEGIN:STANDARD
TZOFFSETFROM:+0200
TZOFFSETTO:+0100
TZNAME:CET
DTSTART:20211031T010000
END:STANDARD
BEGIN:DAYLIGHT
TZOFFSETFROM:+0100
TZOFFSETTO:+0200
TZNAME:CEST
DTSTART:20220327T010000
END:DAYLIGHT
BEGIN:STANDARD
TZOFFSETFROM:+0200
TZOFFSETTO:+0100
TZNAME:CET
DTSTART:20221030T010000
END:STANDARD
BEGIN:DAYLIGHT
TZOFFSETFROM:+0100
TZOFFSETTO:+0200
TZNAME:CEST
DTSTART:20230326T010000
END:DAYLIGHT
BEGIN:STANDARD
TZOFFSETFROM:+0200
TZOFFSETTO:+0100
TZNAME:CET
DTSTART:20231029T010000
END:STANDARD
END:VTIMEZONE
BEGIN:VEVENT
DTSTART;TZID=Europe/Amsterdam:20220701T200000
DTEND;TZID=Europe/Amsterdam:20220701T210000
DTSTAMP:20260423T075955
CREATED:20220625T054336Z
LAST-MODIFIED:20220626T062516Z
UID:10751-1656705600-1656709200@www.everhardzwart.nl
SUMMARY:Drachten\, Grote Kerk
DESCRIPTION:Orgelconcert \nWillem Hendrik Zwart\nVoorspel en koraal Psalm 71 \nJohann Sebastian Bach\n– Andante\n– Praeludium in G\n–  Choralvorspiel “Wachet auf” \nGeorg Friedrich Händel\nAndante met variaties \nFélix Mendelssohn-Bartholdy\nAndante en Allegretto\n(uit Sonate 4) \nFilippo Capocci\nScherzo \nHendrik Andriessen\nThema met Variaties \nEverhard Zwart\nPsalm 38\nWillem Hendrik Zwart\nToccatine Psalm 99
URL:https://www.everhardzwart.nl/index.php/concert/drachten-grote-kerk-4/
LOCATION:Grote Kerk Drachten\, De Drift 2\, Drachten\, 9203 GG
CATEGORIES:Orgelconcert
ATTACH;FMTTYPE=image/jpeg:https://www.everhardzwart.nl/wp-content/uploads/2019/01/Grote-Kerk-Drachten.jpg
END:VEVENT
BEGIN:VEVENT
DTSTART;TZID=Europe/Amsterdam:20220708T200000
DTEND;TZID=Europe/Amsterdam:20220708T210000
DTSTAMP:20260423T075955
CREATED:20220625T055642Z
LAST-MODIFIED:20220701T062454Z
UID:10753-1657310400-1657314000@www.everhardzwart.nl
SUMMARY:Maasland\, Oude Kerk
DESCRIPTION:Programma: \nDrie Psalmbewerkingen:\n– Fantasie Psalm 77 – Willem Hendrik Zwart\n– Inleiding en trio Psalm 4 – Everhard Zwart\n– Voorspel en koraal Psalm 71 – Willem Hendrik Zwart \nJohann Sebastian Bach\n– Praeludium G-dur\n– Choral “Wachet auf” \nGeorg Friedrich Händel\n– Andante met variaties \nAugust Freyer\n– Concert-Variationen “Du Hirte Israëls” \nFilippo Capocci\n– Scherzo\nJoseph Callaerts\n– Petit Fantasie\nNicholas Choveuax\n– March \nFeike Asma Fantasie\n– Psalm 42
URL:https://www.everhardzwart.nl/index.php/concert/maasland-oude-kerk/
LOCATION:Maasland\, Oude Kerk\, Kerkstraat 1\, Maasland\, 3155AN
CATEGORIES:Orgelconcert
ATTACH;FMTTYPE=image/jpeg:https://www.everhardzwart.nl/wp-content/uploads/2022/06/Maasland.jpg
END:VEVENT
BEGIN:VEVENT
DTSTART;TZID=Europe/Amsterdam:20220720T160000
DTEND;TZID=Europe/Amsterdam:20220720T170000
DTSTAMP:20260423T075955
CREATED:20220625T061723Z
LAST-MODIFIED:20220625T062907Z
UID:10759-1658332800-1658336400@www.everhardzwart.nl
SUMMARY:Urk\, Bethelkerk
DESCRIPTION:Inloop concert \nWillem Hendrik Zwart\nBewerking Psalm 71 – “k Betrouw op U\, hoor mijn gebeden” \nJohann Sebastian Bach\nAndante \nGeorg Philipp Telemann\nFantasia g-moll  – Allegro – Largo – Allegro \nAugust Freyer\nConcert-Variationen – “Du Hirte Israëls” \nFilippo Capocci\n– Scherzo\nJoseph Callaerts\n– Petit Fantasie\nNicholas Choveuax\n– March \nEverhard Zwart\n– Voorspel en koraal Psalm 38\nWillem Hendrik Zwart\n– Fantasie Psalm 77
URL:https://www.everhardzwart.nl/index.php/concert/urk-bethelkerk-2/
LOCATION:Bethelkerk\, Urk\, Wijk 3-3\, Urk\, 8321 EW
CATEGORIES:Orgelconcert
ATTACH;FMTTYPE=image/jpeg:https://www.everhardzwart.nl/wp-content/uploads/2018/06/Urk-Bethelkerk.jpg
END:VEVENT
END:VCALENDAR