BEGIN:VCALENDAR
VERSION:2.0
PRODID:-//Everhard Zwart - ECPv6.15.20//NONSGML v1.0//EN
CALSCALE:GREGORIAN
METHOD:PUBLISH
X-ORIGINAL-URL:https://www.everhardzwart.nl
X-WR-CALDESC:Evenementen voor Everhard Zwart
REFRESH-INTERVAL;VALUE=DURATION:PT1H
X-Robots-Tag:noindex
X-PUBLISHED-TTL:PT1H
BEGIN:VTIMEZONE
TZID:Europe/Amsterdam
BEGIN:DAYLIGHT
TZOFFSETFROM:+0100
TZOFFSETTO:+0200
TZNAME:CEST
DTSTART:20200329T010000
END:DAYLIGHT
BEGIN:STANDARD
TZOFFSETFROM:+0200
TZOFFSETTO:+0100
TZNAME:CET
DTSTART:20201025T010000
END:STANDARD
BEGIN:DAYLIGHT
TZOFFSETFROM:+0100
TZOFFSETTO:+0200
TZNAME:CEST
DTSTART:20210328T010000
END:DAYLIGHT
BEGIN:STANDARD
TZOFFSETFROM:+0200
TZOFFSETTO:+0100
TZNAME:CET
DTSTART:20211031T010000
END:STANDARD
BEGIN:DAYLIGHT
TZOFFSETFROM:+0100
TZOFFSETTO:+0200
TZNAME:CEST
DTSTART:20220327T010000
END:DAYLIGHT
BEGIN:STANDARD
TZOFFSETFROM:+0200
TZOFFSETTO:+0100
TZNAME:CET
DTSTART:20221030T010000
END:STANDARD
END:VTIMEZONE
BEGIN:VEVENT
DTSTART;TZID=Europe/Amsterdam:20210922T200000
DTEND;TZID=Europe/Amsterdam:20210922T210000
DTSTAMP:20260424T000008
CREATED:20210915T064223Z
LAST-MODIFIED:20210915T083715Z
UID:10703-1632340800-1632344400@www.everhardzwart.nl
SUMMARY:Workum\, Grote of St Gertrudiskerk
DESCRIPTION:Orgelconcert \nComposities van o.a. Jan Zwart\, G.F. Telemann\, J.S. Bach\, J.G. Walther\, A. Claussmann\, A. Durand en Th. Dubois
URL:https://www.everhardzwart.nl/index.php/concert/workum-grote-of-st-gertrudiskerk/
LOCATION:St. Gertrudiskerk\, Merk 5\, Workum\, 8711CL
CATEGORIES:Orgelconcert
ATTACH;FMTTYPE=image/jpeg:https://www.everhardzwart.nl/wp-content/uploads/2021/09/workum.jpg
END:VEVENT
END:VCALENDAR