BEGIN:VCALENDAR
VERSION:2.0
PRODID:-//Everhard Zwart - ECPv6.15.20//NONSGML v1.0//EN
CALSCALE:GREGORIAN
METHOD:PUBLISH
X-ORIGINAL-URL:https://www.everhardzwart.nl
X-WR-CALDESC:Evenementen voor Everhard Zwart
REFRESH-INTERVAL;VALUE=DURATION:PT1H
X-Robots-Tag:noindex
X-PUBLISHED-TTL:PT1H
BEGIN:VTIMEZONE
TZID:Europe/Amsterdam
BEGIN:DAYLIGHT
TZOFFSETFROM:+0100
TZOFFSETTO:+0200
TZNAME:CEST
DTSTART:20180325T010000
END:DAYLIGHT
BEGIN:STANDARD
TZOFFSETFROM:+0200
TZOFFSETTO:+0100
TZNAME:CET
DTSTART:20181028T010000
END:STANDARD
BEGIN:DAYLIGHT
TZOFFSETFROM:+0100
TZOFFSETTO:+0200
TZNAME:CEST
DTSTART:20190331T010000
END:DAYLIGHT
BEGIN:STANDARD
TZOFFSETFROM:+0200
TZOFFSETTO:+0100
TZNAME:CET
DTSTART:20191027T010000
END:STANDARD
BEGIN:DAYLIGHT
TZOFFSETFROM:+0100
TZOFFSETTO:+0200
TZNAME:CEST
DTSTART:20200329T010000
END:DAYLIGHT
BEGIN:STANDARD
TZOFFSETFROM:+0200
TZOFFSETTO:+0100
TZNAME:CET
DTSTART:20201025T010000
END:STANDARD
BEGIN:DAYLIGHT
TZOFFSETFROM:+0100
TZOFFSETTO:+0200
TZNAME:CEST
DTSTART:20210328T010000
END:DAYLIGHT
BEGIN:STANDARD
TZOFFSETFROM:+0200
TZOFFSETTO:+0100
TZNAME:CET
DTSTART:20211031T010000
END:STANDARD
BEGIN:DAYLIGHT
TZOFFSETFROM:+0100
TZOFFSETTO:+0200
TZNAME:CEST
DTSTART:20220327T010000
END:DAYLIGHT
BEGIN:STANDARD
TZOFFSETFROM:+0200
TZOFFSETTO:+0100
TZNAME:CET
DTSTART:20221030T010000
END:STANDARD
BEGIN:DAYLIGHT
TZOFFSETFROM:+0100
TZOFFSETTO:+0200
TZNAME:CEST
DTSTART:20230326T010000
END:DAYLIGHT
BEGIN:STANDARD
TZOFFSETFROM:+0200
TZOFFSETTO:+0100
TZNAME:CET
DTSTART:20231029T010000
END:STANDARD
BEGIN:DAYLIGHT
TZOFFSETFROM:+0100
TZOFFSETTO:+0200
TZNAME:CEST
DTSTART:20240331T010000
END:DAYLIGHT
BEGIN:STANDARD
TZOFFSETFROM:+0200
TZOFFSETTO:+0100
TZNAME:CET
DTSTART:20241027T010000
END:STANDARD
BEGIN:DAYLIGHT
TZOFFSETFROM:+0100
TZOFFSETTO:+0200
TZNAME:CEST
DTSTART:20250330T010000
END:DAYLIGHT
BEGIN:STANDARD
TZOFFSETFROM:+0200
TZOFFSETTO:+0100
TZNAME:CET
DTSTART:20251026T010000
END:STANDARD
END:VTIMEZONE
BEGIN:VEVENT
DTSTART;TZID=Europe/Amsterdam:20240708T200000
DTEND;TZID=Europe/Amsterdam:20240708T200000
DTSTAMP:20260420T094049
CREATED:20240509T061949Z
LAST-MODIFIED:20240509T061949Z
UID:11150-1720468800-1720468800@www.everhardzwart.nl
SUMMARY:Beekbergen\, Hervormde Kerk
DESCRIPTION:Concert door Boudewijn Zwart en Everhard Zwart\nmet orgel\, beiaard en piano \nOrgelsolo\nFantasie “Op bergen en in dalen”  – Willem Hendrik Zwart \nOrgel & Beiaard\nCanon en Prelude in d – Johann Pachelbel \nOrgelsolo\nScherzo Aloys – Claussmann \nOrgel & Beiaard\nTwee Italiaanse composities\n– Psaume CVIX “Il ceuli immensi”  – Benedetto Marcello\n– Gavotte  – Giovani Battista Martini \nPianosolo\nImprovisatie  –  Boudewijn Zwart \nOrgel & Beiaard\nTwee Franse composities\nLe Cygne (uit: Carnaval des Animeaux)  – Camille Saint-Saëns\nToccata en re minuer   – Albert Renaud \nOrgelsolo\nToccata Psalm 146 – Jan Zwart
URL:https://www.everhardzwart.nl/index.php/concert/beekbergen-hervormde-kerk-3/
LOCATION:Hervormde Kerk Beekbergen\, Kerkweg 35\, Beekbergen\, 7361 BD
CATEGORIES:Orgel en beiaard,Orgel Plus,Orgelconcert,Orgelconcerten
ATTACH;FMTTYPE=image/jpeg:https://www.everhardzwart.nl/wp-content/uploads/2018/06/Beekbergen.jpg
END:VEVENT
BEGIN:VEVENT
DTSTART;TZID=Europe/Amsterdam:20220711T200000
DTEND;TZID=Europe/Amsterdam:20220711T210000
DTSTAMP:20260420T094049
CREATED:20220625T060454Z
LAST-MODIFIED:20220625T062551Z
UID:10757-1657569600-1657573200@www.everhardzwart.nl
SUMMARY:Beekbergen\, Hervormde Kerk
DESCRIPTION:Everhard Zwart orgel & Boudewijn Zwart Carillon \nIn 2020 was het plan om te vieren dat er 45 jaar orgelconcerten worden georganiseerd.\nHelaas ging dit alles niet door. Toch willen wordt er aan dit jubileum niet voorbij gegaan.\nIn 1975 heeft Willem Hendrik Zwart zijn eerste orgelconcert gegeven in Beekbergen.\nWegens succes zijn er daarna op de maandagavond in juli en augustus ieder jaar orgelconcerten gegeven. \nEen bijzonder feestelijk concert door de neven Everhard en Boudewijn. \nProgramma: \nOrgelsolo\nWillem Hendrik Zwart\nFantasie Psalm 71 \nOrgel & Beiaard\nJohann Sebastian Bach\nToccata et Fuga in d BWV 565 \nGeorg Friedrich Händel\n Sonate in F HWV 369\n– Andante\n– Allegro\n– Siciliano\n– Allegro \nOrgelsolo\nGabriel Marie\nLa Cinquantaine \nOrgel & Kamerbeiaard\nJoseph Blanco\nConcerto für zwei Orgeln \nOrgel & Piano\nAlexandre Guilmant\nPastorale op. 26 \nCharles-Marie Widor\nHumoresque op. 6 nr. 1 \nOrgel & Kamerbeiaard\nLéon Boëllmann\nSuite gothique\, op. 25\n Introduction – Choral\nMenuet gothique\nPrière à Notre-Dame\nToccata \nJan Zwart\n Fantasie – Toccatine Psalm 33 
URL:https://www.everhardzwart.nl/index.php/concert/beekbergen-hervormde-kerk-2/
LOCATION:Hervormde Kerk Beekbergen\, Kerkweg 35\, Beekbergen\, 7361 BD
CATEGORIES:Orgel Plus
ATTACH;FMTTYPE=image/jpeg:https://www.everhardzwart.nl/wp-content/uploads/2018/06/Beekbergen.jpg
END:VEVENT
BEGIN:VEVENT
DTSTART;TZID=Europe/Amsterdam:20190615T160000
DTEND;TZID=Europe/Amsterdam:20190615T170000
DTSTAMP:20260420T094049
CREATED:20190107T121342Z
LAST-MODIFIED:20190506T091714Z
UID:2230-1560614400-1560618000@www.everhardzwart.nl
SUMMARY:Nijkerk\, De Fontein
DESCRIPTION:NIJKERK ZINGT & MUSICEERT \nZaterdagmiddag 15 juni \nAanvang 16.00 uur \n“De Fontein”\, Ds. Kuypersstraat 2\, 3863 CA  Nijkerk \nToegang € 8\,- (inclusief consumptie) / Kinderen t/m 14 jaar gratis \nMet medewerking van: \n  \nGroot Samengesteld Nijkerks koor o.l.v. Robert Bakker \nBrass ’n Praise o.l.v. Bert Groothedde \nRobert Bakker – dirigent en piano \nWim Ruitenbeek – beiaard \nEverhard Zwart – orgel \nBoudewijn Zwart – piano\, beiaard en presentatie \n  \nProgramma: \n  \n\nOrgel en beiaard\n\n                 Toccata et Fuga in d BWV 565                                  Johann Sebastian Bach 1685-1950 \n  \n\nPiano en beiaard\n\nUit: Pianoconcert nr. 23 in A KV 488                              Wolfgang Amadeus Mozart 1756-1791 \n                Deel 2: Adagio \n  \n\nPiano à quatre mains\n\nUit: Symfonie nr. 40 in g KV 550                                       Wolfgang Amadeus Mozart \nDeel 1: Molto allegro \n  \n\nKoperblazers\n\n  \n\nOrgel en beiaard\n\nSuite Gothique op. 25                                                   Léon Boëllmann 1862-1897                          \nIntroduction – Choral \nMenuet gothique \nPrière à Notre-Dame \nToccata \n  \n\nSuite ‘Bell Moods’                                                                   Boudewijn Zwart *1962\n\nvoor beiaard\, koor\, koperblazers\, orgel en piano \nI              We strike… \nII             We chime… \nIII            We ring… \nIV            We toll… \nV             We sing… \n  \nNA AFLOOP IS ER VOOR IEDEREEN EEN GRATIS CONSUMPTIE \nDit concert wordt mede georganiseerd en mogelijk gemaakt dankzij \nde concertcommissie van De Fontein
URL:https://www.everhardzwart.nl/index.php/concert/nijkerk-de-fontein/
LOCATION:De Fontein\, Nijkerk\, Dominee Kuyperstraat 2\, Nijkerk\, 3863 CA
CATEGORIES:Orgel Plus
ATTACH;FMTTYPE=image/jpeg:https://www.everhardzwart.nl/wp-content/uploads/2019/01/Nijkerk-15-6.jpg
END:VEVENT
END:VCALENDAR