BEGIN:VCALENDAR
VERSION:2.0
PRODID:-//Everhard Zwart - ECPv6.15.20//NONSGML v1.0//EN
CALSCALE:GREGORIAN
METHOD:PUBLISH
X-ORIGINAL-URL:https://www.everhardzwart.nl
X-WR-CALDESC:Evenementen voor Everhard Zwart
REFRESH-INTERVAL;VALUE=DURATION:PT1H
X-Robots-Tag:noindex
X-PUBLISHED-TTL:PT1H
BEGIN:VTIMEZONE
TZID:Europe/Amsterdam
BEGIN:DAYLIGHT
TZOFFSETFROM:+0100
TZOFFSETTO:+0200
TZNAME:CEST
DTSTART:20230326T010000
END:DAYLIGHT
BEGIN:STANDARD
TZOFFSETFROM:+0200
TZOFFSETTO:+0100
TZNAME:CET
DTSTART:20231029T010000
END:STANDARD
BEGIN:DAYLIGHT
TZOFFSETFROM:+0100
TZOFFSETTO:+0200
TZNAME:CEST
DTSTART:20240331T010000
END:DAYLIGHT
BEGIN:STANDARD
TZOFFSETFROM:+0200
TZOFFSETTO:+0100
TZNAME:CET
DTSTART:20241027T010000
END:STANDARD
BEGIN:DAYLIGHT
TZOFFSETFROM:+0100
TZOFFSETTO:+0200
TZNAME:CEST
DTSTART:20250330T010000
END:DAYLIGHT
BEGIN:STANDARD
TZOFFSETFROM:+0200
TZOFFSETTO:+0100
TZNAME:CET
DTSTART:20251026T010000
END:STANDARD
END:VTIMEZONE
BEGIN:VEVENT
DTSTART;TZID=Europe/Amsterdam:20241030T122000
DTEND;TZID=Europe/Amsterdam:20241030T130000
DTSTAMP:20260421T122221
CREATED:20241023T062507Z
LAST-MODIFIED:20241023T062507Z
UID:11285-1730290800-1730293200@www.everhardzwart.nl
SUMMARY:Amsterdam\, Alle Dag Kerk
DESCRIPTION:Middagpauzedienst met Prof. Antoine Bodar (RK Priester van de Friezenkerk te Rome)\nOrgel: Everhard Zwart. \nDe Middagpauzediensten in de Engelse Kerk aan het Begijnhof te Amsterdam zijn al bijna 100 jaar een waar begrip. Ruim 25 jaar mag ik als één van de organisten meewerken aan deze bijzondere diensten. Sinds juli 2023 ben ik als bestuurslid van de Stichting Alle Dag Kerk betrokken bij de organisatie van deze diensten. Voorgangers\, van alle kerkelijke gezindten en uit alle kanten van ons land\, komen graag naar Amsterdam om voor te gaan in onze dienst. De diensten duren slechts 20 minuten\, maar vooraf wordt er al heerlijk gezongen. De kerk gaat om 12.00 uur open.
URL:https://www.everhardzwart.nl/index.php/concert/amsterdam-alle-dag-kerk/
LOCATION:Engelse Kerk Begijnhof\, Amsterdam\, Begijnhof 48\, Amsterdam\, 1012 WV
CATEGORIES:Middagpauzedienst
ATTACH;FMTTYPE=image/jpeg:https://www.everhardzwart.nl/wp-content/uploads/2024/10/Antoine-Bodar.jpeg
END:VEVENT
END:VCALENDAR