BEGIN:VCALENDAR
VERSION:2.0
PRODID:-//Everhard Zwart - ECPv6.15.20//NONSGML v1.0//EN
CALSCALE:GREGORIAN
METHOD:PUBLISH
X-WR-CALNAME:Everhard Zwart
X-ORIGINAL-URL:https://www.everhardzwart.nl
X-WR-CALDESC:Evenementen voor Everhard Zwart
REFRESH-INTERVAL;VALUE=DURATION:PT1H
X-Robots-Tag:noindex
X-PUBLISHED-TTL:PT1H
BEGIN:VTIMEZONE
TZID:Europe/Amsterdam
BEGIN:DAYLIGHT
TZOFFSETFROM:+0100
TZOFFSETTO:+0200
TZNAME:CEST
DTSTART:20230326T010000
END:DAYLIGHT
BEGIN:STANDARD
TZOFFSETFROM:+0200
TZOFFSETTO:+0100
TZNAME:CET
DTSTART:20231029T010000
END:STANDARD
BEGIN:DAYLIGHT
TZOFFSETFROM:+0100
TZOFFSETTO:+0200
TZNAME:CEST
DTSTART:20240331T010000
END:DAYLIGHT
BEGIN:STANDARD
TZOFFSETFROM:+0200
TZOFFSETTO:+0100
TZNAME:CET
DTSTART:20241027T010000
END:STANDARD
BEGIN:DAYLIGHT
TZOFFSETFROM:+0100
TZOFFSETTO:+0200
TZNAME:CEST
DTSTART:20250330T010000
END:DAYLIGHT
BEGIN:STANDARD
TZOFFSETFROM:+0200
TZOFFSETTO:+0100
TZNAME:CET
DTSTART:20251026T010000
END:STANDARD
END:VTIMEZONE
BEGIN:VEVENT
DTSTART;TZID=Europe/Amsterdam:20240417T124000
DTEND;TZID=Europe/Amsterdam:20240417T130000
DTSTAMP:20260421T232552
CREATED:20240206T143148Z
LAST-MODIFIED:20240206T143148Z
UID:11118-1713357600-1713358800@www.everhardzwart.nl
SUMMARY:Alledagkerk\, Amsterdam
DESCRIPTION:Voorganger: Ds. Mirjam Sloots\, Amsterdam \nOrganist: Everhard Zwart \nDe kerk is open vanaf 12.00 uur. Samenzang start 12.25 uur. \nNa de korte dienst is er gelegenheid om met elkaar koffie te drinken.
URL:https://www.everhardzwart.nl/index.php/concert/alledagkerk-amsterdam-12/
LOCATION:Engelse Kerk Begijnhof\, Amsterdam\, Begijnhof 48\, Amsterdam\, 1012 WV
CATEGORIES:Middagpauzedienst
ATTACH;FMTTYPE=image/jpeg:https://www.everhardzwart.nl/wp-content/uploads/2024/02/ADK.jpg
END:VEVENT
END:VCALENDAR