BEGIN:VCALENDAR
VERSION:2.0
PRODID:-//Everhard Zwart - ECPv6.15.20//NONSGML v1.0//EN
CALSCALE:GREGORIAN
METHOD:PUBLISH
X-WR-CALNAME:Everhard Zwart
X-ORIGINAL-URL:https://www.everhardzwart.nl
X-WR-CALDESC:Evenementen voor Everhard Zwart
REFRESH-INTERVAL;VALUE=DURATION:PT1H
X-Robots-Tag:noindex
X-PUBLISHED-TTL:PT1H
BEGIN:VTIMEZONE
TZID:Europe/Amsterdam
BEGIN:DAYLIGHT
TZOFFSETFROM:+0100
TZOFFSETTO:+0200
TZNAME:CEST
DTSTART:20220327T010000
END:DAYLIGHT
BEGIN:STANDARD
TZOFFSETFROM:+0200
TZOFFSETTO:+0100
TZNAME:CET
DTSTART:20221030T010000
END:STANDARD
BEGIN:DAYLIGHT
TZOFFSETFROM:+0100
TZOFFSETTO:+0200
TZNAME:CEST
DTSTART:20230326T010000
END:DAYLIGHT
BEGIN:STANDARD
TZOFFSETFROM:+0200
TZOFFSETTO:+0100
TZNAME:CET
DTSTART:20231029T010000
END:STANDARD
BEGIN:DAYLIGHT
TZOFFSETFROM:+0100
TZOFFSETTO:+0200
TZNAME:CEST
DTSTART:20240331T010000
END:DAYLIGHT
BEGIN:STANDARD
TZOFFSETFROM:+0200
TZOFFSETTO:+0100
TZNAME:CET
DTSTART:20241027T010000
END:STANDARD
END:VTIMEZONE
BEGIN:VEVENT
DTSTART;TZID=Europe/Amsterdam:20231220T121500
DTEND;TZID=Europe/Amsterdam:20231220T130000
DTSTAMP:20260422T074457
CREATED:20231215T191657Z
LAST-MODIFIED:20231215T191848Z
UID:11067-1703074500-1703077200@www.everhardzwart.nl
SUMMARY:Amsterdam\, Middagpauzedienst
DESCRIPTION:Kerstfeest in de AlleDagKerk. \nVeel samenzang en een korte dienst.\nKom een bezoek brengen aan de schitterende Engelse Kerk \nVoorganger Prof. Dr. Antoine Bodar \nPianist: Wilbert Magré en Organist: Everhard Zwart
URL:https://www.everhardzwart.nl/index.php/concert/amsterdam-middagpauzedienst/
LOCATION:Engelse Kerk Begijnhof\, Amsterdam\, Begijnhof 48\, Amsterdam\, 1012 WV
CATEGORIES:Middagpauzedienst
ATTACH;FMTTYPE=image/jpeg:https://www.everhardzwart.nl/wp-content/uploads/2023/12/Kerstaankondiging.jpg
END:VEVENT
BEGIN:VEVENT
DTSTART;TZID=Europe/Amsterdam:20231226T121500
DTEND;TZID=Europe/Amsterdam:20231226T130000
DTSTAMP:20260422T074457
CREATED:20231226T165517Z
LAST-MODIFIED:20231226T165517Z
UID:11087-1703592900-1703595600@www.everhardzwart.nl
SUMMARY:Amsterdam\, Begijnhof\, Alle-Dag-Kerk
DESCRIPTION:Middagpauzedienst \nVoorganger Ds. Dirk van Duijvenbode\, Hoek van Holland \nPianist Rob van Dijk \nOrganist Everhard Zwart
URL:https://www.everhardzwart.nl/index.php/concert/amsterdam-begijnhof-alle-dag-kerk-3/
LOCATION:Engelse Kerk Begijnhof\, Amsterdam\, Begijnhof 48\, Amsterdam\, 1012 WV
CATEGORIES:Middagpauzedienst
END:VEVENT
END:VCALENDAR