BEGIN:VCALENDAR
VERSION:2.0
PRODID:-//Everhard Zwart - ECPv6.15.20//NONSGML v1.0//EN
CALSCALE:GREGORIAN
METHOD:PUBLISH
X-ORIGINAL-URL:https://www.everhardzwart.nl
X-WR-CALDESC:Evenementen voor Everhard Zwart
REFRESH-INTERVAL;VALUE=DURATION:PT1H
X-Robots-Tag:noindex
X-PUBLISHED-TTL:PT1H
BEGIN:VTIMEZONE
TZID:Europe/Amsterdam
BEGIN:DAYLIGHT
TZOFFSETFROM:+0100
TZOFFSETTO:+0200
TZNAME:CEST
DTSTART:20220327T010000
END:DAYLIGHT
BEGIN:STANDARD
TZOFFSETFROM:+0200
TZOFFSETTO:+0100
TZNAME:CET
DTSTART:20221030T010000
END:STANDARD
BEGIN:DAYLIGHT
TZOFFSETFROM:+0100
TZOFFSETTO:+0200
TZNAME:CEST
DTSTART:20230326T010000
END:DAYLIGHT
BEGIN:STANDARD
TZOFFSETFROM:+0200
TZOFFSETTO:+0100
TZNAME:CET
DTSTART:20231029T010000
END:STANDARD
BEGIN:DAYLIGHT
TZOFFSETFROM:+0100
TZOFFSETTO:+0200
TZNAME:CEST
DTSTART:20240331T010000
END:DAYLIGHT
BEGIN:STANDARD
TZOFFSETFROM:+0200
TZOFFSETTO:+0100
TZNAME:CET
DTSTART:20241027T010000
END:STANDARD
END:VTIMEZONE
BEGIN:VEVENT
DTSTART;TZID=Europe/Amsterdam:20231101T124000
DTEND;TZID=Europe/Amsterdam:20231101T130000
DTSTAMP:20260422T091846
CREATED:20230922T182146Z
LAST-MODIFIED:20230922T182146Z
UID:11048-1698842400-1698843600@www.everhardzwart.nl
SUMMARY:Amsterdam\, Begijnhof (Alle-Dag-Kerk)
DESCRIPTION:Middagpauzedienst m.m.v. Ds. Arenda Haasnoot uit Spijkenisse\nEverhard Zwart – orgel \nSamenzang vanaf 12.25 uur
URL:https://www.everhardzwart.nl/index.php/concert/amsterdam-begijnhof-alle-dag-kerk-2/
LOCATION:Engelse Kerk Begijnhof\, Amsterdam\, Begijnhof 48\, Amsterdam\, 1012 WV
CATEGORIES:Middagpauzedienst
ATTACH;FMTTYPE=image/jpeg:https://www.everhardzwart.nl/wp-content/uploads/2017/09/begijnhof_eng_prot_kerk_10.jpg
END:VEVENT
END:VCALENDAR