BEGIN:VCALENDAR
VERSION:2.0
PRODID:-//Everhard Zwart - ECPv6.15.20//NONSGML v1.0//EN
CALSCALE:GREGORIAN
METHOD:PUBLISH
X-WR-CALNAME:Everhard Zwart
X-ORIGINAL-URL:https://www.everhardzwart.nl
X-WR-CALDESC:Evenementen voor Everhard Zwart
REFRESH-INTERVAL;VALUE=DURATION:PT1H
X-Robots-Tag:noindex
X-PUBLISHED-TTL:PT1H
BEGIN:VTIMEZONE
TZID:Europe/Amsterdam
BEGIN:DAYLIGHT
TZOFFSETFROM:+0100
TZOFFSETTO:+0200
TZNAME:CEST
DTSTART:20160327T010000
END:DAYLIGHT
BEGIN:STANDARD
TZOFFSETFROM:+0200
TZOFFSETTO:+0100
TZNAME:CET
DTSTART:20161030T010000
END:STANDARD
BEGIN:DAYLIGHT
TZOFFSETFROM:+0100
TZOFFSETTO:+0200
TZNAME:CEST
DTSTART:20170326T010000
END:DAYLIGHT
BEGIN:STANDARD
TZOFFSETFROM:+0200
TZOFFSETTO:+0100
TZNAME:CET
DTSTART:20171029T010000
END:STANDARD
BEGIN:DAYLIGHT
TZOFFSETFROM:+0100
TZOFFSETTO:+0200
TZNAME:CEST
DTSTART:20180325T010000
END:DAYLIGHT
BEGIN:STANDARD
TZOFFSETFROM:+0200
TZOFFSETTO:+0100
TZNAME:CET
DTSTART:20181028T010000
END:STANDARD
BEGIN:DAYLIGHT
TZOFFSETFROM:+0100
TZOFFSETTO:+0200
TZNAME:CEST
DTSTART:20190331T010000
END:DAYLIGHT
BEGIN:STANDARD
TZOFFSETFROM:+0200
TZOFFSETTO:+0100
TZNAME:CET
DTSTART:20191027T010000
END:STANDARD
BEGIN:DAYLIGHT
TZOFFSETFROM:+0100
TZOFFSETTO:+0200
TZNAME:CEST
DTSTART:20200329T010000
END:DAYLIGHT
BEGIN:STANDARD
TZOFFSETFROM:+0200
TZOFFSETTO:+0100
TZNAME:CET
DTSTART:20201025T010000
END:STANDARD
BEGIN:DAYLIGHT
TZOFFSETFROM:+0100
TZOFFSETTO:+0200
TZNAME:CEST
DTSTART:20210328T010000
END:DAYLIGHT
BEGIN:STANDARD
TZOFFSETFROM:+0200
TZOFFSETTO:+0100
TZNAME:CET
DTSTART:20211031T010000
END:STANDARD
BEGIN:DAYLIGHT
TZOFFSETFROM:+0100
TZOFFSETTO:+0200
TZNAME:CEST
DTSTART:20220327T010000
END:DAYLIGHT
BEGIN:STANDARD
TZOFFSETFROM:+0200
TZOFFSETTO:+0100
TZNAME:CET
DTSTART:20221030T010000
END:STANDARD
BEGIN:DAYLIGHT
TZOFFSETFROM:+0100
TZOFFSETTO:+0200
TZNAME:CEST
DTSTART:20230326T010000
END:DAYLIGHT
BEGIN:STANDARD
TZOFFSETFROM:+0200
TZOFFSETTO:+0100
TZNAME:CET
DTSTART:20231029T010000
END:STANDARD
BEGIN:DAYLIGHT
TZOFFSETFROM:+0100
TZOFFSETTO:+0200
TZNAME:CEST
DTSTART:20240331T010000
END:DAYLIGHT
BEGIN:STANDARD
TZOFFSETFROM:+0200
TZOFFSETTO:+0100
TZNAME:CET
DTSTART:20241027T010000
END:STANDARD
BEGIN:DAYLIGHT
TZOFFSETFROM:+0100
TZOFFSETTO:+0200
TZNAME:CEST
DTSTART:20250330T010000
END:DAYLIGHT
BEGIN:STANDARD
TZOFFSETFROM:+0200
TZOFFSETTO:+0100
TZNAME:CET
DTSTART:20251026T010000
END:STANDARD
END:VTIMEZONE
BEGIN:VEVENT
DTSTART;TZID=Europe/Amsterdam:20240526T150000
DTEND;TZID=Europe/Amsterdam:20240526T160000
DTSTAMP:20260420T085614
CREATED:20240509T054911Z
LAST-MODIFIED:20240509T062207Z
UID:11144-1716735600-1716739200@www.everhardzwart.nl
SUMMARY:Voorjaarsconcert Il Favorito
DESCRIPTION:Mannenkoor Il Favorito o.l.v. Everhard Zwart geeft een voorjaarsconcert m.m.v. hoboïst Theo-Hans Kuijvenhoven.
URL:https://www.everhardzwart.nl/index.php/concert/voorjaarsconcert-il-favorito/
LOCATION:Protestantse Kerk Kerkdriel\, Teisterbandstraat 1\, Kerkdriel\, 5331 CM
CATEGORIES:Koorconcerten
ATTACH;FMTTYPE=image/jpeg:https://www.everhardzwart.nl/wp-content/uploads/2023/11/Il-Favorito-Ammerzoden-scaled.jpg
END:VEVENT
BEGIN:VEVENT
DTSTART;TZID=Europe/Amsterdam:20231028T150000
DTEND;TZID=Europe/Amsterdam:20231028T163000
DTSTAMP:20260420T085614
CREATED:20230922T181945Z
LAST-MODIFIED:20230922T181945Z
UID:11046-1698505200-1698510600@www.everhardzwart.nl
SUMMARY:Leiden\, Opstandingskerk
DESCRIPTION:Concert met Rijnlands Christelijk Mannenkoor Vox Humana. \nM.m.v. Marjolein Kolkert – sopraan; Theo-Hans Kuijvenhoven – hobo
URL:https://www.everhardzwart.nl/index.php/concert/leiden-opstandingskerk/
LOCATION:Opstandingskerk\, Aerent Bruunstraat 21\, Leiden\, 2321ED
CATEGORIES:Koorconcerten
ATTACH;FMTTYPE=image/jpeg:https://www.everhardzwart.nl/wp-content/uploads/2019/05/RCM-Vox-Humana.jpg
END:VEVENT
BEGIN:VEVENT
DTSTART;TZID=Europe/Amsterdam:20231021T200000
DTEND;TZID=Europe/Amsterdam:20231021T213000
DTSTAMP:20260420T085614
CREATED:20230922T181452Z
LAST-MODIFIED:20230928T061033Z
UID:11043-1697918400-1697923800@www.everhardzwart.nl
SUMMARY:Krimpen aan den IJssel\, Fonteinkerk
DESCRIPTION:Jubileumconcert met Interkerkelijk Gemengd Koor “River Voices” \nm.m.v. Francis van Broekhuizen; Peter van Dinther\, Theo-Hans Kuijvenhoven; Cathrine Starberg; Boudewijn Zwart
URL:https://www.everhardzwart.nl/index.php/concert/krimpen-aan-den-ijssel-fonteinkerk-3/
LOCATION:Fonteinkerk Krimpen\, Burg. Aalberslaan 41\, Krimpen aan den IJssel
CATEGORIES:Koorconcerten
ATTACH;FMTTYPE=image/jpeg:https://www.everhardzwart.nl/wp-content/uploads/2023/09/Uitverkocht.jpg
END:VEVENT
BEGIN:VEVENT
DTSTART;TZID=Europe/Amsterdam:20231015T150000
DTEND;TZID=Europe/Amsterdam:20231015T163000
DTSTAMP:20260420T085614
CREATED:20230922T180809Z
LAST-MODIFIED:20230922T180809Z
UID:11039-1697382000-1697387400@www.everhardzwart.nl
SUMMARY:Ammerzoden\, Sint Willibrorduskerk
DESCRIPTION:Jubileumconcert  mannenkoor Il Favorito \n 
URL:https://www.everhardzwart.nl/index.php/concert/ammerzoden-sint-willibrorduskerk/
LOCATION:Sint Willibrorduskerk\, Ammerzoden\, Meester la Grostraat 1\, 5324 AJ
CATEGORIES:Koorconcerten
ATTACH;FMTTYPE=image/png:https://www.everhardzwart.nl/wp-content/uploads/2019/05/Il-Favorito.png
END:VEVENT
BEGIN:VEVENT
DTSTART;TZID=Europe/Amsterdam:20190921T200000
DTEND;TZID=Europe/Amsterdam:20190921T220000
DTSTAMP:20260420T085614
CREATED:20190911T142134Z
LAST-MODIFIED:20190911T142359Z
UID:2528-1569096000-1569103200@www.everhardzwart.nl
SUMMARY:Mannenkoor Il Favorito in Zaltbommel
DESCRIPTION:Mannkoor Il Favorito o.l.v. Everhard Zwart \nm.m.v. Marjolein Kolkert en Boudewijn Zwart
URL:https://www.everhardzwart.nl/index.php/concert/il-favorito-in-zaltbommel/
LOCATION:Gasthuiskapel\, Gasthuisstraat 34\, Zaltbommel\, 5301 CC
CATEGORIES:Koorconcerten
ATTACH;FMTTYPE=image/jpeg:https://www.everhardzwart.nl/wp-content/uploads/2019/09/poster-Il-Favorito-2019-1-scaled.jpg
END:VEVENT
BEGIN:VEVENT
DTSTART;TZID=Europe/Amsterdam:20190921T143000
DTEND;TZID=Europe/Amsterdam:20190921T163000
DTSTAMP:20260420T085614
CREATED:20190911T141805Z
LAST-MODIFIED:20190911T142459Z
UID:2523-1569076200-1569083400@www.everhardzwart.nl
SUMMARY:Mannenkoor Il Favorito in Zaltbommel
DESCRIPTION:Mannenkoor Il Favorito o.l.v. Everhard Zwart \nm.m.v. Marjolein Kolkert en Boudewijn Zwart \n 
URL:https://www.everhardzwart.nl/index.php/concert/mannenkoor-il-favorito-in-zaltbommel/
LOCATION:Gasthuiskapel\, Gasthuisstraat 34\, Zaltbommel\, 5301 CC
CATEGORIES:Koorconcerten
ATTACH;FMTTYPE=image/jpeg:https://www.everhardzwart.nl/wp-content/uploads/2019/09/poster-Il-Favorito-2019-1-scaled.jpg
END:VEVENT
BEGIN:VEVENT
DTSTART;TZID=Europe/Amsterdam:20181212T200000
DTEND;TZID=Europe/Amsterdam:20181212T213000
DTSTAMP:20260420T085614
CREATED:20181125T063219Z
LAST-MODIFIED:20181125T063219Z
UID:2167-1544644800-1544650200@www.everhardzwart.nl
SUMMARY:Barendrecht\, Hervormde Dorpskerk
DESCRIPTION:Koorconcert met Chr. Gemengd Koor “Sanctus” uit Rotterdam en Chr. Gemengde Zangvereniging “Asaf” uit Puttershoek o.l.v. gastdirigent Hidde Zwart. \nArie de Korte – piano en Everhard Zwart – orgel \n 
URL:https://www.everhardzwart.nl/index.php/concert/barendrecht-hervormde-dorpskerk/
LOCATION:Dorpskerk Barendrecht\, Dorpsstraat 146\, Barendrecht\, 2992 BE
CATEGORIES:Koorconcerten
ATTACH;FMTTYPE=image/jpeg:https://www.everhardzwart.nl/wp-content/uploads/2018/11/Dorpskerk-Barendrecht.jpg
END:VEVENT
BEGIN:VEVENT
DTSTART;TZID=Europe/Amsterdam:20181027T200000
DTEND;TZID=Europe/Amsterdam:20181027T213000
DTSTAMP:20260420T085614
CREATED:20180902T194231Z
LAST-MODIFIED:20180902T194231Z
UID:2100-1540670400-1540675800@www.everhardzwart.nl
SUMMARY:Puttershoek\, Gereformeerde Kerk
DESCRIPTION:Koorconcert Chr. Gemengd Koor Asaf o.l.v. Everhard Zwart
URL:https://www.everhardzwart.nl/index.php/concert/puttershoek-gereformeerde-kerk-2/
LOCATION:Puttershoek-Gereformeerde Kerk\, Rembrandtstraat 1\, Puttershoek\, 3297 EP 
CATEGORIES:Koorconcerten
ATTACH;FMTTYPE=image/jpeg:https://www.everhardzwart.nl/wp-content/uploads/2015/05/koor_asaf.jpg
END:VEVENT
BEGIN:VEVENT
DTSTART;TZID=Europe/Amsterdam:20180616T153000
DTEND;TZID=Europe/Amsterdam:20180616T170000
DTSTAMP:20260420T085614
CREATED:20180602T141002Z
LAST-MODIFIED:20180602T161039Z
UID:1928-1529163000-1529168400@www.everhardzwart.nl
SUMMARY:Jubileumconcert IKK De Regenboog
DESCRIPTION:Ik ben als luisteraar aanwezig bij dit bijzondere concert. \nInterkerkelijk Kinderkoor De Regenboog o.l.v. Hidde Zwart bestaat 10 jaar. \nEn Hidde is 10 jaar dirigent. \nJubileumconcert m.m.v. Marcel & Lydia Zimmer \nTevens Cd presentatie. \nKaarten € 7\,50 voor volwassenen en € 5\,00 voor kinderen t/m 12 jaar. \n 
URL:https://www.everhardzwart.nl/index.php/concert/jubileumconcert-ikk-de-regenboog/
LOCATION:De Ark\, Krimpen aan den IJssel\, Burg. Aalberslaan 41\, Krimpen aan den IJssel\, 2922 BC
CATEGORIES:Koorconcerten
ATTACH;FMTTYPE=image/jpeg:https://www.everhardzwart.nl/wp-content/uploads/2018/06/Cd-opname-De-Regenboog.jpg
END:VEVENT
BEGIN:VEVENT
DTSTART;TZID=Europe/Amsterdam:20180426T200000
DTEND;TZID=Europe/Amsterdam:20180426T213000
DTSTAMP:20260420T085614
CREATED:20180329T184842Z
LAST-MODIFIED:20180329T185315Z
UID:1893-1524772800-1524778200@www.everhardzwart.nl
SUMMARY:Oranjeconcert
DESCRIPTION:Chr. mannenkoor “De IJsselzangers” o.l.v. Everhard Zwart \nBariton Marco Bakker \nHobo: Theo-Hans Kuyvenhoven \nOrgel: Arie de Korte \nPiano: Boudewijn Zwart \n 
URL:https://www.everhardzwart.nl/index.php/concert/oranjeconcert/
LOCATION:IJsseldijkkerk\, IJsseldijk 232\, Krimpen aan den IJssel\, 2922 BL
CATEGORIES:Koorconcerten
ATTACH;FMTTYPE=image/jpeg:https://www.everhardzwart.nl/wp-content/uploads/2018/03/Marco_Bakker_e.jpg
END:VEVENT
BEGIN:VEVENT
DTSTART;TZID=Europe/Amsterdam:20180203T153000
DTEND;TZID=Europe/Amsterdam:20180203T170000
DTSTAMP:20260420T085614
CREATED:20180104T152112Z
LAST-MODIFIED:20180104T153447Z
UID:1844-1517671800-1517677200@www.everhardzwart.nl
SUMMARY:Concert Herdenking Watersnood
DESCRIPTION:“65 jaar na de Vloedgolf” \nChr. mannenkoor “De IJsselzangers” o.l.v. Everhard Zwart \nMarjolein Kolkert – sopraan \nHidde Zwart – trompet \nArie de Korte – koorbegeleiding \n 
URL:https://www.everhardzwart.nl/index.php/concert/concert-herdenking-watersnood/
LOCATION:Kerk van Burgh\, Burghse Ring 33\, Burgh-Haamstede\, 4328 LL
CATEGORIES:Koorconcerten
ATTACH;FMTTYPE=image/jpeg:https://www.everhardzwart.nl/wp-content/uploads/2017/09/kerkje-Burgh.jpg
END:VEVENT
BEGIN:VEVENT
DTSTART;TZID=Europe/Amsterdam:20171021T193000
DTEND;TZID=Europe/Amsterdam:20171021T210000
DTSTAMP:20260420T085614
CREATED:20170917T182852Z
LAST-MODIFIED:20170917T183009Z
UID:1756-1508614200-1508619600@www.everhardzwart.nl
SUMMARY:Puttershoek\, Gereformeerde Kerk
DESCRIPTION:Chr. gemengde zangvereniging “Asaf” uit Puttershoek \nMedewerkenden:\nKatwijks Jong Mannenkoor “Sjir El Shaddai”  o.l.v. André Hobo\nPianist – Arjan Wouters\nOrganist  -Lennert Knops\nVleugel – Arie de Korte\nAlgehele leiding – Everhard Zwart
URL:https://www.everhardzwart.nl/index.php/concert/puttershoek-gereformeerde-kerk/
LOCATION:Puttershoek-Gereformeerde Kerk\, Rembrandtstraat 1\, Puttershoek\, 3297 EP 
CATEGORIES:Koorconcerten
ATTACH;FMTTYPE=image/jpeg:https://www.everhardzwart.nl/wp-content/uploads/2015/05/koor_asaf.jpg
END:VEVENT
BEGIN:VEVENT
DTSTART;TZID=Europe/Amsterdam:20170929T200000
DTEND;TZID=Europe/Amsterdam:20170929T213000
DTSTAMP:20260420T085614
CREATED:20170911T175704Z
LAST-MODIFIED:20170924T063855Z
UID:1721-1506715200-1506720600@www.everhardzwart.nl
SUMMARY:Zangavond rondom 500 jaar Reformatie
DESCRIPTION:Vocaal Ensemble Magnificat uit Emmen o.l.v. Daniël Rouwkema en  Everhard Zwart – orgel. \nDe wieg van het protestantse lied \nDoor een aantal kerken in Emmen wordt een muziekavond georganiseerd in het kader van 500 jaar Reformatie. Liederen die hun oorsprong vinden in de Reformatie\, waar (moderne) componisten door zijn geïnspireerd\, vormen de rode draad. \nEr zal gezongen worden door Vocaal Ensemble Magnificat uit Emmen o.l.v. Daniël Rouwkema en  Everhard Zwart bespeelt het orgel. \nHymnoloog dr. Jan Smelik zal het geheel van onderhoudende achtergrondinformatie voorzien. De broer van Luther komt nog langs\, er is een koperensemble en u mag zelf ook meezingen. Kortom een rijk gevulde avond die u niet mag missen!
URL:https://www.everhardzwart.nl/index.php/concert/zangavond-rondom-500-jaar-reformatie/
LOCATION:Goede Herderkerk\, Oude Roswinkelerweg 30\, Emmen\, Nederland
CATEGORIES:Koorconcerten
ATTACH;FMTTYPE=image/png:https://www.everhardzwart.nl/wp-content/uploads/2017/09/Magnificat-Emmen.png
END:VEVENT
BEGIN:VEVENT
DTSTART;TZID=Europe/Amsterdam:20170923T140000
DTEND;TZID=Europe/Amsterdam:20170923T150000
DTSTAMP:20260420T085614
CREATED:20170820T165118Z
LAST-MODIFIED:20170820T165118Z
UID:1628-1506175200-1506178800@www.everhardzwart.nl
SUMMARY:Delft\, Oude Kerk
DESCRIPTION:Interkerkelijk Gemengd Koor “River Voices” o.l.v. Hidde Zwart en Everhard Zwart \nInloopconcert met een gevarieerd programma
URL:https://www.everhardzwart.nl/index.php/concert/delft-oude-kerk/
LOCATION:Oude Kerk\, Delft\, HH Geestkerkhof 25\, Delft\, 2611 HP
CATEGORIES:Koorconcerten
ATTACH;FMTTYPE=image/jpeg:https://www.everhardzwart.nl/wp-content/uploads/2017/08/Oude-Kerk-Delft.jpg
END:VEVENT
END:VCALENDAR