BEGIN:VCALENDAR
VERSION:2.0
PRODID:-//Everhard Zwart - ECPv6.15.20//NONSGML v1.0//EN
CALSCALE:GREGORIAN
METHOD:PUBLISH
X-WR-CALNAME:Everhard Zwart
X-ORIGINAL-URL:https://www.everhardzwart.nl
X-WR-CALDESC:Evenementen voor Everhard Zwart
REFRESH-INTERVAL;VALUE=DURATION:PT1H
X-Robots-Tag:noindex
X-PUBLISHED-TTL:PT1H
BEGIN:VTIMEZONE
TZID:Europe/Amsterdam
BEGIN:DAYLIGHT
TZOFFSETFROM:+0100
TZOFFSETTO:+0200
TZNAME:CEST
DTSTART:20230326T010000
END:DAYLIGHT
BEGIN:STANDARD
TZOFFSETFROM:+0200
TZOFFSETTO:+0100
TZNAME:CET
DTSTART:20231029T010000
END:STANDARD
BEGIN:DAYLIGHT
TZOFFSETFROM:+0100
TZOFFSETTO:+0200
TZNAME:CEST
DTSTART:20240331T010000
END:DAYLIGHT
BEGIN:STANDARD
TZOFFSETFROM:+0200
TZOFFSETTO:+0100
TZNAME:CET
DTSTART:20241027T010000
END:STANDARD
BEGIN:DAYLIGHT
TZOFFSETFROM:+0100
TZOFFSETTO:+0200
TZNAME:CEST
DTSTART:20250330T010000
END:DAYLIGHT
BEGIN:STANDARD
TZOFFSETFROM:+0200
TZOFFSETTO:+0100
TZNAME:CET
DTSTART:20251026T010000
END:STANDARD
END:VTIMEZONE
BEGIN:VEVENT
DTSTART;TZID=Europe/Amsterdam:20241214T193000
DTEND;TZID=Europe/Amsterdam:20241214T210000
DTSTAMP:20260421T182843
CREATED:20241009T103338Z
LAST-MODIFIED:20241009T103338Z
UID:11262-1734204600-1734210000@www.everhardzwart.nl
SUMMARY:Krimpen a/d IJssel\, Fonteinkerk - Kerstzang
DESCRIPTION:Kerstzang in de Fonteinkerk m.m.v. Interkerkelijk Gemengd Koor River Voices o.l.v. Everhard Zwart\nVocal group ORPHEUS uit Lviv – Oekraïne \nBoudewijn Zwart – piano\nStéfanie Mourik – dwarsfluit\nTheo-Hans Kuijvenhoven – hobo \n 
URL:https://www.everhardzwart.nl/index.php/concert/krimpen-a-d-ijssel-fonteinkerk-kerstzang/
LOCATION:Fonteinkerk Krimpen\, Burg. Aalberslaan 41\, Krimpen aan den IJssel
CATEGORIES:Kerst - Koorconcert
ATTACH;FMTTYPE=image/jpeg:https://www.everhardzwart.nl/wp-content/uploads/2024/10/b_0011.jpg
END:VEVENT
BEGIN:VEVENT
DTSTART;TZID=Europe/Amsterdam:20241215T150000
DTEND;TZID=Europe/Amsterdam:20241215T170000
DTSTAMP:20260421T182843
CREATED:20241031T132807Z
LAST-MODIFIED:20241031T132903Z
UID:11295-1734274800-1734282000@www.everhardzwart.nl
SUMMARY:Kerstconcert\, Ammerzoden
DESCRIPTION:Kerstconcert met mannenkoor Il Favorito
URL:https://www.everhardzwart.nl/index.php/concert/kerstconcert-ammerzoden/
LOCATION:St. Willibrorduskerk\, Mr. La Grostraat 1\, Ammerzoden\, 5324AJ
CATEGORIES:Kerst - Koorconcert
ATTACH;FMTTYPE=image/jpeg:https://www.everhardzwart.nl/wp-content/uploads/2023/11/Il-Favorito-Ammerzoden-scaled.jpg
END:VEVENT
END:VCALENDAR